BEGIN:VCALENDAR
VERSION:2.0
PRODID:-//Mount Pleasant ISD - ECPv6.13.2//NONSGML v1.0//EN
CALSCALE:GREGORIAN
METHOD:PUBLISH
X-ORIGINAL-URL:https://www.mpisd.net
X-WR-CALDESC:Events for Mount Pleasant ISD
REFRESH-INTERVAL;VALUE=DURATION:PT1H
X-Robots-Tag:noindex
X-PUBLISHED-TTL:PT1H
BEGIN:VTIMEZONE
TZID:America/Chicago
BEGIN:DAYLIGHT
TZOFFSETFROM:-0600
TZOFFSETTO:-0500
TZNAME:CDT
DTSTART:20150308T080000
END:DAYLIGHT
BEGIN:STANDARD
TZOFFSETFROM:-0500
TZOFFSETTO:-0600
TZNAME:CST
DTSTART:20151101T070000
END:STANDARD
BEGIN:DAYLIGHT
TZOFFSETFROM:-0600
TZOFFSETTO:-0500
TZNAME:CDT
DTSTART:20160313T080000
END:DAYLIGHT
BEGIN:STANDARD
TZOFFSETFROM:-0500
TZOFFSETTO:-0600
TZNAME:CST
DTSTART:20161106T070000
END:STANDARD
BEGIN:DAYLIGHT
TZOFFSETFROM:-0600
TZOFFSETTO:-0500
TZNAME:CDT
DTSTART:20170312T080000
END:DAYLIGHT
BEGIN:STANDARD
TZOFFSETFROM:-0500
TZOFFSETTO:-0600
TZNAME:CST
DTSTART:20171105T070000
END:STANDARD
BEGIN:DAYLIGHT
TZOFFSETFROM:-0600
TZOFFSETTO:-0500
TZNAME:CDT
DTSTART:20180311T080000
END:DAYLIGHT
BEGIN:STANDARD
TZOFFSETFROM:-0500
TZOFFSETTO:-0600
TZNAME:CST
DTSTART:20181104T070000
END:STANDARD
END:VTIMEZONE
BEGIN:VEVENT
DTSTART;VALUE=DATE:20180113
DTEND;VALUE=DATE:20180114
DTSTAMP:20260421T044108
CREATED:20171211T142738Z
LAST-MODIFIED:20171211T142738Z
UID:10353-1515801600-1515887999@www.mpisd.net
SUMMARY:Powerlifting: Tigers/Lady Tigers @Sulphur Springs Meet
DESCRIPTION:
URL:https://www.mpisd.net/event/powerlifting-tigerslady-tigers-sulphur-springs-meet/
LOCATION:Sulphur Springs HS\, Sulphur Springs\, TX\, United States
CATEGORIES:Athletics,MPHS,Powerlifting
ORGANIZER;CN="Ferol Holcomb":MAILTO:fholcomb@www.mpisd.net
GEO:33.1384479;-95.6010668
END:VEVENT
BEGIN:VEVENT
DTSTART;TZID=America/Chicago:20180112T170000
DTEND;TZID=America/Chicago:20180112T210000
DTSTAMP:20260421T044108
CREATED:20171102T155822Z
LAST-MODIFIED:20171102T155822Z
UID:9963-1515776400-1515790800@www.mpisd.net
SUMMARY:Basketball: 9th\, JV\, V Lady Tigers @ Sulphur Springs*
DESCRIPTION:*District Game
URL:https://www.mpisd.net/event/basketball-9th-jv-v-lady-tigers-sulphur-springs-2/
LOCATION:Sulphur Springs HS\, Sulphur Springs\, TX\, United States
CATEGORIES:Athletics,Basketball,MPHS
ORGANIZER;CN="Ferol Holcomb":MAILTO:fholcomb@www.mpisd.net
GEO:33.1384479;-95.6010668
END:VEVENT
BEGIN:VEVENT
DTSTART;TZID=America/Chicago:20171026T160000
DTEND;TZID=America/Chicago:20171026T220000
DTSTAMP:20260421T044108
CREATED:20170505T152329Z
LAST-MODIFIED:20170505T152329Z
UID:8457-1509033600-1509055200@www.mpisd.net
SUMMARY:Football: 9\, JV Tigers @ Sulphur Springs*
DESCRIPTION:Games @ 4 p.m.\, 5:30 p.m.\, 7 p.m.
URL:https://www.mpisd.net/event/football-9-jv-tigers-sulphur-springs/
LOCATION:Sulphur Springs HS\, Sulphur Springs\, TX\, United States
CATEGORIES:Athletics,Football,MPHS
ORGANIZER;CN="Ferol Holcomb":MAILTO:fholcomb@www.mpisd.net
GEO:33.1384479;-95.6010668
END:VEVENT
BEGIN:VEVENT
DTSTART;TZID=America/Chicago:20171024T170000
DTEND;TZID=America/Chicago:20171024T220000
DTSTAMP:20260421T044108
CREATED:20170602T160226Z
LAST-MODIFIED:20170602T160226Z
UID:8677-1508864400-1508882400@www.mpisd.net
SUMMARY:Volleyball: 9th\, JV\, V Lady Tigers @ Sulphur Springs*
DESCRIPTION:*District \nFinal game of regular season
URL:https://www.mpisd.net/event/volleyball-9th-jv-v-lady-tigers-sulphur-springs-2/
LOCATION:Sulphur Springs HS\, Sulphur Springs\, TX\, United States
CATEGORIES:Athletics,MPHS,Volleyball
ORGANIZER;CN="Ferol Holcomb":MAILTO:fholcomb@www.mpisd.net
GEO:33.1384479;-95.6010668
END:VEVENT
BEGIN:VEVENT
DTSTART;TZID=America/Chicago:20170926T153000
DTEND;TZID=America/Chicago:20170926T190000
DTSTAMP:20260421T044108
CREATED:20170602T150120Z
LAST-MODIFIED:20170602T150120Z
UID:8628-1506439800-1506452400@www.mpisd.net
SUMMARY:Tennis: V Tigers @ Sulphur Springs*
DESCRIPTION:*District Game
URL:https://www.mpisd.net/event/tennis-v-tigers-sulphur-springs/
LOCATION:Sulphur Springs HS\, Sulphur Springs\, TX\, United States
CATEGORIES:Athletics,MPHS,Tennis
ORGANIZER;CN="Ferol Holcomb":MAILTO:fholcomb@www.mpisd.net
GEO:33.1384479;-95.6010668
END:VEVENT
BEGIN:VEVENT
DTSTART;TZID=America/Chicago:20170328T163000
DTEND;TZID=America/Chicago:20170328T190000
DTSTAMP:20260421T044108
CREATED:20161025T151310Z
LAST-MODIFIED:20161025T151310Z
UID:6802-1490718600-1490727600@www.mpisd.net
SUMMARY:Softball: JV\, V Lady Tigers @ Sulphur Springs*
DESCRIPTION:*District Game
URL:https://www.mpisd.net/event/softball-jv-v-lady-tigers-sulphur-springs/
LOCATION:Sulphur Springs HS\, Sulphur Springs\, TX\, United States
CATEGORIES:Athletics,MPHS,Softball
ORGANIZER;CN="Ferol Holcomb":MAILTO:fholcomb@www.mpisd.net
GEO:33.1384479;-95.6010668
END:VEVENT
BEGIN:VEVENT
DTSTART;TZID=America/Chicago:20170328T160000
DTEND;TZID=America/Chicago:20170328T210000
DTSTAMP:20260421T044108
CREATED:20161118T160910Z
LAST-MODIFIED:20161118T160910Z
UID:7114-1490716800-1490734800@www.mpisd.net
SUMMARY:Baseball: JV1\, V Tigers @ Sulphur Springs*
DESCRIPTION:*District Game \nJV1 @ 4 p.m. \nVarsity @ 7 p.m.
URL:https://www.mpisd.net/event/baseball-jv1-v-tigers-sulphur-springs/
LOCATION:Sulphur Springs HS\, Sulphur Springs\, TX\, United States
CATEGORIES:Athletics,Baseball,MPHS
ORGANIZER;CN="Ferol Holcomb":MAILTO:fholcomb@www.mpisd.net
GEO:33.1384479;-95.6010668
END:VEVENT
BEGIN:VEVENT
DTSTART;VALUE=DATE:20170325
DTEND;VALUE=DATE:20170326
DTSTAMP:20260421T044108
CREATED:20161025T145401Z
LAST-MODIFIED:20170321T155250Z
UID:6794-1490400000-1490486399@www.mpisd.net
SUMMARY:Softball: JV Lady Tigers @ Sulphur Springs JV Tourney
DESCRIPTION:
URL:https://www.mpisd.net/event/softball-jv-lady-tigers-sulphur-springs-jv-tourney-2017-03-11/
LOCATION:Sulphur Springs HS\, Sulphur Springs\, TX\, United States
CATEGORIES:Athletics,MPHS,Softball
ORGANIZER;CN="Ferol Holcomb":MAILTO:fholcomb@www.mpisd.net
GEO:33.1384479;-95.6010668
END:VEVENT
BEGIN:VEVENT
DTSTART;VALUE=DATE:20170323
DTEND;VALUE=DATE:20170324
DTSTAMP:20260421T044108
CREATED:20161025T145401Z
LAST-MODIFIED:20170321T155200Z
UID:6793-1490227200-1490313599@www.mpisd.net
SUMMARY:Softball: JV Lady Tigers @ Sulphur Springs JV Tourney
DESCRIPTION:
URL:https://www.mpisd.net/event/softball-jv-lady-tigers-sulphur-springs-jv-tourney/
LOCATION:Sulphur Springs HS\, Sulphur Springs\, TX\, United States
CATEGORIES:Athletics,MPHS,Softball
ORGANIZER;CN="Ferol Holcomb":MAILTO:fholcomb@www.mpisd.net
GEO:33.1384479;-95.6010668
END:VEVENT
BEGIN:VEVENT
DTSTART;TZID=America/Chicago:20170307T173000
DTEND;TZID=America/Chicago:20170307T210000
DTSTAMP:20260421T044108
CREATED:20161117T150545Z
LAST-MODIFIED:20161117T150545Z
UID:7072-1488907800-1488920400@www.mpisd.net
SUMMARY:Soccer: JV\, V Lady Tigers @ Sulphur Springs*
DESCRIPTION:JV @ 5:30 p.m. \nVarsity @ 7 p.m.
URL:https://www.mpisd.net/event/soccer-jv-v-lady-tigers-sulphur-springs/
LOCATION:Sulphur Springs HS\, Sulphur Springs\, TX\, United States
CATEGORIES:Athletics,MPHS,Soccer
ORGANIZER;CN="Ferol Holcomb":MAILTO:fholcomb@www.mpisd.net
GEO:33.1384479;-95.6010668
END:VEVENT
BEGIN:VEVENT
DTSTART;VALUE=DATE:20170303
DTEND;VALUE=DATE:20170304
DTSTAMP:20260421T044108
CREATED:20170102T195235Z
LAST-MODIFIED:20170102T195235Z
UID:7378-1488499200-1488585599@www.mpisd.net
SUMMARY:Track: Tigers/Lady Tigers @ Sulphur Springs
DESCRIPTION:
URL:https://www.mpisd.net/event/track-tigerslady-tigers-sulphur-springs-2/
LOCATION:Sulphur Springs HS\, Sulphur Springs\, TX\, United States
CATEGORIES:Athletics,MPHS,Track
ORGANIZER;CN="Ferol Holcomb":MAILTO:fholcomb@www.mpisd.net
GEO:33.1384479;-95.6010668
END:VEVENT
BEGIN:VEVENT
DTSTART;TZID=America/Chicago:20170216T080000
DTEND;TZID=America/Chicago:20170216T170000
DTSTAMP:20260421T044108
CREATED:20161025T144110Z
LAST-MODIFIED:20161025T144110Z
UID:6774-1487232000-1487264400@www.mpisd.net
SUMMARY:Softball: V Lady Tigers @ Sulphur Springs Varsity Tourney
DESCRIPTION:
URL:https://www.mpisd.net/event/softball-v-lady-tigers-sulphur-springs-varsity-tourney/2017-02-16/
LOCATION:Sulphur Springs HS\, Sulphur Springs\, TX\, United States
CATEGORIES:Athletics,MPHS,Softball
ORGANIZER;CN="Ferol Holcomb":MAILTO:fholcomb@www.mpisd.net
GEO:33.1384479;-95.6010668
END:VEVENT
BEGIN:VEVENT
DTSTART;TZID=America/Chicago:20170210T173000
DTEND;TZID=America/Chicago:20170210T210000
DTSTAMP:20260421T044108
CREATED:20161208T145308Z
LAST-MODIFIED:20161208T145308Z
UID:7257-1486747800-1486760400@www.mpisd.net
SUMMARY:Soccer: Tigers @ Sulphur Springs*
DESCRIPTION:*District Game \nGames @ 5:30 p.m. and 7 p.m.
URL:https://www.mpisd.net/event/soccer-tigers-sulphur-springs-2/
LOCATION:Sulphur Springs HS\, Sulphur Springs\, TX\, United States
CATEGORIES:Athletics,MPHS,Soccer
ORGANIZER;CN="Ferol Holcomb":MAILTO:fholcomb@www.mpisd.net
GEO:33.1384479;-95.6010668
END:VEVENT
BEGIN:VEVENT
DTSTART;TZID=America/Chicago:20170207T170000
DTEND;TZID=America/Chicago:20170207T210000
DTSTAMP:20260421T044108
CREATED:20161004T203626Z
LAST-MODIFIED:20161004T203626Z
UID:6560-1486486800-1486501200@www.mpisd.net
SUMMARY:Basketball: 9th\, JV\, V Lady Tigers @ Sulphur Springs*
DESCRIPTION:*District Game
URL:https://www.mpisd.net/event/basketball-9th-jv-v-lady-tigers-sulphur-springs/
LOCATION:Sulphur Springs HS\, Sulphur Springs\, TX\, United States
CATEGORIES:Athletics,Basketball,MPHS
ORGANIZER;CN="Ferol Holcomb":MAILTO:fholcomb@www.mpisd.net
GEO:33.1384479;-95.6010668
END:VEVENT
BEGIN:VEVENT
DTSTART;VALUE=DATE:20170128
DTEND;VALUE=DATE:20170129
DTSTAMP:20260421T044108
CREATED:20161208T173844Z
LAST-MODIFIED:20161208T173942Z
UID:7296-1485561600-1485647999@www.mpisd.net
SUMMARY:Powerlifting: Tigers @ Sulphur Springs
DESCRIPTION:
URL:https://www.mpisd.net/event/powerlifting-tigers-sulphur-springs/
LOCATION:Sulphur Springs HS\, Sulphur Springs\, TX\, United States
CATEGORIES:Athletics,MPHS,Powerlifting
ORGANIZER;CN="Ferol Holcomb":MAILTO:fholcomb@www.mpisd.net
GEO:33.1384479;-95.6010668
END:VEVENT
BEGIN:VEVENT
DTSTART;TZID=America/Chicago:20170113T170000
DTEND;TZID=America/Chicago:20170113T210000
DTSTAMP:20260421T044108
CREATED:20161007T153325Z
LAST-MODIFIED:20161007T153325Z
UID:6640-1484326800-1484341200@www.mpisd.net
SUMMARY:Basketball: 9th\, JV\, V Tigers @ Sulphur Springs*
DESCRIPTION:*District Game \n9th @ 5 p.m. \nJV @ 6:15 p.m. \nV @ 7:30 p.m.
URL:https://www.mpisd.net/event/basketball-9th-jv-v-tigers-sulphur-springs/
LOCATION:Sulphur Springs HS\, Sulphur Springs\, TX\, United States
CATEGORIES:Athletics,Basketball,MPHS
ORGANIZER;CN="Ferol Holcomb":MAILTO:fholcomb@www.mpisd.net
GEO:33.1384479;-95.6010668
END:VEVENT
BEGIN:VEVENT
DTSTART;TZID=America/Chicago:20161021T193000
DTEND;TZID=America/Chicago:20161021T223000
DTSTAMP:20260421T044108
CREATED:20160616T154243Z
LAST-MODIFIED:20160616T154243Z
UID:5634-1477078200-1477089000@www.mpisd.net
SUMMARY:Football: V Tigers @ Sulphur Springs*
DESCRIPTION:*District Game
URL:https://www.mpisd.net/event/football-v-tigers-sulphur-springs/
LOCATION:Sulphur Springs HS\, Sulphur Springs\, TX\, United States
CATEGORIES:Athletics,Football,MPHS
ORGANIZER;CN="Ferol Holcomb":MAILTO:fholcomb@www.mpisd.net
GEO:33.1384479;-95.6010668
END:VEVENT
BEGIN:VEVENT
DTSTART;TZID=America/Chicago:20161021T163000
DTEND;TZID=America/Chicago:20161021T213000
DTSTAMP:20260421T044108
CREATED:20160823T184237Z
LAST-MODIFIED:20160823T184237Z
UID:6033-1477067400-1477085400@www.mpisd.net
SUMMARY:Volleyball: 9th\, JV\, V Lady Tigers @ Sulphur Springs*
DESCRIPTION:*District Game
URL:https://www.mpisd.net/event/volleyball-9th-jv-v-lady-tigers-sulphur-springs/
LOCATION:Sulphur Springs HS\, Sulphur Springs\, TX\, United States
CATEGORIES:Athletics,MPHS,Volleyball
ORGANIZER;CN="Ferol Holcomb":MAILTO:fholcomb@www.mpisd.net
GEO:33.1384479;-95.6010668
END:VEVENT
BEGIN:VEVENT
DTSTART;TZID=America/Chicago:20161020T153000
DTEND;TZID=America/Chicago:20161020T190000
DTSTAMP:20260421T044108
CREATED:20161004T155845Z
LAST-MODIFIED:20161004T155845Z
UID:6502-1476977400-1476990000@www.mpisd.net
SUMMARY:Tennis: Tiger JV @ Sulphur Springs
DESCRIPTION:
URL:https://www.mpisd.net/event/tennis-tiger-jv-sulphur-springs/
LOCATION:Sulphur Springs HS\, Sulphur Springs\, TX\, United States
CATEGORIES:Athletics,MPHS,Tennis
ORGANIZER;CN="Ferol Holcomb":MAILTO:fholcomb@www.mpisd.net
GEO:33.1384479;-95.6010668
END:VEVENT
BEGIN:VEVENT
DTSTART;TZID=America/Chicago:20160922T153000
DTEND;TZID=America/Chicago:20160922T170000
DTSTAMP:20260421T044108
CREATED:20160902T155428Z
LAST-MODIFIED:20160902T155428Z
UID:6216-1474558200-1474563600@www.mpisd.net
SUMMARY:Tennis: JV Tigers @ Sulphur Springs
DESCRIPTION:
URL:https://www.mpisd.net/event/tennis-jv-tigers-sulphur-springs/
LOCATION:Sulphur Springs HS\, Sulphur Springs\, TX\, United States
CATEGORIES:Athletics,MPHS,Tennis
ORGANIZER;CN="Ferol Holcomb":MAILTO:fholcomb@www.mpisd.net
GEO:33.1384479;-95.6010668
END:VEVENT
BEGIN:VEVENT
DTSTART;TZID=America/Chicago:20160412T163000
DTEND;TZID=America/Chicago:20160412T210000
DTSTAMP:20260421T044108
CREATED:20151218T180611Z
LAST-MODIFIED:20160318T151654Z
UID:4083-1460478600-1460494800@www.mpisd.net
SUMMARY:Softball: Lady Tigers @ Sulphur Springs*
DESCRIPTION:
URL:https://www.mpisd.net/event/softball-lady-tigers-sulphur-springs/
LOCATION:Sulphur Springs HS\, Sulphur Springs\, TX\, United States
CATEGORIES:Athletics,MPHS,Softball
ORGANIZER;CN="Ferol Holcomb":MAILTO:fholcomb@www.mpisd.net
GEO:33.1384479;-95.6010668
END:VEVENT
BEGIN:VEVENT
DTSTART;TZID=America/Chicago:20160318T160000
DTEND;TZID=America/Chicago:20160318T210000
DTSTAMP:20260421T044108
CREATED:20160202T220924Z
LAST-MODIFIED:20160202T220924Z
UID:4584-1458316800-1458334800@www.mpisd.net
SUMMARY:Baseball: JVG/V Tigers @ Sulphur Springs*
DESCRIPTION:JV – 4 p.m.; V @ 7 p.m.
URL:https://www.mpisd.net/event/baseball-jvgv-tigers-sulphur-springs/
LOCATION:Sulphur Springs HS\, Sulphur Springs\, TX\, United States
CATEGORIES:Athletics,Baseball,MPHS
ORGANIZER;CN="Ferol Holcomb":MAILTO:fholcomb@www.mpisd.net
GEO:33.1384479;-95.6010668
END:VEVENT
BEGIN:VEVENT
DTSTART;TZID=America/Chicago:20160304T080000
DTEND;TZID=America/Chicago:20160304T170000
DTSTAMP:20260421T044108
CREATED:20160202T204250Z
LAST-MODIFIED:20160202T204250Z
UID:4508-1457078400-1457110800@www.mpisd.net
SUMMARY:Tennis: Varsity @ Sulphur Springs Tourney
DESCRIPTION:
URL:https://www.mpisd.net/event/tennis-varsity-sulphur-springs-tourney/
LOCATION:Sulphur Springs HS\, Sulphur Springs\, TX\, United States
CATEGORIES:Athletics,MPHS,Tennis
ORGANIZER;CN="Ferol Holcomb":MAILTO:fholcomb@www.mpisd.net
GEO:33.1384479;-95.6010668
END:VEVENT
BEGIN:VEVENT
DTSTART;TZID=America/Chicago:20160226T080000
DTEND;TZID=America/Chicago:20160226T170000
DTSTAMP:20260421T044108
CREATED:20160202T211625Z
LAST-MODIFIED:20160202T211625Z
UID:4531-1456473600-1456506000@www.mpisd.net
SUMMARY:Track: Tigers/Lady Tigers @ Sulphur Springs
DESCRIPTION:
URL:https://www.mpisd.net/event/track-tigerslady-tigers-sulphur-springs/
LOCATION:Sulphur Springs HS\, Sulphur Springs\, TX\, United States
CATEGORIES:Athletics,MPHS,Track
ORGANIZER;CN="Ferol Holcomb":MAILTO:fholcomb@www.mpisd.net
GEO:33.1384479;-95.6010668
END:VEVENT
BEGIN:VEVENT
DTSTART;TZID=America/Chicago:20160223T160000
DTEND;TZID=America/Chicago:20160223T200000
DTSTAMP:20260421T044108
CREATED:20151211T174044Z
LAST-MODIFIED:20151211T174044Z
UID:3972-1456243200-1456257600@www.mpisd.net
SUMMARY:Soccer: Tigers @ Sulphur Springs*
DESCRIPTION:Games @ 4/5:30/6:45 p.m.
URL:https://www.mpisd.net/event/soccer-tigers-sulphur-springs/
LOCATION:Sulphur Springs HS\, Sulphur Springs\, TX\, United States
CATEGORIES:Athletics,MPHS,Soccer
ORGANIZER;CN="Ferol Holcomb":MAILTO:fholcomb@www.mpisd.net
GEO:33.1384479;-95.6010668
END:VEVENT
BEGIN:VEVENT
DTSTART;TZID=America/Chicago:20160223T080000
DTEND;TZID=America/Chicago:20160223T170000
DTSTAMP:20260421T044108
CREATED:20160202T205053Z
LAST-MODIFIED:20160202T205053Z
UID:4518-1456214400-1456246800@www.mpisd.net
SUMMARY:Tennis: JV @ Sulphur Springs Dual
DESCRIPTION:
URL:https://www.mpisd.net/event/tennis-jv-sulphur-springs-dual/
LOCATION:Sulphur Springs HS\, Sulphur Springs\, TX\, United States
CATEGORIES:Athletics,MPHS,Tennis
ORGANIZER;CN="Ferol Holcomb":MAILTO:fholcomb@www.mpisd.net
GEO:33.1384479;-95.6010668
END:VEVENT
BEGIN:VEVENT
DTSTART;VALUE=DATE:20160218
DTEND;VALUE=DATE:20160219
DTSTAMP:20260421T044108
CREATED:20151218T173543Z
LAST-MODIFIED:20151218T173543Z
UID:4051-1455753600-1455839999@www.mpisd.net
SUMMARY:Softball: Varsity Lady Tigers @ Sulphur Springs Tourney
DESCRIPTION:
URL:https://www.mpisd.net/event/softball-varsity-lady-tigers-sulphur-springs-tourney/2016-02-18/
LOCATION:Sulphur Springs HS\, Sulphur Springs\, TX\, United States
CATEGORIES:Athletics,MPHS,Softball
ORGANIZER;CN="Ferol Holcomb":MAILTO:fholcomb@www.mpisd.net
GEO:33.1384479;-95.6010668
END:VEVENT
BEGIN:VEVENT
DTSTART;TZID=America/Chicago:20160129T173000
DTEND;TZID=America/Chicago:20160129T210000
DTSTAMP:20260421T044108
CREATED:20151218T165906Z
LAST-MODIFIED:20151218T165906Z
UID:4026-1454088600-1454101200@www.mpisd.net
SUMMARY:Soccer: Lady Tigers @ Sulphur Springs*
DESCRIPTION:
URL:https://www.mpisd.net/event/soccer-lady-tigers-sulphur-springs/
LOCATION:Sulphur Springs HS\, Sulphur Springs\, TX\, United States
CATEGORIES:Athletics,MPHS,Soccer
ORGANIZER;CN="Ferol Holcomb":MAILTO:fholcomb@www.mpisd.net
GEO:33.1384479;-95.6010668
END:VEVENT
BEGIN:VEVENT
DTSTART;TZID=America/Chicago:20151001T053000
DTEND;TZID=America/Chicago:20151001T200000
DTSTAMP:20260421T044108
CREATED:20150902T154411Z
LAST-MODIFIED:20150902T190332Z
UID:3054-1443677400-1443729600@www.mpisd.net
SUMMARY:JH Football: 8th Gold & Black Tigers @ Sulphur Springs
DESCRIPTION:Games @ 5:30 p.m. & 6:30 p.m.
URL:https://www.mpisd.net/event/jh-football-8th-gold-black-sulphur-springs/
LOCATION:Sulphur Springs HS\, Sulphur Springs\, TX\, United States
CATEGORIES:Athletics,Football,MPJH
ATTACH;FMTTYPE=image/png:https://www.mpisd.net/wp-content/uploads/2015/05/Football.png
ORGANIZER;CN="Ferol Holcomb":MAILTO:fholcomb@www.mpisd.net
GEO:33.1384479;-95.6010668
END:VEVENT
BEGIN:VEVENT
DTSTART;TZID=America/Chicago:20150922T153000
DTEND;TZID=America/Chicago:20150922T180000
DTSTAMP:20260421T044108
CREATED:20150828T152459Z
LAST-MODIFIED:20150828T152459Z
UID:2942-1442935800-1442944800@www.mpisd.net
SUMMARY:Tennis: Varsity Tigers @ Sulphur Springs
DESCRIPTION:
URL:https://www.mpisd.net/event/tennis-varsity-tigers-sulphur-springs/
LOCATION:Sulphur Springs HS\, Sulphur Springs\, TX\, United States
CATEGORIES:Athletics,MPHS,Tennis
ATTACH;FMTTYPE=image/png:https://www.mpisd.net/wp-content/uploads/2015/05/Tennis.png
ORGANIZER;CN="Ferol Holcomb":MAILTO:fholcomb@www.mpisd.net
GEO:33.1384479;-95.6010668
END:VEVENT
END:VCALENDAR