BEGIN:VCALENDAR
VERSION:2.0
PRODID:-//Mount Pleasant ISD - ECPv6.13.2//NONSGML v1.0//EN
CALSCALE:GREGORIAN
METHOD:PUBLISH
X-ORIGINAL-URL:https://www.mpisd.net
X-WR-CALDESC:Events for Mount Pleasant ISD
REFRESH-INTERVAL;VALUE=DURATION:PT1H
X-Robots-Tag:noindex
X-PUBLISHED-TTL:PT1H
BEGIN:VTIMEZONE
TZID:America/Chicago
BEGIN:DAYLIGHT
TZOFFSETFROM:-0600
TZOFFSETTO:-0500
TZNAME:CDT
DTSTART:20170312T080000
END:DAYLIGHT
BEGIN:STANDARD
TZOFFSETFROM:-0500
TZOFFSETTO:-0600
TZNAME:CST
DTSTART:20171105T070000
END:STANDARD
BEGIN:DAYLIGHT
TZOFFSETFROM:-0600
TZOFFSETTO:-0500
TZNAME:CDT
DTSTART:20180311T080000
END:DAYLIGHT
BEGIN:STANDARD
TZOFFSETFROM:-0500
TZOFFSETTO:-0600
TZNAME:CST
DTSTART:20181104T070000
END:STANDARD
END:VTIMEZONE
BEGIN:VEVENT
DTSTART;TZID=America/Chicago:20180129T173000
DTEND;TZID=America/Chicago:20180129T183000
DTSTAMP:20260424T051808
CREATED:20180118T165527Z
LAST-MODIFIED:20180118T165527Z
UID:10601-1517247000-1517250600@www.mpisd.net
SUMMARY:Class of 2019 Parent Meeting
DESCRIPTION:To discuss prom and the Hospice Ball
URL:https://www.mpisd.net/event/class-of-2019-parent-meeting/
LOCATION:MPHS Cafeteria\, Mount Plesant\, TX\, United States
CATEGORIES:Junior Class,MPHS
GEO:33.1567863;-94.968269
END:VEVENT
BEGIN:VEVENT
DTSTART;TZID=America/Chicago:20180108T180000
DTEND;TZID=America/Chicago:20180108T190000
DTSTAMP:20260424T051808
CREATED:20170705T182043Z
LAST-MODIFIED:20170705T182043Z
UID:8963-1515434400-1515438000@www.mpisd.net
SUMMARY:Tiger Doll Booster Club Meeting
DESCRIPTION:
URL:https://www.mpisd.net/event/tiger-doll-booster-club-meeting-10/
LOCATION:MPHS Cafeteria\, Mount Plesant\, TX\, United States
CATEGORIES:MPHS,Tiger Dolls
GEO:33.1567863;-94.968269
END:VEVENT
BEGIN:VEVENT
DTSTART;TZID=America/Chicago:20171216T090000
DTEND;TZID=America/Chicago:20171216T110000
DTSTAMP:20260424T051808
CREATED:20171002T202140Z
LAST-MODIFIED:20171002T202140Z
UID:9718-1513414800-1513422000@www.mpisd.net
SUMMARY:Mommy & Me Christmas Tea
DESCRIPTION:Hosted by the Tiger Dolls
URL:https://www.mpisd.net/event/mommy-me-christmas-tea/
LOCATION:MPHS Cafeteria\, Mount Plesant\, TX\, United States
CATEGORIES:MPHS,Tiger Dolls
GEO:33.1567863;-94.968269
END:VEVENT
BEGIN:VEVENT
DTSTART;TZID=America/Chicago:20171211T180000
DTEND;TZID=America/Chicago:20171211T190000
DTSTAMP:20260424T051808
CREATED:20170705T181907Z
LAST-MODIFIED:20170705T181907Z
UID:8962-1513015200-1513018800@www.mpisd.net
SUMMARY:Tiger Doll Booster Club Meeting
DESCRIPTION:
URL:https://www.mpisd.net/event/tiger-doll-booster-club-meeting-9/
LOCATION:MPHS Cafeteria\, Mount Plesant\, TX\, United States
CATEGORIES:MPHS,Tiger Dolls
GEO:33.1567863;-94.968269
END:VEVENT
BEGIN:VEVENT
DTSTART;TZID=America/Chicago:20171207T160000
DTEND;TZID=America/Chicago:20171207T180000
DTSTAMP:20260424T051808
CREATED:20170913T210929Z
LAST-MODIFIED:20170915T162054Z
UID:9471-1512662400-1512669600@www.mpisd.net
SUMMARY:MPHS Fall Makeup Hours
DESCRIPTION:
URL:https://www.mpisd.net/event/mphs-fall-makeup-hours-2-2017-12-06/2017-12-07/
LOCATION:MPHS Cafeteria\, Mount Plesant\, TX\, United States
CATEGORIES:MPHS
GEO:33.1567863;-94.968269
END:VEVENT
BEGIN:VEVENT
DTSTART;TZID=America/Chicago:20171205T160000
DTEND;TZID=America/Chicago:20171205T180000
DTSTAMP:20260424T051808
CREATED:20170913T210929Z
LAST-MODIFIED:20170913T210929Z
UID:9470-1512489600-1512496800@www.mpisd.net
SUMMARY:MPHS Fall Makeup Hours
DESCRIPTION:
URL:https://www.mpisd.net/event/mphs-fall-makeup-hours-2/
LOCATION:MPHS Cafeteria\, Mount Plesant\, TX\, United States
CATEGORIES:MPHS
GEO:33.1567863;-94.968269
END:VEVENT
BEGIN:VEVENT
DTSTART;TZID=America/Chicago:20171128T160000
DTEND;TZID=America/Chicago:20171128T180000
DTSTAMP:20260424T051808
CREATED:20170915T162247Z
LAST-MODIFIED:20170915T162247Z
UID:9558-1511884800-1511892000@www.mpisd.net
SUMMARY:MPHS Fall Makeup Hours
DESCRIPTION:
URL:https://www.mpisd.net/event/mphs-fall-makeup-hours-3/2017-11-28/
LOCATION:MPHS Cafeteria\, Mount Plesant\, TX\, United States
CATEGORIES:MPHS
GEO:33.1567863;-94.968269
END:VEVENT
BEGIN:VEVENT
DTSTART;TZID=America/Chicago:20171114T160000
DTEND;TZID=America/Chicago:20171114T180000
DTSTAMP:20260424T051808
CREATED:20170913T210750Z
LAST-MODIFIED:20170913T210750Z
UID:9468-1510675200-1510682400@www.mpisd.net
SUMMARY:MPHS Fall Makeup Hours
DESCRIPTION:
URL:https://www.mpisd.net/event/mphs-fall-makeup-hours/2017-11-14/
LOCATION:MPHS Cafeteria\, Mount Plesant\, TX\, United States
CATEGORIES:MPHS
GEO:33.1567863;-94.968269
END:VEVENT
BEGIN:VEVENT
DTSTART;TZID=America/Chicago:20171113T180000
DTEND;TZID=America/Chicago:20171113T190000
DTSTAMP:20260424T051808
CREATED:20170705T162334Z
LAST-MODIFIED:20170705T162334Z
UID:8960-1510596000-1510599600@www.mpisd.net
SUMMARY:Tiger Doll Booster Club Meeting
DESCRIPTION:
URL:https://www.mpisd.net/event/tiger-doll-booster-club-meeting-8/
LOCATION:MPHS Cafeteria\, Mount Plesant\, TX\, United States
CATEGORIES:MPHS,Tiger Dolls
GEO:33.1567863;-94.968269
END:VEVENT
BEGIN:VEVENT
DTSTART;TZID=America/Chicago:20171106T170000
DTEND;TZID=America/Chicago:20171106T183000
DTSTAMP:20260424T051808
CREATED:20170913T203305Z
LAST-MODIFIED:20170913T203305Z
UID:9445-1509987600-1509993000@www.mpisd.net
SUMMARY:MPHS Cheer Booster Club Meeting
DESCRIPTION:
URL:https://www.mpisd.net/event/mphs-cheer-booster-club-meeting-4/
LOCATION:MPHS Cafeteria\, Mount Plesant\, TX\, United States
CATEGORIES:Cheerleading,MPHS
GEO:33.1567863;-94.968269
END:VEVENT
BEGIN:VEVENT
DTSTART;TZID=America/Chicago:20171106T115000
DTEND;TZID=America/Chicago:20171106T131500
DTSTAMP:20260424T051808
CREATED:20171002T201214Z
LAST-MODIFIED:20171002T201257Z
UID:9708-1509969000-1509974100@www.mpisd.net
SUMMARY:HOSA Week BP Checks
DESCRIPTION:To celebrate HOSA Week\, HOSA will give blood pressure checks and share info about HOSA \nDuring Lunches on the Cafeteria Stage
URL:https://www.mpisd.net/event/hosa-week-bp-checks/2017-11-06/
LOCATION:MPHS Cafeteria\, Mount Plesant\, TX\, United States
CATEGORIES:CTE,MPHS
GEO:33.1567863;-94.968269
END:VEVENT
BEGIN:VEVENT
DTSTART;TZID=America/Chicago:20171030T190000
DTEND;TZID=America/Chicago:20171030T210000
DTSTAMP:20260424T051808
CREATED:20171002T195532Z
LAST-MODIFIED:20171002T195532Z
UID:9698-1509390000-1509397200@www.mpisd.net
SUMMARY:Class of 2018 Halloween Party
DESCRIPTION:
URL:https://www.mpisd.net/event/class-of-2018-halloween-party/
LOCATION:MPHS Cafeteria\, Mount Plesant\, TX\, United States
CATEGORIES:MPHS,Senior Class
GEO:33.1567863;-94.968269
END:VEVENT
BEGIN:VEVENT
DTSTART;TZID=America/Chicago:20171009T180000
DTEND;TZID=America/Chicago:20171009T190000
DTSTAMP:20260424T051808
CREATED:20170705T162235Z
LAST-MODIFIED:20170705T162235Z
UID:8959-1507572000-1507575600@www.mpisd.net
SUMMARY:Tiger Doll Booster Club Meeting
DESCRIPTION:
URL:https://www.mpisd.net/event/tiger-doll-booster-club-meeting-7/
LOCATION:MPHS Cafeteria\, Mount Plesant\, TX\, United States
CATEGORIES:MPHS,Tiger Dolls
GEO:33.1567863;-94.968269
END:VEVENT
BEGIN:VEVENT
DTSTART;TZID=America/Chicago:20170911T180000
DTEND;TZID=America/Chicago:20170911T190000
DTSTAMP:20260424T051808
CREATED:20170705T161458Z
LAST-MODIFIED:20170705T161458Z
UID:8958-1505152800-1505156400@www.mpisd.net
SUMMARY:Tiger Doll Booster Club Meeting
DESCRIPTION:
URL:https://www.mpisd.net/event/tiger-doll-booster-club-meeting-6/
LOCATION:MPHS Cafeteria\, Mount Plesant\, TX\, United States
CATEGORIES:MPHS,Tiger Dolls
GEO:33.1567863;-94.968269
END:VEVENT
BEGIN:VEVENT
DTSTART;TZID=America/Chicago:20170815T170000
DTEND;TZID=America/Chicago:20170815T190000
DTSTAMP:20260424T051808
CREATED:20170802T190137Z
LAST-MODIFIED:20170802T190137Z
UID:9052-1502816400-1502823600@www.mpisd.net
SUMMARY:MPHS Cheer Booster Club Mtg
DESCRIPTION:
URL:https://www.mpisd.net/event/mphs-cheer-booster-club-mtg/
LOCATION:MPHS Cafeteria\, Mount Plesant\, TX\, United States
CATEGORIES:Athletics,Cheerleading,MPHS
GEO:33.1567863;-94.968269
END:VEVENT
BEGIN:VEVENT
DTSTART;TZID=America/Chicago:20170810T180000
DTEND;TZID=America/Chicago:20170810T190000
DTSTAMP:20260424T051808
CREATED:20170705T161345Z
LAST-MODIFIED:20170808T202709Z
UID:8957-1502388000-1502391600@www.mpisd.net
SUMMARY:MPISD Athletic Booster Club Membership Drive
DESCRIPTION:
URL:https://www.mpisd.net/event/mpisd-athletic-booster-club-membership-drive/
LOCATION:MPHS Cafeteria\, Mount Plesant\, TX\, United States
CATEGORIES:Athletics,MPHS
ORGANIZER;CN="Ferol Holcomb":MAILTO:fholcomb@www.mpisd.net
GEO:33.1567863;-94.968269
END:VEVENT
BEGIN:VEVENT
DTSTART;TZID=America/Chicago:20170807T180000
DTEND;TZID=America/Chicago:20170807T190000
DTSTAMP:20260424T051808
CREATED:20170802T191130Z
LAST-MODIFIED:20170802T191130Z
UID:9055-1502128800-1502132400@www.mpisd.net
SUMMARY:MPHS Swim Team Parent Meeting
DESCRIPTION:
URL:https://www.mpisd.net/event/mphs-swim-team-parent-meeting/
LOCATION:MPHS Cafeteria\, Mount Plesant\, TX\, United States
CATEGORIES:Athletics,MPHS,Swimming
ORGANIZER;CN="Ferol Holcomb":MAILTO:fholcomb@www.mpisd.net
GEO:33.1567863;-94.968269
END:VEVENT
BEGIN:VEVENT
DTSTART;TZID=America/Chicago:20170803T180000
DTEND;TZID=America/Chicago:20170803T191500
DTSTAMP:20260424T051808
CREATED:20170705T161234Z
LAST-MODIFIED:20170705T161234Z
UID:8956-1501783200-1501787700@www.mpisd.net
SUMMARY:MPHS Football Parent Meeting
DESCRIPTION:For parents of MPHS students participating in Football
URL:https://www.mpisd.net/event/mphs-football-parent-meeting/
LOCATION:MPHS Cafeteria\, Mount Plesant\, TX\, United States
CATEGORIES:Athletics,Football,MPHS
ORGANIZER;CN="Ferol Holcomb":MAILTO:fholcomb@www.mpisd.net
GEO:33.1567863;-94.968269
END:VEVENT
BEGIN:VEVENT
DTSTART;TZID=America/Chicago:20170803T070000
DTEND;TZID=America/Chicago:20170803T090000
DTSTAMP:20260424T051808
CREATED:20170505T163720Z
LAST-MODIFIED:20170505T163720Z
UID:8479-1501743600-1501750800@www.mpisd.net
SUMMARY:Chamber New Teacher Breakfast
DESCRIPTION:For teachers new to teaching OR new to the Mt. Pleasant area.
URL:https://www.mpisd.net/event/chamber-new-teacher-breakfast/
LOCATION:MPHS Cafeteria\, Mount Plesant\, TX\, United States
CATEGORIES:District
GEO:33.1567863;-94.968269
END:VEVENT
BEGIN:VEVENT
DTSTART;TZID=America/Chicago:20170526T073000
DTEND;TZID=America/Chicago:20170526T220000
DTSTAMP:20260424T051808
CREATED:20170329T192835Z
LAST-MODIFIED:20170329T192835Z
UID:8080-1495783800-1495836000@www.mpisd.net
SUMMARY:Employee End of Year Breakfast
DESCRIPTION:
URL:https://www.mpisd.net/event/employee-end-of-year-breakfast/
LOCATION:MPHS Cafeteria\, Mount Plesant\, TX\, United States
CATEGORIES:District
GEO:33.1567863;-94.968269
END:VEVENT
BEGIN:VEVENT
DTSTART;TZID=America/Chicago:20170522T133000
DTEND;TZID=America/Chicago:20170522T155000
DTSTAMP:20260424T051808
CREATED:20170502T153134Z
LAST-MODIFIED:20170502T153134Z
UID:8339-1495459800-1495468200@www.mpisd.net
SUMMARY:MPHS SPED/Life Skills Graduation
DESCRIPTION:
URL:https://www.mpisd.net/event/mphs-spedlife-skills-graduation/
LOCATION:MPHS Cafeteria\, Mount Plesant\, TX\, United States
CATEGORIES:MPHS
GEO:33.1567863;-94.968269
END:VEVENT
BEGIN:VEVENT
DTSTART;TZID=America/Chicago:20170515T180000
DTEND;TZID=America/Chicago:20170515T203000
DTSTAMP:20260424T051808
CREATED:20170505T162238Z
LAST-MODIFIED:20170505T162238Z
UID:8476-1494871200-1494880200@www.mpisd.net
SUMMARY:MPHS Choir Spring Pops Concert & BBQ Dinner
DESCRIPTION:BBQ Dinner @ 6 p.m. \nConcert @ 7 p.m.
URL:https://www.mpisd.net/event/mphs-choir-spring-pops-concert-bbq-dinner/
LOCATION:MPHS Cafeteria\, Mount Plesant\, TX\, United States
CATEGORIES:Choir,Fine Arts,MPHS
GEO:33.1567863;-94.968269
END:VEVENT
BEGIN:VEVENT
DTSTART;TZID=America/Chicago:20170511T190000
DTEND;TZID=America/Chicago:20170511T210000
DTSTAMP:20260424T051808
CREATED:20170303T162451Z
LAST-MODIFIED:20170303T162451Z
UID:7871-1494529200-1494536400@www.mpisd.net
SUMMARY:MPHS CTE Award Ceremony Banquet
DESCRIPTION:
URL:https://www.mpisd.net/event/mphs-cte-award-ceremony-banquet/
LOCATION:MPHS Cafeteria\, Mount Plesant\, TX\, United States
CATEGORIES:CTE,MPHS
GEO:33.1567863;-94.968269
END:VEVENT
BEGIN:VEVENT
DTSTART;TZID=America/Chicago:20170509T160000
DTEND;TZID=America/Chicago:20170509T180000
DTSTAMP:20260424T051808
CREATED:20170206T163629Z
LAST-MODIFIED:20170206T163629Z
UID:7724-1494345600-1494352800@www.mpisd.net
SUMMARY:MPHS Credit Make-Up Hours
DESCRIPTION:
URL:https://www.mpisd.net/event/mphs-credit-make-up-hours-3/2017-05-09/
LOCATION:MPHS Cafeteria\, Mount Plesant\, TX\, United States
CATEGORIES:MPHS
GEO:33.1567863;-94.968269
END:VEVENT
BEGIN:VEVENT
DTSTART;TZID=America/Chicago:20170505T161000
DTEND;TZID=America/Chicago:20170505T170000
DTSTAMP:20260424T051808
CREATED:20170502T152410Z
LAST-MODIFIED:20170502T152410Z
UID:8338-1494000600-1494003600@www.mpisd.net
SUMMARY:Student Athlete College Signing
DESCRIPTION:Eight current athletes and one 2016 graduate will be honored.
URL:https://www.mpisd.net/event/student-athlete-college-signing/
LOCATION:MPHS Cafeteria\, Mount Plesant\, TX\, United States
CATEGORIES:Athletics,MPHS
ORGANIZER;CN="Ferol Holcomb":MAILTO:fholcomb@www.mpisd.net
GEO:33.1567863;-94.968269
END:VEVENT
BEGIN:VEVENT
DTSTART;TZID=America/Chicago:20170502T160000
DTEND;TZID=America/Chicago:20170502T180000
DTSTAMP:20260424T051808
CREATED:20170206T163511Z
LAST-MODIFIED:20170206T163511Z
UID:7722-1493740800-1493748000@www.mpisd.net
SUMMARY:MPHS Credit Make-Up Hours
DESCRIPTION:
URL:https://www.mpisd.net/event/mphs-credit-make-up-hours-2/2017-05-02/
LOCATION:MPHS Cafeteria\, Mount Plesant\, TX\, United States
CATEGORIES:MPHS
GEO:33.1567863;-94.968269
END:VEVENT
BEGIN:VEVENT
DTSTART;TZID=America/Chicago:20170425T160000
DTEND;TZID=America/Chicago:20170425T180000
DTSTAMP:20260424T051808
CREATED:20170206T163402Z
LAST-MODIFIED:20170206T163402Z
UID:7720-1493136000-1493143200@www.mpisd.net
SUMMARY:MPHS Credit Make-Up Hours
DESCRIPTION:
URL:https://www.mpisd.net/event/mphs-credit-make-up-hours/2017-04-25/
LOCATION:MPHS Cafeteria\, Mount Plesant\, TX\, United States
CATEGORIES:MPHS
GEO:33.1567863;-94.968269
END:VEVENT
BEGIN:VEVENT
DTSTART;TZID=America/Chicago:20170420T180000
DTEND;TZID=America/Chicago:20170420T200000
DTSTAMP:20260424T051808
CREATED:20170118T214745Z
LAST-MODIFIED:20170118T214745Z
UID:7560-1492711200-1492718400@www.mpisd.net
SUMMARY:MPHS Senior Blackout Party
DESCRIPTION:
URL:https://www.mpisd.net/event/mphs-senior-blackout-party/
LOCATION:MPHS Cafeteria\, Mount Plesant\, TX\, United States
CATEGORIES:MPHS,Senior Class
GEO:33.1567863;-94.968269
END:VEVENT
BEGIN:VEVENT
DTSTART;TZID=America/Chicago:20170417T170000
DTEND;TZID=America/Chicago:20170417T180000
DTSTAMP:20260424T051808
CREATED:20170322T150706Z
LAST-MODIFIED:20170413T152919Z
UID:8011-1492448400-1492452000@www.mpisd.net
SUMMARY:MPHS Cheer Booster Club Meeting
DESCRIPTION:
URL:https://www.mpisd.net/event/mphs-cheer-booster-club-meeting-3/
LOCATION:MPHS Cafeteria\, Mount Plesant\, TX\, United States
CATEGORIES:Athletics,Cheerleading,MPHS
GEO:33.1567863;-94.968269
END:VEVENT
BEGIN:VEVENT
DTSTART;TZID=America/Chicago:20170224T180000
DTEND;TZID=America/Chicago:20170224T210000
DTSTAMP:20260424T051808
CREATED:20170113T165606Z
LAST-MODIFIED:20170113T165606Z
UID:7496-1487959200-1487970000@www.mpisd.net
SUMMARY:Relay for Life Mother-Son Dance
DESCRIPTION:To benefit Titus County Relay for Life.
URL:https://www.mpisd.net/event/relay-for-life-mother-son-dance/
LOCATION:MPHS Cafeteria\, Mount Plesant\, TX\, United States
CATEGORIES:MPHS
GEO:33.1567863;-94.968269
END:VEVENT
END:VCALENDAR