BEGIN:VCALENDAR
VERSION:2.0
PRODID:-//Mount Pleasant ISD - ECPv6.13.2//NONSGML v1.0//EN
CALSCALE:GREGORIAN
METHOD:PUBLISH
X-ORIGINAL-URL:https://www.mpisd.net
X-WR-CALDESC:Events for Mount Pleasant ISD
REFRESH-INTERVAL;VALUE=DURATION:PT1H
X-Robots-Tag:noindex
X-PUBLISHED-TTL:PT1H
BEGIN:VTIMEZONE
TZID:America/Chicago
BEGIN:DAYLIGHT
TZOFFSETFROM:-0600
TZOFFSETTO:-0500
TZNAME:CDT
DTSTART:20170312T080000
END:DAYLIGHT
BEGIN:STANDARD
TZOFFSETFROM:-0500
TZOFFSETTO:-0600
TZNAME:CST
DTSTART:20171105T070000
END:STANDARD
BEGIN:DAYLIGHT
TZOFFSETFROM:-0600
TZOFFSETTO:-0500
TZNAME:CDT
DTSTART:20180311T080000
END:DAYLIGHT
BEGIN:STANDARD
TZOFFSETFROM:-0500
TZOFFSETTO:-0600
TZNAME:CST
DTSTART:20181104T070000
END:STANDARD
BEGIN:DAYLIGHT
TZOFFSETFROM:-0600
TZOFFSETTO:-0500
TZNAME:CDT
DTSTART:20190310T080000
END:DAYLIGHT
BEGIN:STANDARD
TZOFFSETFROM:-0500
TZOFFSETTO:-0600
TZNAME:CST
DTSTART:20191103T070000
END:STANDARD
BEGIN:DAYLIGHT
TZOFFSETFROM:-0600
TZOFFSETTO:-0500
TZNAME:CDT
DTSTART:20200308T080000
END:DAYLIGHT
BEGIN:STANDARD
TZOFFSETFROM:-0500
TZOFFSETTO:-0600
TZNAME:CST
DTSTART:20201101T070000
END:STANDARD
END:VTIMEZONE
BEGIN:VEVENT
DTSTART;TZID=America/Chicago:20200504T190000
DTEND;TZID=America/Chicago:20200504T210000
DTSTAMP:20260420T052956
CREATED:20190814T185616Z
LAST-MODIFIED:20190814T185616Z
UID:14657-1588618800-1588626000@www.mpisd.net
SUMMARY:MPHS Choir Pre-State Solo & Ensemble concert
DESCRIPTION:
URL:https://www.mpisd.net/event/mphs-choir-pre-state-solo-ensemble-concert/
LOCATION:MPHS Cafeteria\, Mount Plesant\, TX\, United States
CATEGORIES:Choir,Fine Arts,MPHS
GEO:33.1567863;-94.968269
END:VEVENT
BEGIN:VEVENT
DTSTART;TZID=America/Chicago:20190226T180000
DTEND;TZID=America/Chicago:20190226T190000
DTSTAMP:20260420T052956
CREATED:20190129T173118Z
LAST-MODIFIED:20190129T173118Z
UID:13249-1551204000-1551207600@www.mpisd.net
SUMMARY:MPHS Tiger Doll Tryout Meeting
DESCRIPTION:Mandatory candidate Parent meeting
URL:https://www.mpisd.net/event/mphs-tiger-doll-tryout-meeting/
LOCATION:MPHS Cafeteria\, Mount Plesant\, TX\, United States
CATEGORIES:MPHS,Tiger Dolls
ORGANIZER;CN="Ferol Holcomb":MAILTO:fholcomb@www.mpisd.net
GEO:33.1567863;-94.968269
END:VEVENT
BEGIN:VEVENT
DTSTART;TZID=America/Chicago:20181012T173000
DTEND;TZID=America/Chicago:20181012T200000
DTSTAMP:20260420T052956
CREATED:20180423T161504Z
LAST-MODIFIED:20180423T161504Z
UID:11338-1539365400-1539374400@www.mpisd.net
SUMMARY:MPHS Class or 1983 Reunion
DESCRIPTION:
URL:https://www.mpisd.net/event/mphs-class-or-1983-reunion/
LOCATION:MPHS Cafeteria\, Mount Plesant\, TX\, United States
CATEGORIES:MPHS
GEO:33.1567863;-94.968269
END:VEVENT
BEGIN:VEVENT
DTSTART;TZID=America/Chicago:20180514T180000
DTEND;TZID=America/Chicago:20180514T190000
DTSTAMP:20260420T052956
CREATED:20170705T182521Z
LAST-MODIFIED:20170705T182521Z
UID:8969-1526320800-1526324400@www.mpisd.net
SUMMARY:Tiger Doll Booster Club Meeting
DESCRIPTION:
URL:https://www.mpisd.net/event/tiger-doll-booster-club-meeting-14/
LOCATION:MPHS Cafeteria\, Mount Plesant\, TX\, United States
CATEGORIES:MPHS,Tiger Dolls
GEO:33.1567863;-94.968269
END:VEVENT
BEGIN:VEVENT
DTSTART;TZID=America/Chicago:20180508T160000
DTEND;TZID=America/Chicago:20180508T180000
DTSTAMP:20260420T052956
CREATED:20171002T203524Z
LAST-MODIFIED:20171002T203524Z
UID:9736-1525795200-1525802400@www.mpisd.net
SUMMARY:Spring Makeup Hours
DESCRIPTION:
URL:https://www.mpisd.net/event/spring-makeup-hours-3/2018-05-08/
LOCATION:MPHS Cafeteria\, Mount Plesant\, TX\, United States
CATEGORIES:MPHS
GEO:33.1567863;-94.968269
END:VEVENT
BEGIN:VEVENT
DTSTART;TZID=America/Chicago:20180507T180000
DTEND;TZID=America/Chicago:20180507T200000
DTSTAMP:20260420T052956
CREATED:20170822T184905Z
LAST-MODIFIED:20170822T184905Z
UID:9262-1525716000-1525723200@www.mpisd.net
SUMMARY:MPHS Chorale Spring Pops Concert & BBQ Dinner
DESCRIPTION:Donner @ 6 p.m.; Concert at 7 p.m.
URL:https://www.mpisd.net/event/mphs-chorale-spring-pops-concert-bbq-dinner/
LOCATION:MPHS Cafeteria\, Mount Plesant\, TX\, United States
CATEGORIES:Choir,MPHS
GEO:33.1567863;-94.968269
END:VEVENT
BEGIN:VEVENT
DTSTART;TZID=America/Chicago:20180503T190000
DTEND;TZID=America/Chicago:20180503T203000
DTSTAMP:20260420T052956
CREATED:20180305T194955Z
LAST-MODIFIED:20180305T194955Z
UID:10992-1525374000-1525379400@www.mpisd.net
SUMMARY:MPHS CTE Banquet
DESCRIPTION:
URL:https://www.mpisd.net/event/mphs-cte-banquet/
LOCATION:MPHS Cafeteria\, Mount Plesant\, TX\, United States
CATEGORIES:CTE,MPHS
GEO:33.1567863;-94.968269
END:VEVENT
BEGIN:VEVENT
DTSTART;TZID=America/Chicago:20180501T160000
DTEND;TZID=America/Chicago:20180501T180000
DTSTAMP:20260420T052956
CREATED:20171002T203413Z
LAST-MODIFIED:20171002T203413Z
UID:9734-1525190400-1525197600@www.mpisd.net
SUMMARY:Spring Makeup Hours
DESCRIPTION:
URL:https://www.mpisd.net/event/spring-makeup-hours-2/2018-05-01/
LOCATION:MPHS Cafeteria\, Mount Plesant\, TX\, United States
CATEGORIES:MPHS
GEO:33.1567863;-94.968269
END:VEVENT
BEGIN:VEVENT
DTSTART;TZID=America/Chicago:20180430T173000
DTEND;TZID=America/Chicago:20180430T190000
DTSTAMP:20260420T052956
CREATED:20180423T161330Z
LAST-MODIFIED:20180423T161330Z
UID:11337-1525109400-1525114800@www.mpisd.net
SUMMARY:MPHS Cheer Booster Club Officer Meeting
DESCRIPTION:
URL:https://www.mpisd.net/event/mphs-cheer-booster-club-officer-meeting/
LOCATION:MPHS Cafeteria\, Mount Plesant\, TX\, United States
CATEGORIES:Cheerleading,MPHS
GEO:33.1567863;-94.968269
END:VEVENT
BEGIN:VEVENT
DTSTART;TZID=America/Chicago:20180424T160000
DTEND;TZID=America/Chicago:20180424T180000
DTSTAMP:20260420T052956
CREATED:20171002T203254Z
LAST-MODIFIED:20171002T203254Z
UID:9732-1524585600-1524592800@www.mpisd.net
SUMMARY:Spring Makeup Hours
DESCRIPTION:
URL:https://www.mpisd.net/event/spring-makeup-hours/2018-04-24/
LOCATION:MPHS Cafeteria\, Mount Plesant\, TX\, United States
CATEGORIES:MPHS
GEO:33.1567863;-94.968269
END:VEVENT
BEGIN:VEVENT
DTSTART;VALUE=DATE:20180421
DTEND;VALUE=DATE:20180422
DTSTAMP:20260420T052956
CREATED:20180306T140421Z
LAST-MODIFIED:20180306T140421Z
UID:11003-1524268800-1524355199@www.mpisd.net
SUMMARY:FFA Auction & Hamburger Meal
DESCRIPTION:
URL:https://www.mpisd.net/event/ffa-auction-hamburger-meal/
LOCATION:MPHS Cafeteria\, Mount Plesant\, TX\, United States
CATEGORIES:CTE,MPHS
GEO:33.1567863;-94.968269
END:VEVENT
BEGIN:VEVENT
DTSTART;TZID=America/Chicago:20180409T180000
DTEND;TZID=America/Chicago:20180409T190000
DTSTAMP:20260420T052956
CREATED:20170705T182413Z
LAST-MODIFIED:20170705T182413Z
UID:8968-1523296800-1523300400@www.mpisd.net
SUMMARY:Tiger Doll Booster Club Meeting
DESCRIPTION:
URL:https://www.mpisd.net/event/tiger-doll-booster-club-meeting-13/
LOCATION:MPHS Cafeteria\, Mount Plesant\, TX\, United States
CATEGORIES:MPHS,Tiger Dolls
GEO:33.1567863;-94.968269
END:VEVENT
BEGIN:VEVENT
DTSTART;TZID=America/Chicago:20180327T173000
DTEND;TZID=America/Chicago:20180327T193000
DTSTAMP:20260420T052956
CREATED:20180326T154146Z
LAST-MODIFIED:20180326T154146Z
UID:11049-1522171800-1522179000@www.mpisd.net
SUMMARY:MPHS Colorguard Parent Orientation Meeting
DESCRIPTION:
URL:https://www.mpisd.net/event/mphs-colorguard-parent-orientation-meeting/
LOCATION:MPHS Cafeteria\, Mount Plesant\, TX\, United States
CATEGORIES:Colorguard,MPHS
GEO:33.1567863;-94.968269
END:VEVENT
BEGIN:VEVENT
DTSTART;TZID=America/Chicago:20180321T173000
DTEND;TZID=America/Chicago:20180321T183000
DTSTAMP:20260420T052956
CREATED:20180124T145602Z
LAST-MODIFIED:20180124T145602Z
UID:10634-1521653400-1521657000@www.mpisd.net
SUMMARY:MPHS Cheer Parent Meeting
DESCRIPTION:
URL:https://www.mpisd.net/event/mphs-cheer-parent-meeting/
LOCATION:MPHS Cafeteria\, Mount Plesant\, TX\, United States
CATEGORIES:Athletics,Cheerleading,MPHS
GEO:33.1567863;-94.968269
END:VEVENT
BEGIN:VEVENT
DTSTART;TZID=America/Chicago:20180319T180000
DTEND;TZID=America/Chicago:20180319T190000
DTSTAMP:20260420T052956
CREATED:20170705T182304Z
LAST-MODIFIED:20170705T182304Z
UID:8967-1521482400-1521486000@www.mpisd.net
SUMMARY:Tiger Doll Booster Club Meeting
DESCRIPTION:
URL:https://www.mpisd.net/event/tiger-doll-booster-club-meeting-12/
LOCATION:MPHS Cafeteria\, Mount Plesant\, TX\, United States
CATEGORIES:MPHS,Tiger Dolls
GEO:33.1567863;-94.968269
END:VEVENT
BEGIN:VEVENT
DTSTART;TZID=America/Chicago:20180227T180000
DTEND;TZID=America/Chicago:20180227T200000
DTSTAMP:20260420T052956
CREATED:20180109T162230Z
LAST-MODIFIED:20180117T201921Z
UID:10574-1519754400-1519761600@www.mpisd.net
SUMMARY:Tiger Doll Tryout Meeting
DESCRIPTION:
URL:https://www.mpisd.net/event/tiger-doll-tryout-meeting/
LOCATION:MPHS Cafeteria\, Mount Plesant\, TX\, United States
CATEGORIES:MPHS,Tiger Dolls
GEO:33.1567863;-94.968269
END:VEVENT
BEGIN:VEVENT
DTSTART;TZID=America/Chicago:20180220T180000
DTEND;TZID=America/Chicago:20180220T190000
DTSTAMP:20260420T052956
CREATED:20180109T162114Z
LAST-MODIFIED:20180109T162114Z
UID:10573-1519149600-1519153200@www.mpisd.net
SUMMARY:Tiger Doll Meeting
DESCRIPTION:For New York Trip
URL:https://www.mpisd.net/event/tiger-doll-meeting/
LOCATION:MPHS Cafeteria\, Mount Plesant\, TX\, United States
CATEGORIES:MPHS,Tiger Dolls
GEO:33.1567863;-94.968269
END:VEVENT
BEGIN:VEVENT
DTSTART;TZID=America/Chicago:20180219T180000
DTEND;TZID=America/Chicago:20180219T193000
DTSTAMP:20260420T052956
CREATED:20180122T201254Z
LAST-MODIFIED:20180122T201254Z
UID:10616-1519063200-1519068600@www.mpisd.net
SUMMARY:MPHS Cheer Tryout Meeting
DESCRIPTION:
URL:https://www.mpisd.net/event/mphs-cheer-tryout-meeting/
LOCATION:MPHS Cafeteria\, Mount Plesant\, TX\, United States
CATEGORIES:Athletics,Cheerleading,MPHS
GEO:33.1567863;-94.968269
END:VEVENT
BEGIN:VEVENT
DTSTART;TZID=America/Chicago:20180216T200000
DTEND;TZID=America/Chicago:20180216T200000
DTSTAMP:20260420T052956
CREATED:20180131T204630Z
LAST-MODIFIED:20180131T204630Z
UID:10720-1518811200-1518811200@www.mpisd.net
SUMMARY:MPHS Sadie Hawkins Dance
DESCRIPTION:
URL:https://www.mpisd.net/event/mphs-sadie-hawkins-dance-2/
LOCATION:MPHS Cafeteria\, Mount Plesant\, TX\, United States
CATEGORIES:MPHS
GEO:33.1567863;-94.968269
END:VEVENT
BEGIN:VEVENT
DTSTART;TZID=America/Chicago:20180212T180000
DTEND;TZID=America/Chicago:20180212T190000
DTSTAMP:20260420T052956
CREATED:20170705T182158Z
LAST-MODIFIED:20170705T182158Z
UID:8965-1518458400-1518462000@www.mpisd.net
SUMMARY:Tiger Doll Booster Club Meeting
DESCRIPTION:
URL:https://www.mpisd.net/event/tiger-doll-booster-club-meeting-11/
LOCATION:MPHS Cafeteria\, Mount Plesant\, TX\, United States
CATEGORIES:MPHS,Tiger Dolls
GEO:33.1567863;-94.968269
END:VEVENT
BEGIN:VEVENT
DTSTART;TZID=America/Chicago:20180129T173000
DTEND;TZID=America/Chicago:20180129T183000
DTSTAMP:20260420T052956
CREATED:20180118T165527Z
LAST-MODIFIED:20180118T165527Z
UID:10601-1517247000-1517250600@www.mpisd.net
SUMMARY:Class of 2019 Parent Meeting
DESCRIPTION:To discuss prom and the Hospice Ball
URL:https://www.mpisd.net/event/class-of-2019-parent-meeting/
LOCATION:MPHS Cafeteria\, Mount Plesant\, TX\, United States
CATEGORIES:Junior Class,MPHS
GEO:33.1567863;-94.968269
END:VEVENT
BEGIN:VEVENT
DTSTART;TZID=America/Chicago:20180108T180000
DTEND;TZID=America/Chicago:20180108T190000
DTSTAMP:20260420T052956
CREATED:20170705T182043Z
LAST-MODIFIED:20170705T182043Z
UID:8963-1515434400-1515438000@www.mpisd.net
SUMMARY:Tiger Doll Booster Club Meeting
DESCRIPTION:
URL:https://www.mpisd.net/event/tiger-doll-booster-club-meeting-10/
LOCATION:MPHS Cafeteria\, Mount Plesant\, TX\, United States
CATEGORIES:MPHS,Tiger Dolls
GEO:33.1567863;-94.968269
END:VEVENT
BEGIN:VEVENT
DTSTART;TZID=America/Chicago:20171216T090000
DTEND;TZID=America/Chicago:20171216T110000
DTSTAMP:20260420T052956
CREATED:20171002T202140Z
LAST-MODIFIED:20171002T202140Z
UID:9718-1513414800-1513422000@www.mpisd.net
SUMMARY:Mommy & Me Christmas Tea
DESCRIPTION:Hosted by the Tiger Dolls
URL:https://www.mpisd.net/event/mommy-me-christmas-tea/
LOCATION:MPHS Cafeteria\, Mount Plesant\, TX\, United States
CATEGORIES:MPHS,Tiger Dolls
GEO:33.1567863;-94.968269
END:VEVENT
BEGIN:VEVENT
DTSTART;TZID=America/Chicago:20171211T180000
DTEND;TZID=America/Chicago:20171211T190000
DTSTAMP:20260420T052956
CREATED:20170705T181907Z
LAST-MODIFIED:20170705T181907Z
UID:8962-1513015200-1513018800@www.mpisd.net
SUMMARY:Tiger Doll Booster Club Meeting
DESCRIPTION:
URL:https://www.mpisd.net/event/tiger-doll-booster-club-meeting-9/
LOCATION:MPHS Cafeteria\, Mount Plesant\, TX\, United States
CATEGORIES:MPHS,Tiger Dolls
GEO:33.1567863;-94.968269
END:VEVENT
BEGIN:VEVENT
DTSTART;TZID=America/Chicago:20171207T160000
DTEND;TZID=America/Chicago:20171207T180000
DTSTAMP:20260420T052956
CREATED:20170913T210929Z
LAST-MODIFIED:20170915T162054Z
UID:9471-1512662400-1512669600@www.mpisd.net
SUMMARY:MPHS Fall Makeup Hours
DESCRIPTION:
URL:https://www.mpisd.net/event/mphs-fall-makeup-hours-2-2017-12-06/2017-12-07/
LOCATION:MPHS Cafeteria\, Mount Plesant\, TX\, United States
CATEGORIES:MPHS
GEO:33.1567863;-94.968269
END:VEVENT
BEGIN:VEVENT
DTSTART;TZID=America/Chicago:20171205T160000
DTEND;TZID=America/Chicago:20171205T180000
DTSTAMP:20260420T052956
CREATED:20170913T210929Z
LAST-MODIFIED:20170913T210929Z
UID:9470-1512489600-1512496800@www.mpisd.net
SUMMARY:MPHS Fall Makeup Hours
DESCRIPTION:
URL:https://www.mpisd.net/event/mphs-fall-makeup-hours-2/
LOCATION:MPHS Cafeteria\, Mount Plesant\, TX\, United States
CATEGORIES:MPHS
GEO:33.1567863;-94.968269
END:VEVENT
BEGIN:VEVENT
DTSTART;TZID=America/Chicago:20171128T160000
DTEND;TZID=America/Chicago:20171128T180000
DTSTAMP:20260420T052956
CREATED:20170915T162247Z
LAST-MODIFIED:20170915T162247Z
UID:9558-1511884800-1511892000@www.mpisd.net
SUMMARY:MPHS Fall Makeup Hours
DESCRIPTION:
URL:https://www.mpisd.net/event/mphs-fall-makeup-hours-3/2017-11-28/
LOCATION:MPHS Cafeteria\, Mount Plesant\, TX\, United States
CATEGORIES:MPHS
GEO:33.1567863;-94.968269
END:VEVENT
BEGIN:VEVENT
DTSTART;TZID=America/Chicago:20171114T160000
DTEND;TZID=America/Chicago:20171114T180000
DTSTAMP:20260420T052956
CREATED:20170913T210750Z
LAST-MODIFIED:20170913T210750Z
UID:9468-1510675200-1510682400@www.mpisd.net
SUMMARY:MPHS Fall Makeup Hours
DESCRIPTION:
URL:https://www.mpisd.net/event/mphs-fall-makeup-hours/2017-11-14/
LOCATION:MPHS Cafeteria\, Mount Plesant\, TX\, United States
CATEGORIES:MPHS
GEO:33.1567863;-94.968269
END:VEVENT
BEGIN:VEVENT
DTSTART;TZID=America/Chicago:20171113T180000
DTEND;TZID=America/Chicago:20171113T190000
DTSTAMP:20260420T052956
CREATED:20170705T162334Z
LAST-MODIFIED:20170705T162334Z
UID:8960-1510596000-1510599600@www.mpisd.net
SUMMARY:Tiger Doll Booster Club Meeting
DESCRIPTION:
URL:https://www.mpisd.net/event/tiger-doll-booster-club-meeting-8/
LOCATION:MPHS Cafeteria\, Mount Plesant\, TX\, United States
CATEGORIES:MPHS,Tiger Dolls
GEO:33.1567863;-94.968269
END:VEVENT
BEGIN:VEVENT
DTSTART;TZID=America/Chicago:20171106T170000
DTEND;TZID=America/Chicago:20171106T183000
DTSTAMP:20260420T052956
CREATED:20170913T203305Z
LAST-MODIFIED:20170913T203305Z
UID:9445-1509987600-1509993000@www.mpisd.net
SUMMARY:MPHS Cheer Booster Club Meeting
DESCRIPTION:
URL:https://www.mpisd.net/event/mphs-cheer-booster-club-meeting-4/
LOCATION:MPHS Cafeteria\, Mount Plesant\, TX\, United States
CATEGORIES:Cheerleading,MPHS
GEO:33.1567863;-94.968269
END:VEVENT
END:VCALENDAR