BEGIN:VCALENDAR
VERSION:2.0
PRODID:-//Mount Pleasant ISD - ECPv6.13.2//NONSGML v1.0//EN
CALSCALE:GREGORIAN
METHOD:PUBLISH
X-WR-CALNAME:Mount Pleasant ISD
X-ORIGINAL-URL:https://www.mpisd.net
X-WR-CALDESC:Events for Mount Pleasant ISD
REFRESH-INTERVAL;VALUE=DURATION:PT1H
X-Robots-Tag:noindex
X-PUBLISHED-TTL:PT1H
BEGIN:VTIMEZONE
TZID:America/Chicago
BEGIN:DAYLIGHT
TZOFFSETFROM:-0600
TZOFFSETTO:-0500
TZNAME:CDT
DTSTART:20160313T080000
END:DAYLIGHT
BEGIN:STANDARD
TZOFFSETFROM:-0500
TZOFFSETTO:-0600
TZNAME:CST
DTSTART:20161106T070000
END:STANDARD
BEGIN:DAYLIGHT
TZOFFSETFROM:-0600
TZOFFSETTO:-0500
TZNAME:CDT
DTSTART:20170312T080000
END:DAYLIGHT
BEGIN:STANDARD
TZOFFSETFROM:-0500
TZOFFSETTO:-0600
TZNAME:CST
DTSTART:20171105T070000
END:STANDARD
BEGIN:DAYLIGHT
TZOFFSETFROM:-0600
TZOFFSETTO:-0500
TZNAME:CDT
DTSTART:20180311T080000
END:DAYLIGHT
BEGIN:STANDARD
TZOFFSETFROM:-0500
TZOFFSETTO:-0600
TZNAME:CST
DTSTART:20181104T070000
END:STANDARD
BEGIN:DAYLIGHT
TZOFFSETFROM:-0600
TZOFFSETTO:-0500
TZNAME:CDT
DTSTART:20190310T080000
END:DAYLIGHT
BEGIN:STANDARD
TZOFFSETFROM:-0500
TZOFFSETTO:-0600
TZNAME:CST
DTSTART:20191103T070000
END:STANDARD
END:VTIMEZONE
BEGIN:VEVENT
DTSTART;TZID=America/Chicago:20190919T163000
DTEND;TZID=America/Chicago:20190919T190000
DTSTAMP:20260421T072207
CREATED:20190813T162140Z
LAST-MODIFIED:20190813T162140Z
UID:14553-1568910600-1568919600@www.mpisd.net
SUMMARY:MPJH Volleyball
DESCRIPTION:7A\, 7B\, 8A\, 8B @ Hallsville (away)
URL:https://www.mpisd.net/event/mpjh-volleyball-5/
LOCATION:Hallsville JH\, Hallsville\, TX\, United States
CATEGORIES:Athletics,MPJH,Volleyball
ORGANIZER;CN="Ferol Holcomb":MAILTO:fholcomb@www.mpisd.net
GEO:32.504316;-94.5740934
END:VEVENT
BEGIN:VEVENT
DTSTART;VALUE=DATE:20190914
DTEND;VALUE=DATE:20190915
DTSTAMP:20260421T072207
CREATED:20190808T200607Z
LAST-MODIFIED:20190808T200607Z
UID:14401-1568419200-1568505599@www.mpisd.net
SUMMARY:JH Cross Country
DESCRIPTION:@ Hallsville Cross Country Invite
URL:https://www.mpisd.net/event/jh-cross-country-3/
LOCATION:Hallsville JH\, Hallsville\, TX\, United States
CATEGORIES:Athletics,Cross Country,MPJH
ORGANIZER;CN="Ferol Holcomb":MAILTO:fholcomb@www.mpisd.net
GEO:32.504316;-94.5740934
END:VEVENT
BEGIN:VEVENT
DTSTART;TZID=America/Chicago:20190131T170000
DTEND;TZID=America/Chicago:20190131T200000
DTSTAMP:20260421T072207
CREATED:20190110T192321Z
LAST-MODIFIED:20190110T192321Z
UID:13055-1548954000-1548964800@www.mpisd.net
SUMMARY:MPJH Basketball
DESCRIPTION:Boys 7A & 7B; 8A & 8B @ Hallsville
URL:https://www.mpisd.net/event/mpjh-basketball-4/
LOCATION:Hallsville JH\, Hallsville\, TX\, United States
CATEGORIES:Athletics,Basketball,MPJH
ORGANIZER;CN="Ferol Holcomb":MAILTO:fholcomb@www.mpisd.net
GEO:32.504316;-94.5740934
END:VEVENT
BEGIN:VEVENT
DTSTART;TZID=America/Chicago:20181213T163000
DTEND;TZID=America/Chicago:20181213T200000
DTSTAMP:20260421T072207
CREATED:20181029T201851Z
LAST-MODIFIED:20181029T201851Z
UID:12718-1544718600-1544731200@www.mpisd.net
SUMMARY:MPJH Girls Basketball
DESCRIPTION:7A & 7B\, 8A & 8B @ Hallsville
URL:https://www.mpisd.net/event/mpjh-girls-basketball-5/
LOCATION:Hallsville JH\, Hallsville\, TX\, United States
CATEGORIES:Athletics,Basketball,MPJH
ORGANIZER;CN="Ferol Holcomb":MAILTO:fholcomb@www.mpisd.net
GEO:32.504316;-94.5740934
END:VEVENT
BEGIN:VEVENT
DTSTART;VALUE=DATE:20181206
DTEND;VALUE=DATE:20181209
DTSTAMP:20260421T072207
CREATED:20181029T200747Z
LAST-MODIFIED:20181029T200747Z
UID:12710-1544054400-1544313599@www.mpisd.net
SUMMARY:MPJH Boys Basketball
DESCRIPTION:7A\, 8A & 8B @ Hallsville Tournament
URL:https://www.mpisd.net/event/mpjh-boys-basketball-4/
LOCATION:Hallsville JH\, Hallsville\, TX\, United States
CATEGORIES:Athletics,Basketball,MPJH
ORGANIZER;CN="Ferol Holcomb":MAILTO:fholcomb@www.mpisd.net
GEO:32.504316;-94.5740934
END:VEVENT
BEGIN:VEVENT
DTSTART;TZID=America/Chicago:20181025T163000
DTEND;TZID=America/Chicago:20181025T210000
DTSTAMP:20260421T072207
CREATED:20180619T152602Z
LAST-MODIFIED:20180619T152602Z
UID:11841-1540485000-1540501200@www.mpisd.net
SUMMARY:JH Volleyball: 7A7B8A8B Lady Tigers @ Hallsville*
DESCRIPTION:*District Game
URL:https://www.mpisd.net/event/jh-volleyball-7a7b8a8b-lady-tigers-hallsville/
LOCATION:Hallsville JH\, Hallsville\, TX\, United States
CATEGORIES:Athletics,MPJH,Volleyball
ORGANIZER;CN="Ferol Holcomb":MAILTO:fholcomb@www.mpisd.net
GEO:32.504316;-94.5740934
END:VEVENT
BEGIN:VEVENT
DTSTART;TZID=America/Chicago:20181023T173000
DTEND;TZID=America/Chicago:20181023T210000
DTSTAMP:20260421T072207
CREATED:20180508T185313Z
LAST-MODIFIED:20180509T135013Z
UID:11552-1540315800-1540328400@www.mpisd.net
SUMMARY:JH Football: 8th Gold/Black @ Hallsville
DESCRIPTION:Black @ 5:30 p.m. \nGold @ 7 p.m.
URL:https://www.mpisd.net/event/jh-football-8th-goldblack-hallsville/
LOCATION:Hallsville JH\, Hallsville\, TX\, United States
CATEGORIES:Athletics,Football,MPJH
ORGANIZER;CN="Ferol Holcomb":MAILTO:fholcomb@www.mpisd.net
GEO:32.504316;-94.5740934
END:VEVENT
BEGIN:VEVENT
DTSTART;TZID=America/Chicago:20181022T173000
DTEND;TZID=America/Chicago:20181022T210000
DTSTAMP:20260421T072207
CREATED:20180508T200349Z
LAST-MODIFIED:20180824T143918Z
UID:11573-1540229400-1540242000@www.mpisd.net
SUMMARY:JH Football: 7th Gold/Black @ Hallsville
DESCRIPTION:Black@ 5:30 p.m. \nGold @ 7 p.m.
URL:https://www.mpisd.net/event/jh-football-7th-goldblack-vs-hallsville/
LOCATION:Hallsville JH\, Hallsville\, TX\, United States
CATEGORIES:Athletics,Football,MPJH
ORGANIZER;CN="Ferol Holcomb":MAILTO:fholcomb@www.mpisd.net
GEO:32.504316;-94.5740934
END:VEVENT
BEGIN:VEVENT
DTSTART;TZID=America/Chicago:20180118T163000
DTEND;TZID=America/Chicago:20180118T200000
DTSTAMP:20260421T072207
CREATED:20171103T145542Z
LAST-MODIFIED:20171103T145542Z
UID:9988-1516293000-1516305600@www.mpisd.net
SUMMARY:JH Basketball: 7BA8BA Tigers @ Hallsville
DESCRIPTION:
URL:https://www.mpisd.net/event/jh-basketball-7ba8ba-tigers-hallsville/
LOCATION:Hallsville JH\, Hallsville\, TX\, United States
CATEGORIES:Athletics,Basketball,MPJH
ORGANIZER;CN="Ferol Holcomb":MAILTO:fholcomb@www.mpisd.net
GEO:32.504316;-94.5740934
END:VEVENT
BEGIN:VEVENT
DTSTART;VALUE=DATE:20171207
DTEND;VALUE=DATE:20171208
DTSTAMP:20260421T072207
CREATED:20171103T144901Z
LAST-MODIFIED:20171103T144901Z
UID:9981-1512604800-1512691199@www.mpisd.net
SUMMARY:JH Basketball: 7A8BA Tigers @ Hallsville Tourney
DESCRIPTION:
URL:https://www.mpisd.net/event/jh-basketball-7a8ba-tigers-hallsville-tourney/2017-12-07/
LOCATION:Hallsville JH\, Hallsville\, TX\, United States
CATEGORIES:Athletics,Basketball,MPJH
ORGANIZER;CN="Ferol Holcomb":MAILTO:fholcomb@www.mpisd.net
GEO:32.504316;-94.5740934
END:VEVENT
BEGIN:VEVENT
DTSTART;TZID=America/Chicago:20171116T163000
DTEND;TZID=America/Chicago:20171116T200000
DTSTAMP:20260421T072207
CREATED:20170915T153559Z
LAST-MODIFIED:20171102T162207Z
UID:9544-1510849800-1510862400@www.mpisd.net
SUMMARY:JH Basketball: 7AB8AB Lady Tigers @ Hallsville*
DESCRIPTION:
URL:https://www.mpisd.net/event/jh-basketball-7ab8ab-lady-tigers-vs-pine-tree/
LOCATION:Hallsville JH\, Hallsville\, TX\, United States
CATEGORIES:Athletics,Basketball,MPJH
ORGANIZER;CN="Ferol Holcomb":MAILTO:fholcomb@www.mpisd.net
GEO:32.504316;-94.5740934
END:VEVENT
BEGIN:VEVENT
DTSTART;TZID=America/Chicago:20171016T162500
DTEND;TZID=America/Chicago:20171016T200000
DTSTAMP:20260421T072207
CREATED:20170705T183919Z
LAST-MODIFIED:20170705T183919Z
UID:8981-1508171100-1508184000@www.mpisd.net
SUMMARY:JH Volleyball: 7AB8AB Lady Tigers @ Hallsville*
DESCRIPTION:
URL:https://www.mpisd.net/event/jh-volleyball-7ab8ab-lady-tigers-hallsville/
LOCATION:Hallsville JH\, Hallsville\, TX\, United States
CATEGORIES:Athletics,MPJH,Volleyball
ORGANIZER;CN="Ferol Holcomb":MAILTO:fholcomb@www.mpisd.net
GEO:32.504316;-94.5740934
END:VEVENT
BEGIN:VEVENT
DTSTART;TZID=America/Chicago:20170119T163000
DTEND;TZID=America/Chicago:20170119T200000
DTSTAMP:20260421T072207
CREATED:20161007T160830Z
LAST-MODIFIED:20161007T160830Z
UID:6660-1484843400-1484856000@www.mpisd.net
SUMMARY:JH Basketball: 7AB8 Lady Tigers @ Hallsville*
DESCRIPTION:*District Game
URL:https://www.mpisd.net/event/jh-basketball-7ab8-lady-tigers-hallsville/
LOCATION:Hallsville JH\, Hallsville\, TX\, United States
CATEGORIES:Athletics,Basketball,MPJH
ORGANIZER;CN="Ferol Holcomb":MAILTO:fholcomb@www.mpisd.net
GEO:32.504316;-94.5740934
END:VEVENT
BEGIN:VEVENT
DTSTART;VALUE=DATE:20161208
DTEND;VALUE=DATE:20161209
DTSTAMP:20260421T072207
CREATED:20161107T161520Z
LAST-MODIFIED:20161107T161520Z
UID:6929-1481155200-1481241599@www.mpisd.net
SUMMARY:JH Basketball: 7A8BA @ Hallsville Tourney
DESCRIPTION:
URL:https://www.mpisd.net/event/jh-basketball-7a8ba-hallsville-tourney/2016-12-08/
LOCATION:Hallsville JH\, Hallsville\, TX\, United States
CATEGORIES:Athletics,Basketball,MPJH
ORGANIZER;CN="Ferol Holcomb":MAILTO:fholcomb@www.mpisd.net
GEO:32.504316;-94.5740934
END:VEVENT
END:VCALENDAR