BEGIN:VCALENDAR
VERSION:2.0
PRODID:-//Mount Pleasant ISD - ECPv6.13.2//NONSGML v1.0//EN
CALSCALE:GREGORIAN
METHOD:PUBLISH
X-WR-CALNAME:Mount Pleasant ISD
X-ORIGINAL-URL:https://www.mpisd.net
X-WR-CALDESC:Events for Mount Pleasant ISD
REFRESH-INTERVAL;VALUE=DURATION:PT1H
X-Robots-Tag:noindex
X-PUBLISHED-TTL:PT1H
BEGIN:VTIMEZONE
TZID:America/Chicago
BEGIN:DAYLIGHT
TZOFFSETFROM:-0600
TZOFFSETTO:-0500
TZNAME:CDT
DTSTART:20180311T080000
END:DAYLIGHT
BEGIN:STANDARD
TZOFFSETFROM:-0500
TZOFFSETTO:-0600
TZNAME:CST
DTSTART:20181104T070000
END:STANDARD
END:VTIMEZONE
BEGIN:VEVENT
DTSTART;TZID=America/Chicago:20180123T180000
DTEND;TZID=America/Chicago:20180123T190000
DTSTAMP:20260423T032513
CREATED:20170821T143647Z
LAST-MODIFIED:20170821T143647Z
UID:9253-1516730400-1516734000@www.mpisd.net
SUMMARY:MPHS Chorale UIL Solo & Ensemble Recital
DESCRIPTION:
URL:https://www.mpisd.net/event/mphs-chorale-uil-solo-ensemble-recital/
LOCATION:MPHS Auditorium\, 2110  North Edwards\, Mt. Pleasant\, TX\, 75455\, United States
GEO:33.1761395;-94.9962944
X-APPLE-STRUCTURED-LOCATION;VALUE=URI;X-ADDRESS=MPHS Auditorium 2110  North Edwards Mt. Pleasant TX 75455 United States;X-APPLE-RADIUS=500;X-TITLE=2110  North Edwards:geo:-94.9962944,33.1761395
END:VEVENT
BEGIN:VEVENT
DTSTART;TZID=America/Chicago:20180124T113000
DTEND;TZID=America/Chicago:20180124T133000
DTSTAMP:20260423T032513
CREATED:20180108T162143Z
LAST-MODIFIED:20180108T162451Z
UID:10495-1516793400-1516800600@www.mpisd.net
SUMMARY:Stripes Restaurant Open
DESCRIPTION:CTE Building\, MPHS
URL:https://www.mpisd.net/event/stripes-restaurant-open-5/2018-01-24/
LOCATION:MPHS CTE Bldg\, 2110 N. Edwards\, Mt. Pleasant\, TX\, 75455\, United States
CATEGORIES:CTE,MPHS
GEO:33.1761395;-94.9962944
X-APPLE-STRUCTURED-LOCATION;VALUE=URI;X-ADDRESS=MPHS CTE Bldg 2110 N. Edwards Mt. Pleasant TX 75455 United States;X-APPLE-RADIUS=500;X-TITLE=2110 N. Edwards:geo:-94.9962944,33.1761395
END:VEVENT
BEGIN:VEVENT
DTSTART;VALUE=DATE:20180125
DTEND;VALUE=DATE:20180126
DTSTAMP:20260423T032513
CREATED:20171201T154908Z
LAST-MODIFIED:20171201T155155Z
UID:10144-1516838400-1516924799@www.mpisd.net
SUMMARY:Soccer: JV Tigers @ Pine Tree Tourney
DESCRIPTION:Tigers vs. Kilgore Thursday at 5 p.m. Rest of Games are To Be Determined
URL:https://www.mpisd.net/event/soccer-jv-tigers-pine-tree-tourney/2018-01-25/
LOCATION:Pine Tree High School\, Longview\, TX\, United States
CATEGORIES:Athletics,MPHS,Soccer
ORGANIZER;CN="Ferol Holcomb":MAILTO:fholcomb@www.mpisd.net
GEO:32.5007037;-94.7404891
END:VEVENT
BEGIN:VEVENT
DTSTART;TZID=America/Chicago:20180125T083000
DTEND;TZID=America/Chicago:20180125T123000
DTSTAMP:20260423T032513
CREATED:20180118T165820Z
LAST-MODIFIED:20180118T165820Z
UID:10603-1516869000-1516883400@www.mpisd.net
SUMMARY:Wallace UIL Ready Writing Contest
DESCRIPTION:
URL:https://www.mpisd.net/event/wallace-uil-ready-writing-contest/
LOCATION:Wallace Campus\, 504 Dunn Street\, Mt. Pleasant\, TX\, 75455\, United States
CATEGORIES:P.E. Wallace
GEO:33.1483108;-94.9532049
X-APPLE-STRUCTURED-LOCATION;VALUE=URI;X-ADDRESS=Wallace Campus 504 Dunn Street Mt. Pleasant TX 75455 United States;X-APPLE-RADIUS=500;X-TITLE=504 Dunn Street:geo:-94.9532049,33.1483108
END:VEVENT
BEGIN:VEVENT
DTSTART;TZID=America/Chicago:20180125T093000
DTEND;TZID=America/Chicago:20180125T103000
DTSTAMP:20260423T032513
CREATED:20180118T165706Z
LAST-MODIFIED:20180118T165706Z
UID:10602-1516872600-1516876200@www.mpisd.net
SUMMARY:Fowler 4th Grade Awards
DESCRIPTION:
URL:https://www.mpisd.net/event/fowler-4th-grade-awards-2/
LOCATION:Fowler Elementary School\, 502 N. O'Tyson\, Mt. Pleasant\, TX\, 75455\, United States
CATEGORIES:Vivian Fowler
GEO:33.1511075;-94.9792885
X-APPLE-STRUCTURED-LOCATION;VALUE=URI;X-ADDRESS=Fowler Elementary School 502 N. O'Tyson Mt. Pleasant TX 75455 United States;X-APPLE-RADIUS=500;X-TITLE=502 N. O'Tyson:geo:-94.9792885,33.1511075
END:VEVENT
BEGIN:VEVENT
DTSTART;TZID=America/Chicago:20180125T160000
DTEND;TZID=America/Chicago:20180125T200000
DTSTAMP:20260423T032513
CREATED:20170915T161636Z
LAST-MODIFIED:20170915T161636Z
UID:9555-1516896000-1516910400@www.mpisd.net
SUMMARY:JH Basketball: 7AB8AB Lady Tigers @ Pine Tree*
DESCRIPTION:
URL:https://www.mpisd.net/event/jh-basketball-7ab8ab-lady-tigers-pine-tree/
LOCATION:Pine Tree JH\, Longview\, TX\, United States
CATEGORIES:Athletics,Basketball,MPJH
ORGANIZER;CN="Ferol Holcomb":MAILTO:fholcomb@www.mpisd.net
GEO:32.5007037;-94.7404891
END:VEVENT
BEGIN:VEVENT
DTSTART;TZID=America/Chicago:20180125T163000
DTEND;TZID=America/Chicago:20180125T190000
DTSTAMP:20260423T032513
CREATED:20171103T145644Z
LAST-MODIFIED:20171103T145644Z
UID:9989-1516897800-1516906800@www.mpisd.net
SUMMARY:JH Basketball: 7BA8BA Tigers vs. Pine Tree
DESCRIPTION:
URL:https://www.mpisd.net/event/jh-basketball-7ba8ba-tigers-vs-pine-tree/
LOCATION:MPJHS Gym\, Mount Pleasant\, TX\, United States
CATEGORIES:Athletics,Basketball,MPJH
ORGANIZER;CN="Ferol Holcomb":MAILTO:fholcomb@www.mpisd.net
GEO:33.1567863;-94.968269
END:VEVENT
BEGIN:VEVENT
DTSTART;TZID=America/Chicago:20180125T173000
DTEND;TZID=America/Chicago:20180125T190000
DTSTAMP:20260423T032513
CREATED:20171218T211140Z
LAST-MODIFIED:20171218T211140Z
UID:10458-1516901400-1516906800@www.mpisd.net
SUMMARY:CDC: Parenting Support Group
DESCRIPTION:For parents of children with disabilities
URL:https://www.mpisd.net/event/cdc-parenting-support-group-4/
LOCATION:Child Development Center\, 1604 West Ferguson\, Mt. Pleasant\, TX\, 75455\, United States
CATEGORIES:CDC
GEO:33.1575677;-94.984749
X-APPLE-STRUCTURED-LOCATION;VALUE=URI;X-ADDRESS=Child Development Center 1604 West Ferguson Mt. Pleasant TX 75455 United States;X-APPLE-RADIUS=500;X-TITLE=1604 West Ferguson:geo:-94.984749,33.1575677
END:VEVENT
BEGIN:VEVENT
DTSTART;TZID=America/Chicago:20180125T180000
DTEND;TZID=America/Chicago:20180125T190000
DTSTAMP:20260423T032513
CREATED:20180124T150045Z
LAST-MODIFIED:20180124T150045Z
UID:10636-1516903200-1516906800@www.mpisd.net
SUMMARY:Annie Sims 2nd Grade Musical
DESCRIPTION:
URL:https://www.mpisd.net/event/annie-sims-2nd-grade-musical/
LOCATION:Annie Sims Elementary School\, 1801 E. 1st Street\, Mt. Pleasant\, TX\, 75455\, United States
CATEGORIES:Annie Sims
GEO:33.1563535;-94.945331
X-APPLE-STRUCTURED-LOCATION;VALUE=URI;X-ADDRESS=Annie Sims Elementary School 1801 E. 1st Street Mt. Pleasant TX 75455 United States;X-APPLE-RADIUS=500;X-TITLE=1801 E. 1st Street:geo:-94.945331,33.1563535
END:VEVENT
BEGIN:VEVENT
DTSTART;VALUE=DATE:20180126
DTEND;VALUE=DATE:20180127
DTSTAMP:20260423T032513
CREATED:20171218T211847Z
LAST-MODIFIED:20171218T211847Z
UID:10464-1516924800-1517011199@www.mpisd.net
SUMMARY:Staff Development Day
DESCRIPTION:Student Holiday
URL:https://www.mpisd.net/event/staff-development-day-9/
LOCATION:District-wide\, TX\, United States
CATEGORIES:District
GEO:31.9685988;-99.9018131
END:VEVENT
BEGIN:VEVENT
DTSTART;TZID=America/Chicago:20180126T070000
DTEND;TZID=America/Chicago:20180126T170000
DTSTAMP:20260423T032513
CREATED:20170606T135615Z
LAST-MODIFIED:20170606T135615Z
UID:8775-1516950000-1516986000@www.mpisd.net
SUMMARY:Staff Development Day
DESCRIPTION:Student Holiday \nPotential Bad Weather Day for students
URL:https://www.mpisd.net/event/staff-development-day-7/
LOCATION:District-wide\, TX\, United States
CATEGORIES:District
GEO:31.9685988;-99.9018131
END:VEVENT
BEGIN:VEVENT
DTSTART;TZID=America/Chicago:20180126T080000
DTEND;TZID=America/Chicago:20180126T170000
DTSTAMP:20260423T032513
CREATED:20180108T210531Z
LAST-MODIFIED:20180108T210531Z
UID:10532-1516953600-1516986000@www.mpisd.net
SUMMARY:Tiger V Tennis @ Hallsville Tourney
DESCRIPTION:
URL:https://www.mpisd.net/event/tiger-v-tennis-hallsville-tourney/
LOCATION:Hallsville HS\, Hallsville\, TX\, United States
CATEGORIES:Athletics,MPHS,Tennis
ORGANIZER;CN="Ferol Holcomb":MAILTO:fholcomb@www.mpisd.net
GEO:32.504316;-94.5740934
END:VEVENT
BEGIN:VEVENT
DTSTART;TZID=America/Chicago:20180126T080000
DTEND;TZID=America/Chicago:20180126T200000
DTSTAMP:20260423T032513
CREATED:20180109T161505Z
LAST-MODIFIED:20180109T161505Z
UID:10569-1516953600-1516996800@www.mpisd.net
SUMMARY:MPHS Band Hosts All Region Clinic & Concert
DESCRIPTION:Concert @ 2 p.m. on January 27.
URL:https://www.mpisd.net/event/mphs-band-hosts-all-region-clinic-concert/2018-01-26/
LOCATION:MPHS Auditorium\, 2110  North Edwards\, Mt. Pleasant\, TX\, 75455\, United States
CATEGORIES:Fine Arts,Goin' Gold Band,MPHS
GEO:33.1761395;-94.9962944
X-APPLE-STRUCTURED-LOCATION;VALUE=URI;X-ADDRESS=MPHS Auditorium 2110  North Edwards Mt. Pleasant TX 75455 United States;X-APPLE-RADIUS=500;X-TITLE=2110  North Edwards:geo:-94.9962944,33.1761395
END:VEVENT
BEGIN:VEVENT
DTSTART;TZID=America/Chicago:20180126T160000
DTEND;TZID=America/Chicago:20180126T210000
DTSTAMP:20260423T032513
CREATED:20180109T161645Z
LAST-MODIFIED:20180109T161645Z
UID:10571-1516982400-1517000400@www.mpisd.net
SUMMARY:MPHS Hosts UIL Academic Meet
DESCRIPTION:
URL:https://www.mpisd.net/event/mphs-hosts-uil-academic-meet-2/
LOCATION:MPHS\, Mt. Pleasant\, TX\, United States
CATEGORIES:MPHS,UIL Acadcemics
GEO:33.1567863;-94.968269
END:VEVENT
BEGIN:VEVENT
DTSTART;TZID=America/Chicago:20180126T170000
DTEND;TZID=America/Chicago:20180126T210000
DTSTAMP:20260423T032513
CREATED:20171102T160506Z
LAST-MODIFIED:20171102T160506Z
UID:9966-1516986000-1517000400@www.mpisd.net
SUMMARY:Basketball: 9th\, JV\, V Lady Tigers @ Pine Tree*
DESCRIPTION:*District Game
URL:https://www.mpisd.net/event/basketball-9th-jv-v-lady-tigers-pine-tree-2/
LOCATION:Pine Tree High School\, Longview\, TX\, United States
CATEGORIES:Athletics,Basketball,MPHS
ORGANIZER;CN="Ferol Holcomb":MAILTO:fholcomb@www.mpisd.net
GEO:32.5007037;-94.7404891
END:VEVENT
BEGIN:VEVENT
DTSTART;TZID=America/Chicago:20180126T170000
DTEND;TZID=America/Chicago:20180126T220000
DTSTAMP:20260423T032514
CREATED:20171103T184154Z
LAST-MODIFIED:20171103T184154Z
UID:10026-1516986000-1517004000@www.mpisd.net
SUMMARY:Basketball: 9th\, JV\, V Tigers vs. Pine Tree*
DESCRIPTION:
URL:https://www.mpisd.net/event/basketball-9th-jv-v-tigers-vs-pine-tree-2/
LOCATION:MPHS Willie Williams Gym\, Mt. Pleasant\, TX\, United States
CATEGORIES:Athletics,Basketball,MPHS
ORGANIZER;CN="Ferol Holcomb":MAILTO:fholcomb@www.mpisd.net
GEO:33.1567863;-94.968269
END:VEVENT
BEGIN:VEVENT
DTSTART;VALUE=DATE:20180127
DTEND;VALUE=DATE:20180128
DTSTAMP:20260423T032514
CREATED:20171211T143024Z
LAST-MODIFIED:20171211T143024Z
UID:10354-1517011200-1517097599@www.mpisd.net
SUMMARY:Powerlifting: Tigers/Lady Tigers @ Rains Meet
DESCRIPTION:
URL:https://www.mpisd.net/event/powerlifting-tigerslady-tigers-rains-meet/
LOCATION:Emory Rains HS\, Emory
CATEGORIES:Athletics,MPHS,Powerlifting
ORGANIZER;CN="Ferol Holcomb":MAILTO:fholcomb@www.mpisd.net
GEO:32.874566;-95.7655183
END:VEVENT
BEGIN:VEVENT
DTSTART;TZID=America/Chicago:20180127T080000
DTEND;TZID=America/Chicago:20180127T180000
DTSTAMP:20260423T032514
CREATED:20180109T161743Z
LAST-MODIFIED:20180109T161743Z
UID:10572-1517040000-1517076000@www.mpisd.net
SUMMARY:MPHS Hosts UIL Academic Meet
DESCRIPTION:
URL:https://www.mpisd.net/event/mphs-hosts-uil-academic-meet-3/
LOCATION:MPHS\, Mt. Pleasant\, TX\, United States
CATEGORIES:MPHS,UIL Acadcemics
GEO:33.1567863;-94.968269
END:VEVENT
BEGIN:VEVENT
DTSTART;TZID=America/Chicago:20180129T173000
DTEND;TZID=America/Chicago:20180129T183000
DTSTAMP:20260423T032514
CREATED:20180118T165527Z
LAST-MODIFIED:20180118T165527Z
UID:10601-1517247000-1517250600@www.mpisd.net
SUMMARY:Class of 2019 Parent Meeting
DESCRIPTION:To discuss prom and the Hospice Ball
URL:https://www.mpisd.net/event/class-of-2019-parent-meeting/
LOCATION:MPHS Cafeteria\, Mount Plesant\, TX\, United States
CATEGORIES:Junior Class,MPHS
GEO:33.1567863;-94.968269
END:VEVENT
BEGIN:VEVENT
DTSTART;TZID=America/Chicago:20180129T180000
DTEND;TZID=America/Chicago:20180129T200000
DTSTAMP:20260423T032514
CREATED:20171211T151831Z
LAST-MODIFIED:20180108T195417Z
UID:10374-1517248800-1517256000@www.mpisd.net
SUMMARY:Softball: JV\, V Lady Tigers @ Rains
DESCRIPTION:
URL:https://www.mpisd.net/event/softball-jv-v-lady-tigers-rains/
LOCATION:Emory Rains HS\, Emory
CATEGORIES:Athletics,MPHS,Softball
ORGANIZER;CN="Ferol Holcomb":MAILTO:fholcomb@www.mpisd.net
GEO:32.874566;-95.7655183
END:VEVENT
BEGIN:VEVENT
DTSTART;TZID=America/Chicago:20180130T080000
DTEND;TZID=America/Chicago:20180130T160000
DTSTAMP:20260423T032514
CREATED:20170913T205543Z
LAST-MODIFIED:20170913T205543Z
UID:9465-1517299200-1517328000@www.mpisd.net
SUMMARY:MPHS Carter Blood Drive
DESCRIPTION:
URL:https://www.mpisd.net/event/mphs-carter-blood-drive-2/
LOCATION:MPHS Practice Gym\, 2110 N. Edwards\, Mt. Pleasant\, TX\, 75455\, United States
CATEGORIES:MPHS
GEO:33.1761395;-94.9962944
X-APPLE-STRUCTURED-LOCATION;VALUE=URI;X-ADDRESS=MPHS Practice Gym 2110 N. Edwards Mt. Pleasant TX 75455 United States;X-APPLE-RADIUS=500;X-TITLE=2110 N. Edwards:geo:-94.9962944,33.1761395
END:VEVENT
BEGIN:VEVENT
DTSTART;TZID=America/Chicago:20180130T080000
DTEND;TZID=America/Chicago:20180130T170000
DTSTAMP:20260423T032514
CREATED:20180108T211539Z
LAST-MODIFIED:20180108T211539Z
UID:10543-1517299200-1517331600@www.mpisd.net
SUMMARY:Tiger JV Tennis @ Hallsville Tourney
DESCRIPTION:
URL:https://www.mpisd.net/event/tiger-jv-tennis-hallsville-tourney/
LOCATION:Hallsville HS\, Hallsville\, TX\, United States
CATEGORIES:Athletics,MPHS,Tennis
ORGANIZER;CN="Ferol Holcomb":MAILTO:fholcomb@www.mpisd.net
GEO:32.504316;-94.5740934
END:VEVENT
BEGIN:VEVENT
DTSTART;TZID=America/Chicago:20180130T170000
DTEND;TZID=America/Chicago:20180130T200000
DTSTAMP:20260423T032514
CREATED:20171211T145025Z
LAST-MODIFIED:20171211T145025Z
UID:10366-1517331600-1517342400@www.mpisd.net
SUMMARY:Softball: JV\, V Lady Tigers vs. Rains (Scrimmage)
DESCRIPTION:
URL:https://www.mpisd.net/event/softball-jv-v-lady-tigers-vs-rains-scrimmage/
LOCATION:MPHS Softball Field\, Mt. Pleasant\, TX\, 75455\, United States
CATEGORIES:Athletics,MPHS,Softball
ORGANIZER;CN="Ferol Holcomb":MAILTO:fholcomb@www.mpisd.net
GEO:33.1567863;-94.968269
END:VEVENT
BEGIN:VEVENT
DTSTART;TZID=America/Chicago:20180130T170000
DTEND;TZID=America/Chicago:20180130T210000
DTSTAMP:20260423T032514
CREATED:20171102T161045Z
LAST-MODIFIED:20171102T161045Z
UID:9967-1517331600-1517346000@www.mpisd.net
SUMMARY:Basketball: 9th\, JV\, V Lady Tigers vs. Marshall*
DESCRIPTION:
URL:https://www.mpisd.net/event/basketball-9th-jv-v-lady-tigers-vs-marshall-2/
LOCATION:MPHS Willie Williams Gym\, Mt. Pleasant\, TX\, United States
CATEGORIES:Athletics,Basketball,MPHS
ORGANIZER;CN="Ferol Holcomb":MAILTO:fholcomb@www.mpisd.net
GEO:33.1567863;-94.968269
END:VEVENT
BEGIN:VEVENT
DTSTART;TZID=America/Chicago:20180130T170000
DTEND;TZID=America/Chicago:20180130T220000
DTSTAMP:20260423T032514
CREATED:20171103T185102Z
LAST-MODIFIED:20171103T185102Z
UID:10027-1517331600-1517349600@www.mpisd.net
SUMMARY:Basketball: 9th\, JV\, V Tigers @ Marshall*
DESCRIPTION:
URL:https://www.mpisd.net/event/basketball-9th-jv-v-tigers-marshall-3/
LOCATION:Marshall HS\, Marshall\, TX\, United States
CATEGORIES:Athletics,Basketball,MPHS
ORGANIZER;CN="Ferol Holcomb":MAILTO:fholcomb@www.mpisd.net
GEO:32.5448714;-94.3674184
END:VEVENT
BEGIN:VEVENT
DTSTART;TZID=America/Chicago:20180130T173000
DTEND;TZID=America/Chicago:20180130T193000
DTSTAMP:20260423T032514
CREATED:20171218T211254Z
LAST-MODIFIED:20171218T211254Z
UID:10459-1517333400-1517340600@www.mpisd.net
SUMMARY:CDC: Fatherhood Night
DESCRIPTION:
URL:https://www.mpisd.net/event/cdc-fatherhood-night-13/
LOCATION:Child Development Center\, 1604 West Ferguson\, Mt. Pleasant\, TX\, 75455\, United States
CATEGORIES:CDC
GEO:33.1575677;-94.984749
X-APPLE-STRUCTURED-LOCATION;VALUE=URI;X-ADDRESS=Child Development Center 1604 West Ferguson Mt. Pleasant TX 75455 United States;X-APPLE-RADIUS=500;X-TITLE=1604 West Ferguson:geo:-94.984749,33.1575677
END:VEVENT
BEGIN:VEVENT
DTSTART;TZID=America/Chicago:20180131T090000
DTEND;TZID=America/Chicago:20180131T120000
DTSTAMP:20260423T032514
CREATED:20180108T195746Z
LAST-MODIFIED:20180108T201314Z
UID:10513-1517389200-1517400000@www.mpisd.net
SUMMARY:Boys JV Golf @ Pine Tree Meet
DESCRIPTION:
URL:https://www.mpisd.net/event/boys-jv-golf-vs-pine-tree/
LOCATION:Wood Hollow Golf Club\, TX\, United States
CATEGORIES:Athletics,Golf,MPHS
ORGANIZER;CN="Ferol Holcomb":MAILTO:fholcomb@www.mpisd.net
GEO:31.9685988;-99.9018131
END:VEVENT
BEGIN:VEVENT
DTSTART;TZID=America/Chicago:20180131T143000
DTEND;TZID=America/Chicago:20180131T170000
DTSTAMP:20260423T032514
CREATED:20171218T211357Z
LAST-MODIFIED:20171218T211357Z
UID:10460-1517409000-1517418000@www.mpisd.net
SUMMARY:CDC: Parent Involvement @ Pilgrims
DESCRIPTION:
URL:https://www.mpisd.net/event/cdc-parent-involvement-pilgrims-30/
LOCATION:Pilgrims Pride\, Mt. Pleasant\, TX\, United States
CATEGORIES:CDC
GEO:33.1567863;-94.968269
END:VEVENT
BEGIN:VEVENT
DTSTART;VALUE=DATE:20180201
DTEND;VALUE=DATE:20180202
DTSTAMP:20260423T032514
CREATED:20180124T150143Z
LAST-MODIFIED:20180124T150143Z
UID:10637-1517443200-1517529599@www.mpisd.net
SUMMARY:Annie Sims Group Pictures
DESCRIPTION:By Shutter snapper
URL:https://www.mpisd.net/event/annie-sims-group-pictures/
LOCATION:Annie Sims Elementary School\, 1801 E. 1st Street\, Mt. Pleasant\, TX\, 75455\, United States
CATEGORIES:Annie Sims
GEO:33.1563535;-94.945331
X-APPLE-STRUCTURED-LOCATION;VALUE=URI;X-ADDRESS=Annie Sims Elementary School 1801 E. 1st Street Mt. Pleasant TX 75455 United States;X-APPLE-RADIUS=500;X-TITLE=1801 E. 1st Street:geo:-94.945331,33.1563535
END:VEVENT
BEGIN:VEVENT
DTSTART;TZID=America/Chicago:20180201T073000
DTEND;TZID=America/Chicago:20180201T080000
DTSTAMP:20260423T032514
CREATED:20180124T150522Z
LAST-MODIFIED:20180124T150522Z
UID:10638-1517470200-1517472000@www.mpisd.net
SUMMARY:CDC Early Head Start Parent Break
DESCRIPTION:
URL:https://www.mpisd.net/event/cdc-early-head-start-parent-break-14/
LOCATION:Child Development Center\, 1604 West Ferguson\, Mt. Pleasant\, TX\, 75455\, United States
CATEGORIES:CDC
GEO:33.1575677;-94.984749
X-APPLE-STRUCTURED-LOCATION;VALUE=URI;X-ADDRESS=Child Development Center 1604 West Ferguson Mt. Pleasant TX 75455 United States;X-APPLE-RADIUS=500;X-TITLE=1604 West Ferguson:geo:-94.984749,33.1575677
END:VEVENT
END:VCALENDAR