BEGIN:VCALENDAR
VERSION:2.0
PRODID:-//Mount Pleasant ISD - ECPv6.13.2//NONSGML v1.0//EN
CALSCALE:GREGORIAN
METHOD:PUBLISH
X-WR-CALNAME:Mount Pleasant ISD
X-ORIGINAL-URL:https://www.mpisd.net
X-WR-CALDESC:Events for Mount Pleasant ISD
REFRESH-INTERVAL;VALUE=DURATION:PT1H
X-Robots-Tag:noindex
X-PUBLISHED-TTL:PT1H
BEGIN:VTIMEZONE
TZID:America/Chicago
BEGIN:DAYLIGHT
TZOFFSETFROM:-0600
TZOFFSETTO:-0500
TZNAME:CDT
DTSTART:20180311T080000
END:DAYLIGHT
BEGIN:STANDARD
TZOFFSETFROM:-0500
TZOFFSETTO:-0600
TZNAME:CST
DTSTART:20181104T070000
END:STANDARD
END:VTIMEZONE
BEGIN:VEVENT
DTSTART;TZID=America/Chicago:20180116T173000
DTEND;TZID=America/Chicago:20180116T210000
DTSTAMP:20260421T043645
CREATED:20171201T170756Z
LAST-MODIFIED:20171201T170756Z
UID:10183-1516123800-1516136400@www.mpisd.net
SUMMARY:Soccer: Lady Tigers vs. North Lamar
DESCRIPTION:Games @ 5:30 p.m. & 7 p.m.
URL:https://www.mpisd.net/event/soccer-lady-tigers-vs-north-lamar/
LOCATION:Sam Parker Field\, 2020 N. Edwards Ave.\, Mt. Pleasant\, TX\, 75455\, United States
CATEGORIES:Athletics,MPHS,Soccer
ORGANIZER;CN="Ferol Holcomb":MAILTO:fholcomb@www.mpisd.net
GEO:33.1760387;-94.9891847
X-APPLE-STRUCTURED-LOCATION;VALUE=URI;X-ADDRESS=Sam Parker Field 2020 N. Edwards Ave. Mt. Pleasant TX 75455 United States;X-APPLE-RADIUS=500;X-TITLE=2020 N. Edwards Ave.:geo:-94.9891847,33.1760387
END:VEVENT
BEGIN:VEVENT
DTSTART;TZID=America/Chicago:20180116T173000
DTEND;TZID=America/Chicago:20180116T193000
DTSTAMP:20260421T043645
CREATED:20180108T142847Z
LAST-MODIFIED:20180108T142847Z
UID:10493-1516123800-1516131000@www.mpisd.net
SUMMARY:Wallace  Science Fair
DESCRIPTION:
URL:https://www.mpisd.net/event/wallace-science-fair/
LOCATION:Wallace Campus\, 504 Dunn Street\, Mt. Pleasant\, TX\, 75455\, United States
CATEGORIES:P.E. Wallace
GEO:33.1483108;-94.9532049
X-APPLE-STRUCTURED-LOCATION;VALUE=URI;X-ADDRESS=Wallace Campus 504 Dunn Street Mt. Pleasant TX 75455 United States;X-APPLE-RADIUS=500;X-TITLE=504 Dunn Street:geo:-94.9532049,33.1483108
END:VEVENT
BEGIN:VEVENT
DTSTART;TZID=America/Chicago:20180116T170000
DTEND;TZID=America/Chicago:20180116T180000
DTSTAMP:20260421T043645
CREATED:20170914T161751Z
LAST-MODIFIED:20170914T161751Z
UID:9488-1516122000-1516125600@www.mpisd.net
SUMMARY:MPISD Board Agenda Review
DESCRIPTION:
URL:https://www.mpisd.net/event/mpisd-board-agenda-review-3/
LOCATION:MPISD Administration Building\, 2230 North Edwards\, Mt. Pleasant\, TX\, 75455\, United States
CATEGORIES:Board of Trustees
GEO:33.1769722;-94.9972873
X-APPLE-STRUCTURED-LOCATION;VALUE=URI;X-ADDRESS=MPISD Administration Building 2230 North Edwards Mt. Pleasant TX 75455 United States;X-APPLE-RADIUS=500;X-TITLE=2230 North Edwards:geo:-94.9972873,33.1769722
END:VEVENT
BEGIN:VEVENT
DTSTART;TZID=America/Chicago:20180116T120000
DTEND;TZID=America/Chicago:20180116T130000
DTSTAMP:20260421T043645
CREATED:20171218T210048Z
LAST-MODIFIED:20171218T210048Z
UID:10447-1516104000-1516107600@www.mpisd.net
SUMMARY:CDC: Policy Council
DESCRIPTION:
URL:https://www.mpisd.net/event/cdc-policy-council-16/
LOCATION:Child Development Center\, 1604 West Ferguson\, Mt. Pleasant\, TX\, 75455\, United States
CATEGORIES:CDC
GEO:33.1575677;-94.984749
X-APPLE-STRUCTURED-LOCATION;VALUE=URI;X-ADDRESS=Child Development Center 1604 West Ferguson Mt. Pleasant TX 75455 United States;X-APPLE-RADIUS=500;X-TITLE=1604 West Ferguson:geo:-94.984749,33.1575677
END:VEVENT
BEGIN:VEVENT
DTSTART;VALUE=DATE:20180115
DTEND;VALUE=DATE:20180116
DTSTAMP:20260421T043645
CREATED:20170606T135712Z
LAST-MODIFIED:20170606T135712Z
UID:8776-1515974400-1516060799@www.mpisd.net
SUMMARY:MLK Day Holiday
DESCRIPTION:All campuses and offices closed
URL:https://www.mpisd.net/event/mlk-day-holiday/
LOCATION:District-wide\, TX\, United States
CATEGORIES:District
GEO:31.9685988;-99.9018131
END:VEVENT
BEGIN:VEVENT
DTSTART;TZID=America/Chicago:20180113T120000
DTEND;TZID=America/Chicago:20180113T150000
DTSTAMP:20260421T043645
CREATED:20171130T214211Z
LAST-MODIFIED:20171130T214211Z
UID:10136-1515844800-1515855600@www.mpisd.net
SUMMARY:Soccer: Tigers @ Wylie Tourney: V Tigers vs. Liberty
DESCRIPTION:
URL:https://www.mpisd.net/event/soccer-tigers-wylie-tourney-v-tigers-vs-liberty/
LOCATION:Wylie Stadium\, Wylie\, TX\, United States
CATEGORIES:Athletics,MPHS,Soccer
ORGANIZER;CN="Ferol Holcomb":MAILTO:fholcomb@www.mpisd.net
END:VEVENT
BEGIN:VEVENT
DTSTART;TZID=America/Chicago:20180113T110000
DTEND;TZID=America/Chicago:20180113T130000
DTSTAMP:20260421T043645
CREATED:20171201T170523Z
LAST-MODIFIED:20171201T170652Z
UID:10181-1515841200-1515848400@www.mpisd.net
SUMMARY:Soccer: Lady Tigers @ Hallsville Tourney: vs. Pleasant Grove
DESCRIPTION:
URL:https://www.mpisd.net/event/soccer-lady-tigers-hallsville-tourney-vs-pleasant-grove/
LOCATION:Hallsville HS\, Hallsville\, TX\, United States
CATEGORIES:Athletics,MPHS,Soccer
ORGANIZER;CN="Ferol Holcomb":MAILTO:fholcomb@www.mpisd.net
GEO:32.504316;-94.5740934
END:VEVENT
BEGIN:VEVENT
DTSTART;TZID=America/Chicago:20180113T080000
DTEND;TZID=America/Chicago:20180113T110000
DTSTAMP:20260421T043645
CREATED:20171130T214309Z
LAST-MODIFIED:20171130T214309Z
UID:10137-1515830400-1515841200@www.mpisd.net
SUMMARY:Soccer: Tigers @ Wylie Tourney: JV Tigers vs. Liberty
DESCRIPTION:
URL:https://www.mpisd.net/event/soccer-tigers-wylie-tourney-jv-tigers-vs-liberty/
LOCATION:Wylie East\, Wylie\, TX\, United States
CATEGORIES:Athletics,MPHS,Soccer
ORGANIZER;CN="Ferol Holcomb":MAILTO:fholcomb@www.mpisd.net
GEO:33.0151201;-96.5388789
END:VEVENT
BEGIN:VEVENT
DTSTART;VALUE=DATE:20180113
DTEND;VALUE=DATE:20180114
DTSTAMP:20260421T043645
CREATED:20171211T142738Z
LAST-MODIFIED:20171211T142738Z
UID:10353-1515801600-1515887999@www.mpisd.net
SUMMARY:Powerlifting: Tigers/Lady Tigers @Sulphur Springs Meet
DESCRIPTION:
URL:https://www.mpisd.net/event/powerlifting-tigerslady-tigers-sulphur-springs-meet/
LOCATION:Sulphur Springs HS\, Sulphur Springs\, TX\, United States
CATEGORIES:Athletics,MPHS,Powerlifting
ORGANIZER;CN="Ferol Holcomb":MAILTO:fholcomb@www.mpisd.net
GEO:33.1384479;-95.6010668
END:VEVENT
BEGIN:VEVENT
DTSTART;VALUE=DATE:20180113
DTEND;VALUE=DATE:20180114
DTSTAMP:20260421T043645
CREATED:20170915T161342Z
LAST-MODIFIED:20170915T161342Z
UID:9552-1515801600-1515887999@www.mpisd.net
SUMMARY:JH Basketball: 7A8A Lady Tigers @ North Lamar Tourney
DESCRIPTION:
URL:https://www.mpisd.net/event/jh-basketball-7a8a-lady-tigers-north-lamar-tourney-2/
LOCATION:North Lamar JH\, Paris\, TX\, United States
CATEGORIES:Athletics,Basketball,MPJH
ORGANIZER;CN="Ferol Holcomb":MAILTO:fholcomb@www.mpisd.net
GEO:33.6609389;-95.555513
END:VEVENT
BEGIN:VEVENT
DTSTART;TZID=America/Chicago:20180112T180000
DTEND;TZID=America/Chicago:20180112T210000
DTSTAMP:20260421T043645
CREATED:20171130T214048Z
LAST-MODIFIED:20171130T214048Z
UID:10135-1515780000-1515790800@www.mpisd.net
SUMMARY:Soccer: Tigers @ Wylie Tourney: JV Tigers vs. Waco
DESCRIPTION:
URL:https://www.mpisd.net/event/soccer-tigers-wylie-tourney-jv-tigers-vs-waco/
LOCATION:Wylie East\, Wylie\, TX\, United States
CATEGORIES:Athletics,MPHS,Soccer
ORGANIZER;CN="Ferol Holcomb":MAILTO:fholcomb@www.mpisd.net
GEO:33.0151201;-96.5388789
END:VEVENT
BEGIN:VEVENT
DTSTART;TZID=America/Chicago:20180112T170000
DTEND;TZID=America/Chicago:20180112T220000
DTSTAMP:20260421T043645
CREATED:20171103T183830Z
LAST-MODIFIED:20171103T183830Z
UID:10023-1515776400-1515794400@www.mpisd.net
SUMMARY:Basketball: 9th\, JV\, V Tigers vs. Sulphur Springs*
DESCRIPTION:*District Game
URL:https://www.mpisd.net/event/basketball-9th-jv-v-tigers-vs-sulphur-springs-2/
LOCATION:MPHS Willie Williams Gym\, Mt. Pleasant\, TX\, United States
CATEGORIES:Athletics,Basketball,MPHS
ORGANIZER;CN="Ferol Holcomb":MAILTO:fholcomb@www.mpisd.net
GEO:33.1567863;-94.968269
END:VEVENT
BEGIN:VEVENT
DTSTART;TZID=America/Chicago:20180112T170000
DTEND;TZID=America/Chicago:20180112T210000
DTSTAMP:20260421T043645
CREATED:20171102T155822Z
LAST-MODIFIED:20171102T155822Z
UID:9963-1515776400-1515790800@www.mpisd.net
SUMMARY:Basketball: 9th\, JV\, V Lady Tigers @ Sulphur Springs*
DESCRIPTION:*District Game
URL:https://www.mpisd.net/event/basketball-9th-jv-v-lady-tigers-sulphur-springs-2/
LOCATION:Sulphur Springs HS\, Sulphur Springs\, TX\, United States
CATEGORIES:Athletics,Basketball,MPHS
ORGANIZER;CN="Ferol Holcomb":MAILTO:fholcomb@www.mpisd.net
GEO:33.1384479;-95.6010668
END:VEVENT
BEGIN:VEVENT
DTSTART;TZID=America/Chicago:20180112T130000
DTEND;TZID=America/Chicago:20180112T160000
DTSTAMP:20260421T043645
CREATED:20171201T170412Z
LAST-MODIFIED:20171201T170412Z
UID:10180-1515762000-1515772800@www.mpisd.net
SUMMARY:Soccer: Lady Tigers @ Hallsville Tourney: vs. Wylie East
DESCRIPTION:
URL:https://www.mpisd.net/event/soccer-lady-tigers-hallsville-tourney-vs-wylie-east/
LOCATION:Hallsville HS\, Hallsville\, TX\, United States
CATEGORIES:Athletics,MPHS,Soccer
ORGANIZER;CN="Ferol Holcomb":MAILTO:fholcomb@www.mpisd.net
GEO:32.504316;-94.5740934
END:VEVENT
BEGIN:VEVENT
DTSTART;TZID=America/Chicago:20180112T080000
DTEND;TZID=America/Chicago:20180112T110000
DTSTAMP:20260421T043645
CREATED:20171130T213934Z
LAST-MODIFIED:20171130T213934Z
UID:10134-1515744000-1515754800@www.mpisd.net
SUMMARY:Soccer: Tigers @ Wylie Tourney: V Tigers vs. Wylie East
DESCRIPTION:
URL:https://www.mpisd.net/event/soccer-tigers-wylie-tourney-v-tigers-vs-wylie-east/
LOCATION:Wylie East\, Wylie\, TX\, United States
CATEGORIES:Athletics,MPHS,Soccer
ORGANIZER;CN="Ferol Holcomb":MAILTO:fholcomb@www.mpisd.net
GEO:33.0151201;-96.5388789
END:VEVENT
BEGIN:VEVENT
DTSTART;TZID=America/Chicago:20180112T073000
DTEND;TZID=America/Chicago:20180112T203000
DTSTAMP:20260421T043645
CREATED:20171218T205945Z
LAST-MODIFIED:20171218T205945Z
UID:10445-1515742200-1515789000@www.mpisd.net
SUMMARY:CDC: Head Start Parent Break
DESCRIPTION:
URL:https://www.mpisd.net/event/cdc-head-start-parent-break-12/
LOCATION:Child Development Center\, 1604 West Ferguson\, Mt. Pleasant\, TX\, 75455\, United States
CATEGORIES:CDC
GEO:33.1575677;-94.984749
X-APPLE-STRUCTURED-LOCATION;VALUE=URI;X-ADDRESS=Child Development Center 1604 West Ferguson Mt. Pleasant TX 75455 United States;X-APPLE-RADIUS=500;X-TITLE=1604 West Ferguson:geo:-94.984749,33.1575677
END:VEVENT
BEGIN:VEVENT
DTSTART;VALUE=DATE:20180112
DTEND;VALUE=DATE:20180113
DTSTAMP:20260421T043645
CREATED:20171103T145425Z
LAST-MODIFIED:20171103T145425Z
UID:9985-1515715200-1515801599@www.mpisd.net
SUMMARY:JH Basketball: 7A8A Tigers @ Idabel\, OK Tourney
DESCRIPTION:
URL:https://www.mpisd.net/event/jh-basketball-7a8a-tigers-idabel-ok-tourney-2/2018-01-12/
LOCATION:Idabel\, OK HS\, Idabel\, OK\, United States
CATEGORIES:Athletics,Basketball,MPJH
ORGANIZER;CN="Ferol Holcomb":MAILTO:fholcomb@www.mpisd.net
GEO:33.8956647;-94.8263281
END:VEVENT
BEGIN:VEVENT
DTSTART;TZID=America/Chicago:20180111T170000
DTEND;TZID=America/Chicago:20180111T210000
DTSTAMP:20260421T043645
CREATED:20171130T213745Z
LAST-MODIFIED:20171130T213745Z
UID:10132-1515690000-1515704400@www.mpisd.net
SUMMARY:Soccer: Tigers @ Wylie Tourney: JV Tigers vs. Wylie
DESCRIPTION:
URL:https://www.mpisd.net/event/soccer-tigers-wylie-tourney-jv-tigers-vs-wylie/
LOCATION:Wylie East\, Wylie\, TX\, United States
CATEGORIES:Athletics,MPHS,Soccer
ORGANIZER;CN="Ferol Holcomb":MAILTO:fholcomb@www.mpisd.net
GEO:33.0151201;-96.5388789
END:VEVENT
BEGIN:VEVENT
DTSTART;TZID=America/Chicago:20180111T163000
DTEND;TZID=America/Chicago:20180111T200000
DTSTAMP:20260421T043645
CREATED:20171103T145143Z
LAST-MODIFIED:20171103T145143Z
UID:9984-1515688200-1515700800@www.mpisd.net
SUMMARY:JH Basketball: 7BA8BA Tigers @ Greenville
DESCRIPTION:
URL:https://www.mpisd.net/event/jh-basketball-7ba8ba-tigers-greenville/
LOCATION:Greenville HS\, Greenville\, TX\, United States
CATEGORIES:Athletics,Basketball,MPJH
ORGANIZER;CN="Ferol Holcomb":MAILTO:fholcomb@www.mpisd.net
GEO:33.1384488;-96.1108066
END:VEVENT
BEGIN:VEVENT
DTSTART;TZID=America/Chicago:20180111T160000
DTEND;TZID=America/Chicago:20180111T200000
DTSTAMP:20260421T043645
CREATED:20170915T161224Z
LAST-MODIFIED:20170915T161224Z
UID:9550-1515686400-1515700800@www.mpisd.net
SUMMARY:JH Basketball: 7AB8AB Lady Tigers vs. Greenville*
DESCRIPTION:
URL:https://www.mpisd.net/event/jh-basketball-7ab8ab-lady-tigers-vs-greenville/
LOCATION:MPJHS Gym\, Mount Pleasant\, TX\, United States
CATEGORIES:Athletics,Basketball,MPJH
ORGANIZER;CN="Ferol Holcomb":MAILTO:fholcomb@www.mpisd.net
GEO:33.1567863;-94.968269
END:VEVENT
BEGIN:VEVENT
DTSTART;TZID=America/Chicago:20180111T110000
DTEND;TZID=America/Chicago:20180111T130000
DTSTAMP:20260421T043645
CREATED:20171201T170306Z
LAST-MODIFIED:20171201T170306Z
UID:10175-1515668400-1515675600@www.mpisd.net
SUMMARY:Soccer: Lady Tigers @ Hallsville Tourney: vs. Lindale
DESCRIPTION:
URL:https://www.mpisd.net/event/soccer-lady-tigers-hallsville-tourney-vs-lindale/
LOCATION:Hallsville HS\, Hallsville\, TX\, United States
CATEGORIES:Athletics,MPHS,Soccer
ORGANIZER;CN="Ferol Holcomb":MAILTO:fholcomb@www.mpisd.net
GEO:32.504316;-94.5740934
END:VEVENT
BEGIN:VEVENT
DTSTART;TZID=America/Chicago:20180111T080000
DTEND;TZID=America/Chicago:20180111T230000
DTSTAMP:20260421T043645
CREATED:20171130T213616Z
LAST-MODIFIED:20171130T213616Z
UID:10130-1515657600-1515711600@www.mpisd.net
SUMMARY:Soccer: Tigers @ Wylie Tourney: V Tigers vs. Wylie
DESCRIPTION:Game will be played at Wylie Stadium
URL:https://www.mpisd.net/event/soccer-tigers-wylie-tourney-v-tigers-vs-wylie/
LOCATION:Wylie Stadium\, Wylie\, TX\, United States
CATEGORIES:Athletics,MPHS,Soccer
ORGANIZER;CN="Ferol Holcomb":MAILTO:fholcomb@www.mpisd.net
END:VEVENT
BEGIN:VEVENT
DTSTART;TZID=America/Chicago:20180111T074500
DTEND;TZID=America/Chicago:20180111T081500
DTSTAMP:20260421T043645
CREATED:20171201T190409Z
LAST-MODIFIED:20171201T190409Z
UID:10221-1515656700-1515658500@www.mpisd.net
SUMMARY:MPHS NHS Meeting
DESCRIPTION:
URL:https://www.mpisd.net/event/mphs-nhs-meeting-10/
LOCATION:MPHS Auditorium\, 2110  North Edwards\, Mt. Pleasant\, TX\, 75455\, United States
CATEGORIES:MPHS
GEO:33.1761395;-94.9962944
X-APPLE-STRUCTURED-LOCATION;VALUE=URI;X-ADDRESS=MPHS Auditorium 2110  North Edwards Mt. Pleasant TX 75455 United States;X-APPLE-RADIUS=500;X-TITLE=2110  North Edwards:geo:-94.9962944,33.1761395
END:VEVENT
BEGIN:VEVENT
DTSTART;TZID=America/Chicago:20180111T073000
DTEND;TZID=America/Chicago:20180111T083000
DTSTAMP:20260421T043645
CREATED:20171218T205841Z
LAST-MODIFIED:20171218T205841Z
UID:10444-1515655800-1515659400@www.mpisd.net
SUMMARY:CDC: Early Head Start Parent Break
DESCRIPTION:
URL:https://www.mpisd.net/event/cdc-early-head-start-parent-break-13/
LOCATION:Child Development Center\, 1604 West Ferguson\, Mt. Pleasant\, TX\, 75455\, United States
CATEGORIES:CDC
GEO:33.1575677;-94.984749
X-APPLE-STRUCTURED-LOCATION;VALUE=URI;X-ADDRESS=Child Development Center 1604 West Ferguson Mt. Pleasant TX 75455 United States;X-APPLE-RADIUS=500;X-TITLE=1604 West Ferguson:geo:-94.984749,33.1575677
END:VEVENT
BEGIN:VEVENT
DTSTART;VALUE=DATE:20180111
DTEND;VALUE=DATE:20180112
DTSTAMP:20260421T043645
CREATED:20171002T171329Z
LAST-MODIFIED:20171002T171329Z
UID:9674-1515628800-1515715199@www.mpisd.net
SUMMARY:Elementary Report Cards
DESCRIPTION:Elementary SChool report cards will be sent home
URL:https://www.mpisd.net/event/elementary-report-cards-2/
LOCATION:Elementary Schools\, Mt. Pleasant
CATEGORIES:Annie Sims,E.C. Brice,Frances Corprew,Vivian Fowler
GEO:32.8323225;-79.8284258
END:VEVENT
BEGIN:VEVENT
DTSTART;TZID=America/Chicago:20180109T173000
DTEND;TZID=America/Chicago:20180109T210000
DTSTAMP:20260421T043645
CREATED:20171201T163139Z
LAST-MODIFIED:20171201T163139Z
UID:10174-1515519000-1515531600@www.mpisd.net
SUMMARY:Soccer: Lady Tigers @ Pittsburg
DESCRIPTION:Games @ 5:30 p.m. & 7 p.m.
URL:https://www.mpisd.net/event/soccer-lady-tigers-pittsburg/
LOCATION:Pittsburg HS\, Pittsburg\, TX\, United States
CATEGORIES:Athletics,MPHS,Soccer
ORGANIZER;CN="Ferol Holcomb":MAILTO:fholcomb@www.mpisd.net
GEO:32.9954021;-94.9657688
END:VEVENT
BEGIN:VEVENT
DTSTART;TZID=America/Chicago:20180109T170000
DTEND;TZID=America/Chicago:20180109T220000
DTSTAMP:20260421T043645
CREATED:20171103T183723Z
LAST-MODIFIED:20171103T183723Z
UID:10022-1515517200-1515535200@www.mpisd.net
SUMMARY:Basketball: 9th\, JV\, V Tigers @ Texas High*
DESCRIPTION:
URL:https://www.mpisd.net/event/basketball-9th-jv-v-tigers-texas-high-2/
LOCATION:Texas High School\, Texarkana\, TX\, United States
CATEGORIES:Athletics,Basketball,MPHS
ORGANIZER;CN="Ferol Holcomb":MAILTO:fholcomb@www.mpisd.net
GEO:33.425125;-94.0476882
END:VEVENT
BEGIN:VEVENT
DTSTART;TZID=America/Chicago:20180109T170000
DTEND;TZID=America/Chicago:20180109T210000
DTSTAMP:20260421T043645
CREATED:20171102T155553Z
LAST-MODIFIED:20171102T155553Z
UID:9962-1515517200-1515531600@www.mpisd.net
SUMMARY:Basketball: 9th\, JV\, V Lady Tigers vs. Texas High*
DESCRIPTION:*District Game
URL:https://www.mpisd.net/event/basketball-9th-jv-v-lady-tigers-vs-texas-high/
LOCATION:MPHS Willie Williams Gym\, Mt. Pleasant\, TX\, United States
CATEGORIES:Athletics,Basketball,MPHS
ORGANIZER;CN="Ferol Holcomb":MAILTO:fholcomb@www.mpisd.net
GEO:33.1567863;-94.968269
END:VEVENT
BEGIN:VEVENT
DTSTART;TZID=America/Chicago:20180109T160000
DTEND;TZID=America/Chicago:20180109T180000
DTSTAMP:20260421T043645
CREATED:20171218T155727Z
LAST-MODIFIED:20171218T155727Z
UID:10440-1515513600-1515520800@www.mpisd.net
SUMMARY:Fowler Elementary 2nd Grade Parent Night
DESCRIPTION:
URL:https://www.mpisd.net/event/fowler-elementary-2nd-grade-parent-night/
LOCATION:Fowler Elementary School\, 502 N. O'Tyson\, Mt. Pleasant\, TX\, 75455\, United States
CATEGORIES:Vivian Fowler
GEO:33.1511075;-94.9792885
X-APPLE-STRUCTURED-LOCATION;VALUE=URI;X-ADDRESS=Fowler Elementary School 502 N. O'Tyson Mt. Pleasant TX 75455 United States;X-APPLE-RADIUS=500;X-TITLE=502 N. O'Tyson:geo:-94.9792885,33.1511075
END:VEVENT
BEGIN:VEVENT
DTSTART;TZID=America/Chicago:20180109T155000
DTEND;TZID=America/Chicago:20180109T173000
DTSTAMP:20260421T043645
CREATED:20171002T202422Z
LAST-MODIFIED:20171002T202422Z
UID:9719-1515513000-1515519000@www.mpisd.net
SUMMARY:MPHS HOSA Work Night
DESCRIPTION:To prepare for area competition
URL:https://www.mpisd.net/event/mphs-hosa-work-night/2018-01-09/
LOCATION:MPHS CTE Bldg\, 2110 N. Edwards\, Mt. Pleasant\, TX\, 75455\, United States
CATEGORIES:CTE,MPHS
GEO:33.1761395;-94.9962944
X-APPLE-STRUCTURED-LOCATION;VALUE=URI;X-ADDRESS=MPHS CTE Bldg 2110 N. Edwards Mt. Pleasant TX 75455 United States;X-APPLE-RADIUS=500;X-TITLE=2110 N. Edwards:geo:-94.9962944,33.1761395
END:VEVENT
END:VCALENDAR