BEGIN:VCALENDAR
VERSION:2.0
PRODID:-//Mount Pleasant ISD - ECPv6.13.2//NONSGML v1.0//EN
CALSCALE:GREGORIAN
METHOD:PUBLISH
X-ORIGINAL-URL:https://www.mpisd.net
X-WR-CALDESC:Events for Mount Pleasant ISD
REFRESH-INTERVAL;VALUE=DURATION:PT1H
X-Robots-Tag:noindex
X-PUBLISHED-TTL:PT1H
BEGIN:VTIMEZONE
TZID:America/Chicago
BEGIN:DAYLIGHT
TZOFFSETFROM:-0600
TZOFFSETTO:-0500
TZNAME:CDT
DTSTART:20200308T080000
END:DAYLIGHT
BEGIN:STANDARD
TZOFFSETFROM:-0500
TZOFFSETTO:-0600
TZNAME:CST
DTSTART:20201101T070000
END:STANDARD
END:VTIMEZONE
BEGIN:VEVENT
DTSTART;TZID=America/Chicago:20200114T170000
DTEND;TZID=America/Chicago:20200114T200000
DTSTAMP:20260421T032533
CREATED:20191107T203933Z
LAST-MODIFIED:20191107T203933Z
UID:15687-1579021200-1579032000@www.mpisd.net
SUMMARY:MPHS Girls Basketball
DESCRIPTION:JV @ V @ Greenville (away)
URL:https://www.mpisd.net/event/mphs-girls-basketball-40/
LOCATION:Greenville HS\, Greenville\, TX\, United States
CATEGORIES:Athletics,Basketball,MPHS
ORGANIZER;CN="Ferol Holcomb":MAILTO:fholcomb@www.mpisd.net
GEO:33.1384488;-96.1108066
END:VEVENT
BEGIN:VEVENT
DTSTART;TZID=America/Chicago:20200114T173000
DTEND;TZID=America/Chicago:20200114T203000
DTSTAMP:20260421T032533
CREATED:20191107T172558Z
LAST-MODIFIED:20191107T172558Z
UID:15619-1579023000-1579033800@www.mpisd.net
SUMMARY:MPHS Boys Basketball
DESCRIPTION:JV & V vs. Wolfe City (home)
URL:https://www.mpisd.net/event/mphs-boys-basketball-46/
LOCATION:MPHS Willie Williams Gym\, Mt. Pleasant\, TX\, United States
CATEGORIES:Athletics,Basketball,MPHS
ORGANIZER;CN="Ferol Holcomb":MAILTO:fholcomb@www.mpisd.net
GEO:33.1567863;-94.968269
END:VEVENT
BEGIN:VEVENT
DTSTART;VALUE=DATE:20200117
DTEND;VALUE=DATE:20200119
DTSTAMP:20260421T032533
CREATED:20190918T152937Z
LAST-MODIFIED:20190918T152937Z
UID:15198-1579219200-1579391999@www.mpisd.net
SUMMARY:MPHS UIL
DESCRIPTION:@ Lindale
URL:https://www.mpisd.net/event/mphs-uil-4/
LOCATION:Lindale HS\, Lindale\, TX\, United States
CATEGORIES:MPHS,UIL Acadcemics
GEO:32.5156971;-95.4093998
END:VEVENT
BEGIN:VEVENT
DTSTART;TZID=America/Chicago:20200117T170000
DTEND;TZID=America/Chicago:20200117T200000
DTSTAMP:20260421T032533
CREATED:20191107T204038Z
LAST-MODIFIED:20191107T204038Z
UID:15689-1579280400-1579291200@www.mpisd.net
SUMMARY:MPHS Girls Basketball
DESCRIPTION:JV & V vs. Texas High (home)
URL:https://www.mpisd.net/event/mphs-girls-basketball-41/
LOCATION:MPHS Willie Williams Gym\, Mt. Pleasant\, TX\, United States
CATEGORIES:Athletics,Basketball,MPHS
ORGANIZER;CN="Ferol Holcomb":MAILTO:fholcomb@www.mpisd.net
GEO:33.1567863;-94.968269
END:VEVENT
BEGIN:VEVENT
DTSTART;TZID=America/Chicago:20200117T170000
DTEND;TZID=America/Chicago:20200117T210000
DTSTAMP:20260421T032533
CREATED:20191107T172704Z
LAST-MODIFIED:20191107T172704Z
UID:15621-1579280400-1579294800@www.mpisd.net
SUMMARY:MPHS Boys Basketball
DESCRIPTION:9th\, JV & V vs. Texas High (home)
URL:https://www.mpisd.net/event/mphs-boys-basketball-47/
LOCATION:MPHS Willie Williams Gym\, Mt. Pleasant\, TX\, United States
CATEGORIES:Athletics,Basketball,MPHS
ORGANIZER;CN="Ferol Holcomb":MAILTO:fholcomb@www.mpisd.net
GEO:33.1567863;-94.968269
END:VEVENT
BEGIN:VEVENT
DTSTART;VALUE=DATE:20200118
DTEND;VALUE=DATE:20200119
DTSTAMP:20260421T032533
CREATED:20190909T192228Z
LAST-MODIFIED:20190909T192228Z
UID:15110-1579305600-1579391999@www.mpisd.net
SUMMARY:MPHS Swim
DESCRIPTION:District Meet @ Texarkana College
URL:https://www.mpisd.net/event/mphs-swim-8/
LOCATION:2230 N Edwards ave\, Mount Pleasant\, TX\, 75455\, United States
CATEGORIES:Athletics,MPHS,Swimming
ORGANIZER;CN="Ferol Holcomb":MAILTO:fholcomb@www.mpisd.net
END:VEVENT
BEGIN:VEVENT
DTSTART;TZID=America/Chicago:20200121T170000
DTEND;TZID=America/Chicago:20200121T200000
DTSTAMP:20260421T032533
CREATED:20191107T204150Z
LAST-MODIFIED:20191107T204150Z
UID:15691-1579626000-1579636800@www.mpisd.net
SUMMARY:MPHS Girls Basketball
DESCRIPTION:JV & V @ Sulphur Springs (away)
URL:https://www.mpisd.net/event/mphs-girls-basketball-42/
LOCATION:Sulphur Springs HS\, Sulphur Springs\, TX\, United States
CATEGORIES:Athletics,Basketball,MPHS
ORGANIZER;CN="Ferol Holcomb":MAILTO:fholcomb@www.mpisd.net
GEO:33.1384479;-95.6010668
END:VEVENT
BEGIN:VEVENT
DTSTART;TZID=America/Chicago:20200121T170000
DTEND;TZID=America/Chicago:20200121T210000
DTSTAMP:20260421T032533
CREATED:20191107T173000Z
LAST-MODIFIED:20191107T173000Z
UID:15623-1579626000-1579640400@www.mpisd.net
SUMMARY:MPHS Boys Basketball
DESCRIPTION:9th\, JV & V @ Sulphur Springs (away)
URL:https://www.mpisd.net/event/mphs-boys-basketball-48/
LOCATION:Sulphur Springs HS\, Sulphur Springs\, TX\, United States
CATEGORIES:Athletics,Basketball,MPHS
ORGANIZER;CN="Ferol Holcomb":MAILTO:fholcomb@www.mpisd.net
GEO:33.1384479;-95.6010668
END:VEVENT
BEGIN:VEVENT
DTSTART;VALUE=DATE:20200124
DTEND;VALUE=DATE:20200126
DTSTAMP:20260421T032533
CREATED:20190918T153038Z
LAST-MODIFIED:20190918T153038Z
UID:15200-1579824000-1579996799@www.mpisd.net
SUMMARY:MPHS UIL
DESCRIPTION:@ N. Lamar
URL:https://www.mpisd.net/event/mphs-uil-5/
LOCATION:North Lamar HS\, Paris\, TX\, United States
CATEGORIES:MPHS,UIL Acadcemics
GEO:33.6609389;-95.555513
END:VEVENT
BEGIN:VEVENT
DTSTART;TZID=America/Chicago:20200124T170000
DTEND;TZID=America/Chicago:20200124T200000
DTSTAMP:20260421T032533
CREATED:20191107T204257Z
LAST-MODIFIED:20191107T204257Z
UID:15693-1579885200-1579896000@www.mpisd.net
SUMMARY:MPHS Girls Basketball
DESCRIPTION:JV & V vs. Royse City (home)
URL:https://www.mpisd.net/event/mphs-girls-basketball-43/
LOCATION:MPHS Willie Williams Gym\, Mt. Pleasant\, TX\, United States
CATEGORIES:Athletics,Basketball,MPHS
ORGANIZER;CN="Ferol Holcomb":MAILTO:fholcomb@www.mpisd.net
GEO:33.1567863;-94.968269
END:VEVENT
BEGIN:VEVENT
DTSTART;TZID=America/Chicago:20200124T170000
DTEND;TZID=America/Chicago:20200124T210000
DTSTAMP:20260421T032533
CREATED:20191107T173127Z
LAST-MODIFIED:20191107T173127Z
UID:15625-1579885200-1579899600@www.mpisd.net
SUMMARY:MPHS Boys Basketball
DESCRIPTION:9th\, JV & V vs\, Royse City (home)
URL:https://www.mpisd.net/event/mphs-boys-basketball-49/
LOCATION:MPHS Willie Williams Gym\, Mt. Pleasant\, TX\, United States
CATEGORIES:Athletics,Basketball,MPHS
ORGANIZER;CN="Ferol Holcomb":MAILTO:fholcomb@www.mpisd.net
GEO:33.1567863;-94.968269
END:VEVENT
BEGIN:VEVENT
DTSTART;TZID=America/Chicago:20200128T170000
DTEND;TZID=America/Chicago:20200128T200000
DTSTAMP:20260421T032533
CREATED:20191107T204358Z
LAST-MODIFIED:20191107T204358Z
UID:15695-1580230800-1580241600@www.mpisd.net
SUMMARY:MPHS Girls Basketball
DESCRIPTION:JV & V vs. Lindale (home)
URL:https://www.mpisd.net/event/mphs-girls-basketball-44/
LOCATION:MPHS Willie Williams Gym\, Mt. Pleasant\, TX\, United States
CATEGORIES:Athletics,Basketball,MPHS
ORGANIZER;CN="Ferol Holcomb":MAILTO:fholcomb@www.mpisd.net
GEO:33.1567863;-94.968269
END:VEVENT
BEGIN:VEVENT
DTSTART;TZID=America/Chicago:20200128T170000
DTEND;TZID=America/Chicago:20200128T210000
DTSTAMP:20260421T032533
CREATED:20191107T173235Z
LAST-MODIFIED:20191107T173235Z
UID:15627-1580230800-1580245200@www.mpisd.net
SUMMARY:MPHS Boys Basketball
DESCRIPTION:9th\, JV & V vs. Lindale (home)
URL:https://www.mpisd.net/event/mphs-boys-basketball-50/
LOCATION:MPHS Willie Williams Gym\, Mt. Pleasant\, TX\, United States
CATEGORIES:Athletics,Basketball,MPHS
ORGANIZER;CN="Ferol Holcomb":MAILTO:fholcomb@www.mpisd.net
GEO:33.1567863;-94.968269
END:VEVENT
BEGIN:VEVENT
DTSTART;VALUE=DATE:20200131
DTEND;VALUE=DATE:20200201
DTSTAMP:20260421T032533
CREATED:20190814T185206Z
LAST-MODIFIED:20190814T185206Z
UID:14650-1580428800-1580515199@www.mpisd.net
SUMMARY:MPHS Choir Solo & Ensemble auditions
DESCRIPTION:
URL:https://www.mpisd.net/event/mphs-choir-solo-ensemble-auditions/
LOCATION:MPHS Auditorium\, 2110  North Edwards\, Mt. Pleasant\, TX\, 75455\, United States
CATEGORIES:Choir,Fine Arts,MPHS
GEO:33.1761395;-94.9962944
X-APPLE-STRUCTURED-LOCATION;VALUE=URI;X-ADDRESS=MPHS Auditorium 2110  North Edwards Mt. Pleasant TX 75455 United States;X-APPLE-RADIUS=500;X-TITLE=2110  North Edwards:geo:-94.9962944,33.1761395
END:VEVENT
BEGIN:VEVENT
DTSTART;VALUE=DATE:20200131
DTEND;VALUE=DATE:20200202
DTSTAMP:20260421T032533
CREATED:20190909T192334Z
LAST-MODIFIED:20190909T192334Z
UID:15113-1580428800-1580601599@www.mpisd.net
SUMMARY:MPHS Swim
DESCRIPTION:Regional Meet in Lewisville
URL:https://www.mpisd.net/event/mphs-swim-9/
LOCATION:2230 N Edwards ave\, Mount Pleasant\, TX\, 75455\, United States
CATEGORIES:Athletics,MPHS,Swimming
ORGANIZER;CN="Ferol Holcomb":MAILTO:fholcomb@www.mpisd.net
END:VEVENT
BEGIN:VEVENT
DTSTART;TZID=America/Chicago:20200131T170000
DTEND;TZID=America/Chicago:20200131T200000
DTSTAMP:20260421T032533
CREATED:20191107T204508Z
LAST-MODIFIED:20191107T204508Z
UID:15697-1580490000-1580500800@www.mpisd.net
SUMMARY:MPHS Girls Basketball
DESCRIPTION:JV & V vs. Greenville (home)
URL:https://www.mpisd.net/event/mphs-girls-basketball-45/
LOCATION:MPHS Willie Williams Gym\, Mt. Pleasant\, TX\, United States
CATEGORIES:Athletics,Basketball,MPHS
ORGANIZER;CN="Ferol Holcomb":MAILTO:fholcomb@www.mpisd.net
GEO:33.1567863;-94.968269
END:VEVENT
BEGIN:VEVENT
DTSTART;TZID=America/Chicago:20200131T170000
DTEND;TZID=America/Chicago:20200131T210000
DTSTAMP:20260421T032533
CREATED:20191107T173350Z
LAST-MODIFIED:20191107T173350Z
UID:15629-1580490000-1580504400@www.mpisd.net
SUMMARY:MPHS Boys Basketball
DESCRIPTION:9th\, JV & V vs. Greenville (home)
URL:https://www.mpisd.net/event/mphs-boys-basketball-51/
LOCATION:MPHS Willie Williams Gym\, Mt. Pleasant\, TX\, United States
CATEGORIES:Athletics,Basketball,MPHS
ORGANIZER;CN="Ferol Holcomb":MAILTO:fholcomb@www.mpisd.net
GEO:33.1567863;-94.968269
END:VEVENT
BEGIN:VEVENT
DTSTART;TZID=America/Chicago:20200204T170000
DTEND;TZID=America/Chicago:20200204T200000
DTSTAMP:20260421T032533
CREATED:20191107T204616Z
LAST-MODIFIED:20191107T204616Z
UID:15699-1580835600-1580846400@www.mpisd.net
SUMMARY:MPHS Girls Basketball
DESCRIPTION:JV & V @ Texas High (away)
URL:https://www.mpisd.net/event/mphs-girls-basketball-46/
LOCATION:Texas High School\, Texarkana\, TX\, United States
CATEGORIES:Athletics,Basketball,MPHS
ORGANIZER;CN="Ferol Holcomb":MAILTO:fholcomb@www.mpisd.net
GEO:33.425125;-94.0476882
END:VEVENT
BEGIN:VEVENT
DTSTART;TZID=America/Chicago:20200204T170000
DTEND;TZID=America/Chicago:20200204T210000
DTSTAMP:20260421T032533
CREATED:20191107T173509Z
LAST-MODIFIED:20191107T173509Z
UID:15631-1580835600-1580850000@www.mpisd.net
SUMMARY:MPHS Boys Basketball
DESCRIPTION:9th\, JV & V @ Texas High (away)
URL:https://www.mpisd.net/event/mphs-boys-basketball-52/
LOCATION:Texas High School\, Texarkana\, TX\, United States
CATEGORIES:Athletics,Basketball,MPHS
ORGANIZER;CN="Ferol Holcomb":MAILTO:fholcomb@www.mpisd.net
GEO:33.425125;-94.0476882
END:VEVENT
BEGIN:VEVENT
DTSTART;VALUE=DATE:20200207
DTEND;VALUE=DATE:20200209
DTSTAMP:20260421T032533
CREATED:20190918T153135Z
LAST-MODIFIED:20190918T153135Z
UID:15202-1581033600-1581206399@www.mpisd.net
SUMMARY:MPHS UIL
DESCRIPTION:@ Mt. Pleasant tournament
URL:https://www.mpisd.net/event/mphs-uil-6/
LOCATION:MPHS\, Mt. Pleasant\, TX\, United States
CATEGORIES:MPHS,UIL Acadcemics
GEO:33.1567863;-94.968269
END:VEVENT
BEGIN:VEVENT
DTSTART;TZID=America/Chicago:20200207T170000
DTEND;TZID=America/Chicago:20200207T200000
DTSTAMP:20260421T032533
CREATED:20191107T204721Z
LAST-MODIFIED:20191107T204721Z
UID:15701-1581094800-1581105600@www.mpisd.net
SUMMARY:MPHS Girls Basketball
DESCRIPTION:JV & V vs. Sulphur Springs (home)
URL:https://www.mpisd.net/event/mphs-girls-basketball-47/
LOCATION:MPHS Willie Williams Gym\, Mt. Pleasant\, TX\, United States
CATEGORIES:Athletics,Basketball,MPHS
ORGANIZER;CN="Ferol Holcomb":MAILTO:fholcomb@www.mpisd.net
GEO:33.1567863;-94.968269
END:VEVENT
BEGIN:VEVENT
DTSTART;TZID=America/Chicago:20200211T170000
DTEND;TZID=America/Chicago:20200211T200000
DTSTAMP:20260421T032533
CREATED:20191107T204834Z
LAST-MODIFIED:20191107T204834Z
UID:15703-1581440400-1581451200@www.mpisd.net
SUMMARY:MPHS Girls Basketball
DESCRIPTION:JV & V @ Royse City (away)
URL:https://www.mpisd.net/event/mphs-girls-basketball-48/
LOCATION:Royse City HS\, Royse City 
CATEGORIES:Athletics,Basketball,MPHS
ORGANIZER;CN="Ferol Holcomb":MAILTO:fholcomb@www.mpisd.net
GEO:32.9751204;-96.3324817
END:VEVENT
BEGIN:VEVENT
DTSTART;TZID=America/Chicago:20200211T170000
DTEND;TZID=America/Chicago:20200211T210000
DTSTAMP:20260421T032533
CREATED:20191107T174534Z
LAST-MODIFIED:20191107T174534Z
UID:15636-1581440400-1581454800@www.mpisd.net
SUMMARY:MPHS Boys Basketball
DESCRIPTION:9th\, JV & V @ Royse City (away)
URL:https://www.mpisd.net/event/mphs-boys-basketball-54/
LOCATION:Royse City HS\, Royse City 
CATEGORIES:Athletics,Basketball,MPHS
ORGANIZER;CN="Ferol Holcomb":MAILTO:fholcomb@www.mpisd.net
GEO:32.9751204;-96.3324817
END:VEVENT
BEGIN:VEVENT
DTSTART;VALUE=DATE:20200214
DTEND;VALUE=DATE:20200216
DTSTAMP:20260421T032533
CREATED:20190909T192445Z
LAST-MODIFIED:20190909T192445Z
UID:15116-1581638400-1581811199@www.mpisd.net
SUMMARY:MPHS Swim
DESCRIPTION:State Meet in Austin
URL:https://www.mpisd.net/event/mphs-swim-10/
LOCATION:2230 N Edwards ave\, Mount Pleasant\, TX\, 75455\, United States
CATEGORIES:Athletics,MPHS,Swimming
ORGANIZER;CN="Ferol Holcomb":MAILTO:fholcomb@www.mpisd.net
END:VEVENT
BEGIN:VEVENT
DTSTART;TZID=America/Chicago:20200214T170000
DTEND;TZID=America/Chicago:20200214T210000
DTSTAMP:20260421T032533
CREATED:20191107T174636Z
LAST-MODIFIED:20191107T174636Z
UID:15638-1581699600-1581714000@www.mpisd.net
SUMMARY:MPHS Boys Basketball
DESCRIPTION:9th\, JV & V @ Lindale (away)
URL:https://www.mpisd.net/event/mphs-boys-basketball-55/
LOCATION:Lindale HS\, Lindale\, TX\, United States
CATEGORIES:Athletics,Basketball,MPHS
ORGANIZER;CN="Ferol Holcomb":MAILTO:fholcomb@www.mpisd.net
GEO:32.5156971;-95.4093998
END:VEVENT
BEGIN:VEVENT
DTSTART;TZID=America/Chicago:20200218T170000
DTEND;TZID=America/Chicago:20200218T210000
DTSTAMP:20260421T032533
CREATED:20191107T174737Z
LAST-MODIFIED:20191107T174737Z
UID:15640-1582045200-1582059600@www.mpisd.net
SUMMARY:MPHS Boys Basketball
DESCRIPTION:9th\, JV & V @ Greenville (away)
URL:https://www.mpisd.net/event/mphs-boys-basketball-56/
LOCATION:Greenville HS\, Greenville\, TX\, United States
CATEGORIES:Athletics,Basketball,MPHS
ORGANIZER;CN="Ferol Holcomb":MAILTO:fholcomb@www.mpisd.net
GEO:33.1384488;-96.1108066
END:VEVENT
BEGIN:VEVENT
DTSTART;VALUE=DATE:20200221
DTEND;VALUE=DATE:20200223
DTSTAMP:20260421T032533
CREATED:20190918T153245Z
LAST-MODIFIED:20190918T153245Z
UID:15204-1582243200-1582415999@www.mpisd.net
SUMMARY:MPHS UIL
DESCRIPTION:@ Sulphur Springs
URL:https://www.mpisd.net/event/mphs-uil-7/
LOCATION:Sulphur Springs HS\, Sulphur Springs\, TX\, United States
CATEGORIES:MPHS,UIL Acadcemics
GEO:33.1384479;-95.6010668
END:VEVENT
BEGIN:VEVENT
DTSTART;TZID=America/Chicago:20200326T190000
DTEND;TZID=America/Chicago:20200326T210000
DTSTAMP:20260421T032533
CREATED:20190814T185317Z
LAST-MODIFIED:20190814T185317Z
UID:14652-1585249200-1585256400@www.mpisd.net
SUMMARY:MPHS Choir Pre UIL concert
DESCRIPTION:
URL:https://www.mpisd.net/event/mphs-choir-pre-uil-concert/
LOCATION:MPHS Auditorium\, 2110  North Edwards\, Mt. Pleasant\, TX\, 75455\, United States
CATEGORIES:Choir,Fine Arts,MPHS
GEO:33.1761395;-94.9962944
X-APPLE-STRUCTURED-LOCATION;VALUE=URI;X-ADDRESS=MPHS Auditorium 2110  North Edwards Mt. Pleasant TX 75455 United States;X-APPLE-RADIUS=500;X-TITLE=2110  North Edwards:geo:-94.9962944,33.1761395
END:VEVENT
BEGIN:VEVENT
DTSTART;VALUE=DATE:20200327
DTEND;VALUE=DATE:20200329
DTSTAMP:20260421T032533
CREATED:20190918T153449Z
LAST-MODIFIED:20190918T153449Z
UID:15206-1585267200-1585439999@www.mpisd.net
SUMMARY:MPHS UIL District Meet
DESCRIPTION:@ Lindale
URL:https://www.mpisd.net/event/mphs-uil-district-meet/
LOCATION:Lindale HS\, Lindale\, TX\, United States
CATEGORIES:MPHS,UIL Acadcemics
GEO:32.5156971;-95.4093998
END:VEVENT
BEGIN:VEVENT
DTSTART;VALUE=DATE:20200401
DTEND;VALUE=DATE:20200403
DTSTAMP:20260421T032533
CREATED:20190814T185425Z
LAST-MODIFIED:20190814T185425Z
UID:14654-1585699200-1585871999@www.mpisd.net
SUMMARY:MPHS Choir Concert & Sight Reading
DESCRIPTION:
URL:https://www.mpisd.net/event/mphs-choir-concert-sight-reading/
LOCATION:2230 N Edwards ave\, Mount Pleasant\, TX\, 75455\, United States
CATEGORIES:Choir,Fine Arts,MPHS
END:VEVENT
END:VCALENDAR