BEGIN:VCALENDAR
VERSION:2.0
PRODID:-//Mount Pleasant ISD - ECPv6.13.2//NONSGML v1.0//EN
CALSCALE:GREGORIAN
METHOD:PUBLISH
X-WR-CALNAME:Mount Pleasant ISD
X-ORIGINAL-URL:https://www.mpisd.net
X-WR-CALDESC:Events for Mount Pleasant ISD
REFRESH-INTERVAL;VALUE=DURATION:PT1H
X-Robots-Tag:noindex
X-PUBLISHED-TTL:PT1H
BEGIN:VTIMEZONE
TZID:America/Chicago
BEGIN:DAYLIGHT
TZOFFSETFROM:-0600
TZOFFSETTO:-0500
TZNAME:CDT
DTSTART:20180311T080000
END:DAYLIGHT
BEGIN:STANDARD
TZOFFSETFROM:-0500
TZOFFSETTO:-0600
TZNAME:CST
DTSTART:20181104T070000
END:STANDARD
BEGIN:DAYLIGHT
TZOFFSETFROM:-0600
TZOFFSETTO:-0500
TZNAME:CDT
DTSTART:20190310T080000
END:DAYLIGHT
BEGIN:STANDARD
TZOFFSETFROM:-0500
TZOFFSETTO:-0600
TZNAME:CST
DTSTART:20191103T070000
END:STANDARD
END:VTIMEZONE
BEGIN:VEVENT
DTSTART;TZID=America/Chicago:20190927T170000
DTEND;TZID=America/Chicago:20190927T190000
DTSTAMP:20260421T100359
CREATED:20190813T154821Z
LAST-MODIFIED:20190813T154821Z
UID:14516-1569603600-1569610800@www.mpisd.net
SUMMARY:MPHS Volleyball
DESCRIPTION:9th\, JV & Varsity @ Lindale (away)
URL:https://www.mpisd.net/event/mphs-volleyball-16/
LOCATION:Lindale HS\, Lindale\, TX\, United States
CATEGORIES:Athletics,MPHS,Volleyball
ORGANIZER;CN="Ferol Holcomb":MAILTO:fholcomb@www.mpisd.net
GEO:32.5156971;-95.4093998
END:VEVENT
BEGIN:VEVENT
DTSTART;TZID=America/Chicago:20190924T163000
DTEND;TZID=America/Chicago:20190924T190000
DTSTAMP:20260421T100359
CREATED:20190813T145551Z
LAST-MODIFIED:20190813T145551Z
UID:14514-1569342600-1569351600@www.mpisd.net
SUMMARY:MPHS Volleyball
DESCRIPTION:9th\, JV & Varsity @ Mount Vernon (away)
URL:https://www.mpisd.net/event/mphs-volleyball-15/
LOCATION:Mt. Vernon HS\, Mt. Vernon\, TX\, United States
CATEGORIES:Athletics,MPHS,Volleyball
ORGANIZER;CN="Ferol Holcomb":MAILTO:fholcomb@www.mpisd.net
GEO:33.1887271;-95.2213321
END:VEVENT
BEGIN:VEVENT
DTSTART;TZID=America/Chicago:20190917T163000
DTEND;TZID=America/Chicago:20190917T190000
DTSTAMP:20260421T100359
CREATED:20190813T145446Z
LAST-MODIFIED:20190813T145446Z
UID:14512-1568737800-1568746800@www.mpisd.net
SUMMARY:MPHS Volleyball
DESCRIPTION:9th\, JV & Varsity @ Chapel Hill (away)
URL:https://www.mpisd.net/event/mphs-volleyball-14/
LOCATION:Chapel Hill HS\, Mt. Pleasant\, TX\, United States
CATEGORIES:Athletics,MPHS,Volleyball
ORGANIZER;CN="Ferol Holcomb":MAILTO:fholcomb@www.mpisd.net
GEO:33.1567863;-94.968269
END:VEVENT
BEGIN:VEVENT
DTSTART;TZID=America/Chicago:20190913T163000
DTEND;TZID=America/Chicago:20190913T190000
DTSTAMP:20260421T100359
CREATED:20190813T145341Z
LAST-MODIFIED:20190813T145341Z
UID:14510-1568392200-1568401200@www.mpisd.net
SUMMARY:MPHS Volleyball
DESCRIPTION:9th\, JV & Varsity @ Paris (away)
URL:https://www.mpisd.net/event/mphs-volleyball-13/
LOCATION:Paris HS\, Paris\, TX\, United States
CATEGORIES:Athletics,MPHS,Volleyball
ORGANIZER;CN="Ferol Holcomb":MAILTO:fholcomb@www.mpisd.net
GEO:33.6609389;-95.555513
END:VEVENT
BEGIN:VEVENT
DTSTART;TZID=America/Chicago:20190910T163000
DTEND;TZID=America/Chicago:20190910T190000
DTSTAMP:20260421T100359
CREATED:20190813T145159Z
LAST-MODIFIED:20190813T145159Z
UID:14508-1568133000-1568142000@www.mpisd.net
SUMMARY:MPHS Volleyball
DESCRIPTION:9th\, JV & Varsity vs. Winona (home)
URL:https://www.mpisd.net/event/mphs-volleyball-12/
LOCATION:MPHS Willie Williams Gym\, Mt. Pleasant\, TX\, United States
CATEGORIES:Athletics,MPHS,Volleyball
ORGANIZER;CN="Ferol Holcomb":MAILTO:fholcomb@www.mpisd.net
GEO:33.1567863;-94.968269
END:VEVENT
BEGIN:VEVENT
DTSTART;TZID=America/Chicago:20190906T163000
DTEND;TZID=America/Chicago:20190906T190000
DTSTAMP:20260421T100359
CREATED:20190813T145040Z
LAST-MODIFIED:20190813T145040Z
UID:14506-1567787400-1567796400@www.mpisd.net
SUMMARY:MPHS Volleyball
DESCRIPTION:9th\, JV & Varsity @ Van (away)
URL:https://www.mpisd.net/event/mphs-volleyball-11/
LOCATION:Van HS\, Van\, TX\, United States
CATEGORIES:Athletics,MPHS,Volleyball
ORGANIZER;CN="Ferol Holcomb":MAILTO:fholcomb@www.mpisd.net
GEO:32.5248605;-95.6371839
END:VEVENT
BEGIN:VEVENT
DTSTART;VALUE=DATE:20190905
DTEND;VALUE=DATE:20190906
DTSTAMP:20260421T100359
CREATED:20190813T144917Z
LAST-MODIFIED:20190813T144917Z
UID:14503-1567641600-1567727999@www.mpisd.net
SUMMARY:MPHS Volleyball
DESCRIPTION:Varsity only @ Mt. Vernon Tournament
URL:https://www.mpisd.net/event/mphs-volleyball-10/2019-09-05/
LOCATION:Mt. Vernon HS\, Mt. Vernon\, TX\, United States
CATEGORIES:Athletics,MPHS,Volleyball
ORGANIZER;CN="Ferol Holcomb":MAILTO:fholcomb@www.mpisd.net
GEO:33.1887271;-95.2213321
END:VEVENT
BEGIN:VEVENT
DTSTART;VALUE=DATE:20190905
DTEND;VALUE=DATE:20190906
DTSTAMP:20260421T100359
CREATED:20190813T144619Z
LAST-MODIFIED:20190813T144619Z
UID:14500-1567641600-1567727999@www.mpisd.net
SUMMARY:MPHS Volleyball
DESCRIPTION:9th & JV @ North Lamar Tournament (away)
URL:https://www.mpisd.net/event/mphs-volleyball-9/2019-09-05/
LOCATION:North Lamar HS\, Paris\, TX\, United States
CATEGORIES:Athletics,MPHS,Volleyball
ORGANIZER;CN="Ferol Holcomb":MAILTO:fholcomb@www.mpisd.net
GEO:33.6609389;-95.555513
END:VEVENT
BEGIN:VEVENT
DTSTART;TZID=America/Chicago:20190903T163000
DTEND;TZID=America/Chicago:20190903T190000
DTSTAMP:20260421T100359
CREATED:20190813T144414Z
LAST-MODIFIED:20190813T144414Z
UID:14498-1567528200-1567537200@www.mpisd.net
SUMMARY:MPHS Volleyball
DESCRIPTION:9th\, JV & Varsity vs. Grand Saline (home)
URL:https://www.mpisd.net/event/mphs-volleyball-8/
LOCATION:MPHS Willie Williams Gym\, Mt. Pleasant\, TX\, United States
CATEGORIES:Athletics,MPHS,Volleyball
ORGANIZER;CN="Ferol Holcomb":MAILTO:fholcomb@www.mpisd.net
GEO:33.1567863;-94.968269
END:VEVENT
BEGIN:VEVENT
DTSTART;TZID=America/Chicago:20190830T163000
DTEND;TZID=America/Chicago:20190830T190000
DTSTAMP:20260421T100359
CREATED:20190813T144250Z
LAST-MODIFIED:20190813T144250Z
UID:14496-1567182600-1567191600@www.mpisd.net
SUMMARY:MPHS Volleyball
DESCRIPTION:9th\, JV & Varsity @ Pittsburg (away)
URL:https://www.mpisd.net/event/mphs-volleyball-7/
LOCATION:Pittsburg HS\, Pittsburg\, TX\, United States
CATEGORIES:Athletics,MPHS,Volleyball
ORGANIZER;CN="Ferol Holcomb":MAILTO:fholcomb@www.mpisd.net
GEO:32.9954021;-94.9657688
END:VEVENT
BEGIN:VEVENT
DTSTART;VALUE=DATE:20190829
DTEND;VALUE=DATE:20190901
DTSTAMP:20260421T100359
CREATED:20190813T144138Z
LAST-MODIFIED:20190813T144138Z
UID:14494-1567036800-1567295999@www.mpisd.net
SUMMARY:MPHS Volleyball
DESCRIPTION:Varsity only at Hooks Tournament
URL:https://www.mpisd.net/event/mphs-volleyball-6/
LOCATION:Hooks HS\, Hooks\, TX\, United States
CATEGORIES:Athletics,MPHS,Volleyball
ORGANIZER;CN="Ferol Holcomb":MAILTO:fholcomb@www.mpisd.net
GEO:33.4662328;-94.2885306
END:VEVENT
BEGIN:VEVENT
DTSTART;TZID=America/Chicago:20190827T163000
DTEND;TZID=America/Chicago:20190827T190000
DTSTAMP:20260421T100359
CREATED:20190813T144026Z
LAST-MODIFIED:20190813T144026Z
UID:14492-1566923400-1566932400@www.mpisd.net
SUMMARY:MPHS Volleyball
DESCRIPTION:9th\, JV & Varsity @ North Lamar (away)
URL:https://www.mpisd.net/event/mphs-volleyball-5/
LOCATION:North Lamar HS\, Paris\, TX\, United States
CATEGORIES:Athletics,MPHS,Volleyball
ORGANIZER;CN="Ferol Holcomb":MAILTO:fholcomb@www.mpisd.net
GEO:33.6609389;-95.555513
END:VEVENT
BEGIN:VEVENT
DTSTART;VALUE=DATE:20190824
DTEND;VALUE=DATE:20190825
DTSTAMP:20260421T100359
CREATED:20190813T143908Z
LAST-MODIFIED:20190813T143908Z
UID:14490-1566604800-1566691199@www.mpisd.net
SUMMARY:MPHS Volleyball
DESCRIPTION:9th & JV @ Pine Tree Tournament (away)
URL:https://www.mpisd.net/event/mphs-volleyball-4/
LOCATION:Pine Tree High School\, Longview\, TX\, United States
CATEGORIES:Athletics,MPHS,Volleyball
ORGANIZER;CN="Ferol Holcomb":MAILTO:fholcomb@www.mpisd.net
GEO:32.5007037;-94.7404891
END:VEVENT
BEGIN:VEVENT
DTSTART;TZID=America/Chicago:20190823T163000
DTEND;TZID=America/Chicago:20190823T190000
DTSTAMP:20260421T100359
CREATED:20190813T143640Z
LAST-MODIFIED:20190813T143640Z
UID:14488-1566577800-1566586800@www.mpisd.net
SUMMARY:MPHS Volleyball
DESCRIPTION:9th\, JV & Varsity @ Hooks (away)
URL:https://www.mpisd.net/event/mphs-volleyball-3/
LOCATION:Hooks HS\, Hooks\, TX\, United States
CATEGORIES:Athletics,MPHS,Volleyball
ORGANIZER;CN="Ferol Holcomb":MAILTO:fholcomb@www.mpisd.net
GEO:33.4662328;-94.2885306
END:VEVENT
BEGIN:VEVENT
DTSTART;TZID=America/Chicago:20190820T163000
DTEND;TZID=America/Chicago:20190820T190000
DTSTAMP:20260421T100359
CREATED:20190813T143528Z
LAST-MODIFIED:20190813T143528Z
UID:14486-1566318600-1566327600@www.mpisd.net
SUMMARY:MPHS Volleyball
DESCRIPTION:9th\, JV & Varsity vs. Liberty Eylau  (home)
URL:https://www.mpisd.net/event/mphs-volleyball-2/
LOCATION:MPHS Willie Williams Gym\, Mt. Pleasant\, TX\, United States
CATEGORIES:Athletics,MPHS,Volleyball
ORGANIZER;CN="Ferol Holcomb":MAILTO:fholcomb@www.mpisd.net
GEO:33.1567863;-94.968269
END:VEVENT
BEGIN:VEVENT
DTSTART;TZID=America/Chicago:20190813T163000
DTEND;TZID=America/Chicago:20190813T190000
DTSTAMP:20260421T100359
CREATED:20190813T143359Z
LAST-MODIFIED:20190813T143359Z
UID:14484-1565713800-1565722800@www.mpisd.net
SUMMARY:MPHS Volleyball
DESCRIPTION:9th\, JV & Varsity @ Spring Hill (away)
URL:https://www.mpisd.net/event/mphs-volleyball/
LOCATION:Spring Hill HS\, Longview\, TX\, United States
CATEGORIES:Athletics,MPHS,Volleyball
ORGANIZER;CN="Ferol Holcomb":MAILTO:fholcomb@www.mpisd.net
GEO:32.5007037;-94.7404891
END:VEVENT
BEGIN:VEVENT
DTSTART;TZID=America/Chicago:20181023T170000
DTEND;TZID=America/Chicago:20181023T220000
DTSTAMP:20260421T100359
CREATED:20180619T145459Z
LAST-MODIFIED:20180619T145459Z
UID:11831-1540314000-1540332000@www.mpisd.net
SUMMARY:Volleyball: 9th\, JV\, V Lady Tigers vs. Royse City*
DESCRIPTION:*District Game
URL:https://www.mpisd.net/event/volleyball-9th-jv-v-lady-tigers-vs-royse-city/
LOCATION:MPHS Willie Williams Gym\, Mt. Pleasant\, TX\, United States
CATEGORIES:Athletics,MPHS,Volleyball
ORGANIZER;CN="Ferol Holcomb":MAILTO:fholcomb@www.mpisd.net
GEO:33.1567863;-94.968269
END:VEVENT
BEGIN:VEVENT
DTSTART;TZID=America/Chicago:20181019T170000
DTEND;TZID=America/Chicago:20181019T220000
DTSTAMP:20260421T100359
CREATED:20180619T145324Z
LAST-MODIFIED:20180619T145324Z
UID:11830-1539968400-1539986400@www.mpisd.net
SUMMARY:Volleyball: 9th\, JV\, V Lady Tigers @ Sulphur Springs*
DESCRIPTION:Varsity game at 5 p.m. followed by 9th and JV games played concurrently \n*District Game
URL:https://www.mpisd.net/event/volleyball-9th-jv-v-lady-tigers-sulphur-springs-3/
LOCATION:Sulphur Springs HS\, Sulphur Springs\, TX\, United States
CATEGORIES:Athletics,MPHS,Volleyball
ORGANIZER;CN="Ferol Holcomb":MAILTO:fholcomb@www.mpisd.net
GEO:33.1384479;-95.6010668
END:VEVENT
BEGIN:VEVENT
DTSTART;TZID=America/Chicago:20181016T170000
DTEND;TZID=America/Chicago:20181016T220000
DTSTAMP:20260421T100359
CREATED:20180619T145140Z
LAST-MODIFIED:20180816T182430Z
UID:11829-1539709200-1539727200@www.mpisd.net
SUMMARY:Volleyball: 9th\, JV\, V Lady Tigers vs. Texas High*
DESCRIPTION:*District Game
URL:https://www.mpisd.net/event/volleyball-9th-jv-v-lady-tigers-vs-texas-high-3/
LOCATION:MPHS Willie Williams Gym\, Mt. Pleasant\, TX\, United States
CATEGORIES:Athletics,MPHS,Volleyball
ORGANIZER;CN="Ferol Holcomb":MAILTO:fholcomb@www.mpisd.net
GEO:33.1567863;-94.968269
END:VEVENT
BEGIN:VEVENT
DTSTART;TZID=America/Chicago:20181012T170000
DTEND;TZID=America/Chicago:20181012T220000
DTSTAMP:20260421T100359
CREATED:20180619T144023Z
LAST-MODIFIED:20180619T144023Z
UID:11828-1539363600-1539381600@www.mpisd.net
SUMMARY:Volleyball: 9th\, JV\, V Lady Tigers @ Greenville*
DESCRIPTION:Varsity game at 5 p.m. followed by JBV and 9th Grade games played concurrently. \n*District Game
URL:https://www.mpisd.net/event/volleyball-9th-jv-v-lady-tigers-greenville-2/
LOCATION:Greenville HS\, Greenville\, TX\, United States
CATEGORIES:Athletics,MPHS,Volleyball
ORGANIZER;CN="Ferol Holcomb":MAILTO:fholcomb@www.mpisd.net
GEO:33.1384488;-96.1108066
END:VEVENT
BEGIN:VEVENT
DTSTART;TZID=America/Chicago:20181009T170000
DTEND;TZID=America/Chicago:20181009T220000
DTSTAMP:20260421T100359
CREATED:20180619T143850Z
LAST-MODIFIED:20180619T143850Z
UID:11827-1539104400-1539122400@www.mpisd.net
SUMMARY:Volleyball: 9th\, JV\, V Lady Tigers @ Lindale*
DESCRIPTION:*District Game
URL:https://www.mpisd.net/event/volleyball-9th-jv-v-lady-tigers-lindale/
LOCATION:Lindale HS\, Lindale\, TX\, United States
CATEGORIES:Athletics,MPHS,Volleyball
ORGANIZER;CN="Ferol Holcomb":MAILTO:fholcomb@www.mpisd.net
GEO:32.5156971;-95.4093998
END:VEVENT
BEGIN:VEVENT
DTSTART;TZID=America/Chicago:20181005T170000
DTEND;TZID=America/Chicago:20181005T220000
DTSTAMP:20260421T100359
CREATED:20180619T143529Z
LAST-MODIFIED:20180619T143529Z
UID:11826-1538758800-1538776800@www.mpisd.net
SUMMARY:Volleyball: 9th\, JV\, V Lady Tigers @ Royse City*
DESCRIPTION:Varisty Game at 5 p.m. followed by JV and 9th-grade games played concurrently. \n*District Game
URL:https://www.mpisd.net/event/volleyball-9th-jv-v-lady-tigers-royse-city/
LOCATION:Royse City HS\, Royse City 
CATEGORIES:Athletics,MPHS,Volleyball
ORGANIZER;CN="Ferol Holcomb":MAILTO:fholcomb@www.mpisd.net
GEO:32.9751204;-96.3324817
END:VEVENT
BEGIN:VEVENT
DTSTART;TZID=America/Chicago:20181002T163000
DTEND;TZID=America/Chicago:20181002T220000
DTSTAMP:20260421T100359
CREATED:20180619T143311Z
LAST-MODIFIED:20180619T143311Z
UID:11825-1538497800-1538517600@www.mpisd.net
SUMMARY:Volleyball: 9th\, JV\, V Lady Tigers vs. Sulphur Springs*
DESCRIPTION:
URL:https://www.mpisd.net/event/volleyball-9th-jv-v-lady-tigers-vs-sulphur-springs-3/
LOCATION:MPHS Willie Williams Gym\, Mt. Pleasant\, TX\, United States
CATEGORIES:Athletics,MPHS,Volleyball
ORGANIZER;CN="Ferol Holcomb":MAILTO:fholcomb@www.mpisd.net
GEO:33.1567863;-94.968269
END:VEVENT
BEGIN:VEVENT
DTSTART;TZID=America/Chicago:20180928T170000
DTEND;TZID=America/Chicago:20180928T220000
DTSTAMP:20260421T100359
CREATED:20180619T143143Z
LAST-MODIFIED:20180816T182328Z
UID:11824-1538154000-1538172000@www.mpisd.net
SUMMARY:Volleyball: 9th\, JV\, V Lady Tigers @ Texas High*
DESCRIPTION:Varsity Game at 5 p.m. followed by JV and 9th Grade games played concurrently \n*District Game
URL:https://www.mpisd.net/event/volleyball-9th-jv-v-lady-tigers-texas-high-3/
LOCATION:MPHS Willie Williams Gym\, Mt. Pleasant\, TX\, United States
CATEGORIES:Athletics,MPHS,Volleyball
ORGANIZER;CN="Ferol Holcomb":MAILTO:fholcomb@www.mpisd.net
GEO:33.1567863;-94.968269
END:VEVENT
BEGIN:VEVENT
DTSTART;VALUE=DATE:20180922
DTEND;VALUE=DATE:20180923
DTSTAMP:20260421T100359
CREATED:20180718T140824Z
LAST-MODIFIED:20180718T140824Z
UID:11882-1537574400-1537660799@www.mpisd.net
SUMMARY:Volleyball: 9\, JV\,  Lady Tigers @ Lindale Tourney
DESCRIPTION:
URL:https://www.mpisd.net/event/volleyball-9-jv-lady-tigers-lindale-tourney/
LOCATION:Lindale HS\, Lindale\, TX\, United States
CATEGORIES:Athletics,MPHS,Volleyball
ORGANIZER;CN="Ferol Holcomb":MAILTO:fholcomb@www.mpisd.net
GEO:32.5156971;-95.4093998
END:VEVENT
BEGIN:VEVENT
DTSTART;TZID=America/Chicago:20180921T170000
DTEND;TZID=America/Chicago:20180921T220000
DTSTAMP:20260421T100359
CREATED:20180619T142717Z
LAST-MODIFIED:20180619T143653Z
UID:11821-1537549200-1537567200@www.mpisd.net
SUMMARY:Volleyball: 9th\, JV\, V Lady Tigers vs. Lindale*
DESCRIPTION:Varsity game at 5 p.m. followed and JV and 9th-grade games played concurrently. \n*District Game
URL:https://www.mpisd.net/event/volleyball-9th-jv-v-lady-tigers-vs-liberty-eylau/
LOCATION:MPHS Willie Williams Gym\, Mt. Pleasant\, TX\, United States
CATEGORIES:Athletics,MPHS,Volleyball
ORGANIZER;CN="Ferol Holcomb":MAILTO:fholcomb@www.mpisd.net
GEO:33.1567863;-94.968269
END:VEVENT
BEGIN:VEVENT
DTSTART;TZID=America/Chicago:20180918T163000
DTEND;TZID=America/Chicago:20180918T220000
DTSTAMP:20260421T100359
CREATED:20180718T140613Z
LAST-MODIFIED:20180718T140613Z
UID:11881-1537288200-1537308000@www.mpisd.net
SUMMARY:Volleyball: 9\, JV\, Varsity Lady Tigers vs. Chapel Hill
DESCRIPTION:
URL:https://www.mpisd.net/event/volleyball-9-jv-varsity-lady-tigers-vs-chapel-hill/
LOCATION:MPHS Willie Williams Gym\, Mt. Pleasant\, TX\, United States
CATEGORIES:Athletics,MPHS,Volleyball
ORGANIZER;CN="Ferol Holcomb":MAILTO:fholcomb@www.mpisd.net
GEO:33.1567863;-94.968269
END:VEVENT
BEGIN:VEVENT
DTSTART;TZID=America/Chicago:20180914T163000
DTEND;TZID=America/Chicago:20180914T220000
DTSTAMP:20260421T100359
CREATED:20180619T142445Z
LAST-MODIFIED:20180619T142445Z
UID:11820-1536942600-1536962400@www.mpisd.net
SUMMARY:Volleyball: 9th\, JV\, V Lady Tigers vs. Paris
DESCRIPTION:Varsity game at 4:30 p.m. followed by JV and9th grade games played concurrently.
URL:https://www.mpisd.net/event/volleyball-9th-jv-v-lady-tigers-vs-paris/
LOCATION:MPHS Willie Williams Gym\, Mt. Pleasant\, TX\, United States
CATEGORIES:Athletics,MPHS,Volleyball
ORGANIZER;CN="Ferol Holcomb":MAILTO:fholcomb@www.mpisd.net
GEO:33.1567863;-94.968269
END:VEVENT
BEGIN:VEVENT
DTSTART;TZID=America/Chicago:20180907T043000
DTEND;TZID=America/Chicago:20180907T220000
DTSTAMP:20260421T100359
CREATED:20180619T142018Z
LAST-MODIFIED:20180619T142018Z
UID:11818-1536294600-1536357600@www.mpisd.net
SUMMARY:Volleyball: 9th\, JV\, V Lady Tigers vs. Van
DESCRIPTION:Varsity Game at 4:30 p.m. followed by JV and 9th games at the same time.
URL:https://www.mpisd.net/event/volleyball-9th-jv-v-lady-tigers-vs-van/
LOCATION:MPHS Willie Williams Gym\, Mt. Pleasant\, TX\, United States
CATEGORIES:Athletics,MPHS,Volleyball
ORGANIZER;CN="Ferol Holcomb":MAILTO:fholcomb@www.mpisd.net
GEO:33.1567863;-94.968269
END:VEVENT
BEGIN:VEVENT
DTSTART;VALUE=DATE:20180906
DTEND;VALUE=DATE:20180907
DTSTAMP:20260421T100359
CREATED:20180619T141803Z
LAST-MODIFIED:20180619T141803Z
UID:11815-1536192000-1536278399@www.mpisd.net
SUMMARY:Volleyball:  JV Lady Tigers @ North Lamar Tourney
DESCRIPTION:
URL:https://www.mpisd.net/event/volleyball-jv-lady-tigers-north-lamar-tourney/2018-09-06/
LOCATION:North Lamar HS\, Paris\, TX\, United States
CATEGORIES:Athletics,MPHS,Volleyball
ORGANIZER;CN="Ferol Holcomb":MAILTO:fholcomb@www.mpisd.net
GEO:33.6609389;-95.555513
END:VEVENT
END:VCALENDAR