BEGIN:VCALENDAR
VERSION:2.0
PRODID:-//Mount Pleasant ISD - ECPv6.13.2//NONSGML v1.0//EN
CALSCALE:GREGORIAN
METHOD:PUBLISH
X-ORIGINAL-URL:https://www.mpisd.net
X-WR-CALDESC:Events for Mount Pleasant ISD
REFRESH-INTERVAL;VALUE=DURATION:PT1H
X-Robots-Tag:noindex
X-PUBLISHED-TTL:PT1H
BEGIN:VTIMEZONE
TZID:America/Chicago
BEGIN:DAYLIGHT
TZOFFSETFROM:-0600
TZOFFSETTO:-0500
TZNAME:CDT
DTSTART:20180311T080000
END:DAYLIGHT
BEGIN:STANDARD
TZOFFSETFROM:-0500
TZOFFSETTO:-0600
TZNAME:CST
DTSTART:20181104T070000
END:STANDARD
END:VTIMEZONE
BEGIN:VEVENT
DTSTART;TZID=America/Chicago:20180119T080000
DTEND;TZID=America/Chicago:20180119T090000
DTSTAMP:20260421T061457
CREATED:20171218T210511Z
LAST-MODIFIED:20171218T210511Z
UID:10451-1516348800-1516352400@www.mpisd.net
SUMMARY:CDC: Nutrition Class
DESCRIPTION:
URL:https://www.mpisd.net/event/cdc-nutrition-class-21/
LOCATION:Child Development Center\, 1604 West Ferguson\, Mt. Pleasant\, TX\, 75455\, United States
CATEGORIES:CDC
GEO:33.1575677;-94.984749
X-APPLE-STRUCTURED-LOCATION;VALUE=URI;X-ADDRESS=Child Development Center 1604 West Ferguson Mt. Pleasant TX 75455 United States;X-APPLE-RADIUS=500;X-TITLE=1604 West Ferguson:geo:-94.984749,33.1575677
END:VEVENT
BEGIN:VEVENT
DTSTART;TZID=America/Chicago:20180119T090000
DTEND;TZID=America/Chicago:20180119T100000
DTSTAMP:20260421T061457
CREATED:20171218T210605Z
LAST-MODIFIED:20171218T210605Z
UID:10452-1516352400-1516356000@www.mpisd.net
SUMMARY:CDC: Parent Committee
DESCRIPTION:
URL:https://www.mpisd.net/event/cdc-parent-committee-17/
LOCATION:Child Development Center\, 1604 West Ferguson\, Mt. Pleasant\, TX\, 75455\, United States
CATEGORIES:CDC
GEO:33.1575677;-94.984749
X-APPLE-STRUCTURED-LOCATION;VALUE=URI;X-ADDRESS=Child Development Center 1604 West Ferguson Mt. Pleasant TX 75455 United States;X-APPLE-RADIUS=500;X-TITLE=1604 West Ferguson:geo:-94.984749,33.1575677
END:VEVENT
BEGIN:VEVENT
DTSTART;TZID=America/Chicago:20180122T080000
DTEND;TZID=America/Chicago:20180122T090000
DTSTAMP:20260421T061457
CREATED:20171218T210712Z
LAST-MODIFIED:20171218T210712Z
UID:10453-1516608000-1516611600@www.mpisd.net
SUMMARY:CDC: New Volunter Training
DESCRIPTION:
URL:https://www.mpisd.net/event/cdc-new-volunter-training/2018-01-22/
LOCATION:Child Development Center\, 1604 West Ferguson\, Mt. Pleasant\, TX\, 75455\, United States
CATEGORIES:CDC
GEO:33.1575677;-94.984749
X-APPLE-STRUCTURED-LOCATION;VALUE=URI;X-ADDRESS=Child Development Center 1604 West Ferguson Mt. Pleasant TX 75455 United States;X-APPLE-RADIUS=500;X-TITLE=1604 West Ferguson:geo:-94.984749,33.1575677
END:VEVENT
BEGIN:VEVENT
DTSTART;TZID=America/Chicago:20180122T173000
DTEND;TZID=America/Chicago:20180122T183000
DTSTAMP:20260421T061457
CREATED:20171218T210827Z
LAST-MODIFIED:20171218T210827Z
UID:10455-1516642200-1516645800@www.mpisd.net
SUMMARY:CDC: Parenting Class
DESCRIPTION:
URL:https://www.mpisd.net/event/cdc-parenting-class-33/2018-01-22/
LOCATION:Child Development Center\, 1604 West Ferguson\, Mt. Pleasant\, TX\, 75455\, United States
CATEGORIES:CDC
GEO:33.1575677;-94.984749
X-APPLE-STRUCTURED-LOCATION;VALUE=URI;X-ADDRESS=Child Development Center 1604 West Ferguson Mt. Pleasant TX 75455 United States;X-APPLE-RADIUS=500;X-TITLE=1604 West Ferguson:geo:-94.984749,33.1575677
END:VEVENT
BEGIN:VEVENT
DTSTART;TZID=America/Chicago:20180123T160000
DTEND;TZID=America/Chicago:20180123T170000
DTSTAMP:20260421T061457
CREATED:20171218T211024Z
LAST-MODIFIED:20171218T211024Z
UID:10457-1516723200-1516726800@www.mpisd.net
SUMMARY:CDC: Safe Riders Car Seat Program
DESCRIPTION:
URL:https://www.mpisd.net/event/cdc-safe-riders-car-seat-program-36/
LOCATION:Child Development Center\, 1604 West Ferguson\, Mt. Pleasant\, TX\, 75455\, United States
CATEGORIES:CDC
GEO:33.1575677;-94.984749
X-APPLE-STRUCTURED-LOCATION;VALUE=URI;X-ADDRESS=Child Development Center 1604 West Ferguson Mt. Pleasant TX 75455 United States;X-APPLE-RADIUS=500;X-TITLE=1604 West Ferguson:geo:-94.984749,33.1575677
END:VEVENT
BEGIN:VEVENT
DTSTART;TZID=America/Chicago:20180125T173000
DTEND;TZID=America/Chicago:20180125T190000
DTSTAMP:20260421T061457
CREATED:20171218T211140Z
LAST-MODIFIED:20171218T211140Z
UID:10458-1516901400-1516906800@www.mpisd.net
SUMMARY:CDC: Parenting Support Group
DESCRIPTION:For parents of children with disabilities
URL:https://www.mpisd.net/event/cdc-parenting-support-group-4/
LOCATION:Child Development Center\, 1604 West Ferguson\, Mt. Pleasant\, TX\, 75455\, United States
CATEGORIES:CDC
GEO:33.1575677;-94.984749
X-APPLE-STRUCTURED-LOCATION;VALUE=URI;X-ADDRESS=Child Development Center 1604 West Ferguson Mt. Pleasant TX 75455 United States;X-APPLE-RADIUS=500;X-TITLE=1604 West Ferguson:geo:-94.984749,33.1575677
END:VEVENT
BEGIN:VEVENT
DTSTART;TZID=America/Chicago:20180130T173000
DTEND;TZID=America/Chicago:20180130T193000
DTSTAMP:20260421T061457
CREATED:20171218T211254Z
LAST-MODIFIED:20171218T211254Z
UID:10459-1517333400-1517340600@www.mpisd.net
SUMMARY:CDC: Fatherhood Night
DESCRIPTION:
URL:https://www.mpisd.net/event/cdc-fatherhood-night-13/
LOCATION:Child Development Center\, 1604 West Ferguson\, Mt. Pleasant\, TX\, 75455\, United States
CATEGORIES:CDC
GEO:33.1575677;-94.984749
X-APPLE-STRUCTURED-LOCATION;VALUE=URI;X-ADDRESS=Child Development Center 1604 West Ferguson Mt. Pleasant TX 75455 United States;X-APPLE-RADIUS=500;X-TITLE=1604 West Ferguson:geo:-94.984749,33.1575677
END:VEVENT
BEGIN:VEVENT
DTSTART;TZID=America/Chicago:20180131T143000
DTEND;TZID=America/Chicago:20180131T170000
DTSTAMP:20260421T061457
CREATED:20171218T211357Z
LAST-MODIFIED:20171218T211357Z
UID:10460-1517409000-1517418000@www.mpisd.net
SUMMARY:CDC: Parent Involvement @ Pilgrims
DESCRIPTION:
URL:https://www.mpisd.net/event/cdc-parent-involvement-pilgrims-30/
LOCATION:Pilgrims Pride\, Mt. Pleasant\, TX\, United States
CATEGORIES:CDC
GEO:33.1567863;-94.968269
END:VEVENT
BEGIN:VEVENT
DTSTART;TZID=America/Chicago:20180201T073000
DTEND;TZID=America/Chicago:20180201T080000
DTSTAMP:20260421T061457
CREATED:20180124T150522Z
LAST-MODIFIED:20180124T150522Z
UID:10638-1517470200-1517472000@www.mpisd.net
SUMMARY:CDC Early Head Start Parent Break
DESCRIPTION:
URL:https://www.mpisd.net/event/cdc-early-head-start-parent-break-14/
LOCATION:Child Development Center\, 1604 West Ferguson\, Mt. Pleasant\, TX\, 75455\, United States
CATEGORIES:CDC
GEO:33.1575677;-94.984749
X-APPLE-STRUCTURED-LOCATION;VALUE=URI;X-ADDRESS=Child Development Center 1604 West Ferguson Mt. Pleasant TX 75455 United States;X-APPLE-RADIUS=500;X-TITLE=1604 West Ferguson:geo:-94.984749,33.1575677
END:VEVENT
BEGIN:VEVENT
DTSTART;TZID=America/Chicago:20180201T080000
DTEND;TZID=America/Chicago:20180201T090000
DTSTAMP:20260421T061457
CREATED:20180124T151009Z
LAST-MODIFIED:20180124T151009Z
UID:10640-1517472000-1517475600@www.mpisd.net
SUMMARY:CDC Parenting Class
DESCRIPTION:
URL:https://www.mpisd.net/event/cdc-parenting-class-34/2018-02-01/
LOCATION:Child Development Center\, 1604 West Ferguson\, Mt. Pleasant\, TX\, 75455\, United States
CATEGORIES:CDC
GEO:33.1575677;-94.984749
X-APPLE-STRUCTURED-LOCATION;VALUE=URI;X-ADDRESS=Child Development Center 1604 West Ferguson Mt. Pleasant TX 75455 United States;X-APPLE-RADIUS=500;X-TITLE=1604 West Ferguson:geo:-94.984749,33.1575677
END:VEVENT
BEGIN:VEVENT
DTSTART;TZID=America/Chicago:20180202T073000
DTEND;TZID=America/Chicago:20180202T080000
DTSTAMP:20260421T061457
CREATED:20180124T150630Z
LAST-MODIFIED:20180124T150630Z
UID:10639-1517556600-1517558400@www.mpisd.net
SUMMARY:CDC Head Start Parent Break
DESCRIPTION:
URL:https://www.mpisd.net/event/cdc-head-start-parent-break-13/
LOCATION:Child Development Center\, 1604 West Ferguson\, Mt. Pleasant\, TX\, 75455\, United States
CATEGORIES:CDC
GEO:33.1575677;-94.984749
X-APPLE-STRUCTURED-LOCATION;VALUE=URI;X-ADDRESS=Child Development Center 1604 West Ferguson Mt. Pleasant TX 75455 United States;X-APPLE-RADIUS=500;X-TITLE=1604 West Ferguson:geo:-94.984749,33.1575677
END:VEVENT
BEGIN:VEVENT
DTSTART;TZID=America/Chicago:20180205T080000
DTEND;TZID=America/Chicago:20180205T090000
DTSTAMP:20260421T061457
CREATED:20180124T151130Z
LAST-MODIFIED:20180124T151130Z
UID:10642-1517817600-1517821200@www.mpisd.net
SUMMARY:CDC New Volunteer Training
DESCRIPTION:
URL:https://www.mpisd.net/event/cdc-new-volunteer-training-15/2018-02-05/
LOCATION:Child Development Center\, 1604 West Ferguson\, Mt. Pleasant\, TX\, 75455\, United States
CATEGORIES:CDC
GEO:33.1575677;-94.984749
X-APPLE-STRUCTURED-LOCATION;VALUE=URI;X-ADDRESS=Child Development Center 1604 West Ferguson Mt. Pleasant TX 75455 United States;X-APPLE-RADIUS=500;X-TITLE=1604 West Ferguson:geo:-94.984749,33.1575677
END:VEVENT
BEGIN:VEVENT
DTSTART;TZID=America/Chicago:20180205T173000
DTEND;TZID=America/Chicago:20180205T183000
DTSTAMP:20260421T061457
CREATED:20180124T151312Z
LAST-MODIFIED:20180124T151312Z
UID:10644-1517851800-1517855400@www.mpisd.net
SUMMARY:CDC Parenting Class
DESCRIPTION:
URL:https://www.mpisd.net/event/cdc-parenting-class-35/2018-02-05/
LOCATION:Child Development Center\, 1604 West Ferguson\, Mt. Pleasant\, TX\, 75455\, United States
CATEGORIES:CDC
GEO:33.1575677;-94.984749
X-APPLE-STRUCTURED-LOCATION;VALUE=URI;X-ADDRESS=Child Development Center 1604 West Ferguson Mt. Pleasant TX 75455 United States;X-APPLE-RADIUS=500;X-TITLE=1604 West Ferguson:geo:-94.984749,33.1575677
END:VEVENT
BEGIN:VEVENT
DTSTART;VALUE=DATE:20180206
DTEND;VALUE=DATE:20180207
DTSTAMP:20260421T061457
CREATED:20171218T211456Z
LAST-MODIFIED:20171218T211456Z
UID:10462-1517875200-1517961599@www.mpisd.net
SUMMARY:CDC:  Group Pictures
DESCRIPTION:
URL:https://www.mpisd.net/event/cdc-group-pictures/
LOCATION:Child Development Center\, 1604 West Ferguson\, Mt. Pleasant\, TX\, 75455\, United States
CATEGORIES:CDC
GEO:33.1575677;-94.984749
X-APPLE-STRUCTURED-LOCATION;VALUE=URI;X-ADDRESS=Child Development Center 1604 West Ferguson Mt. Pleasant TX 75455 United States;X-APPLE-RADIUS=500;X-TITLE=1604 West Ferguson:geo:-94.984749,33.1575677
END:VEVENT
BEGIN:VEVENT
DTSTART;VALUE=DATE:20180206
DTEND;VALUE=DATE:20180207
DTSTAMP:20260421T061457
CREATED:20180124T153725Z
LAST-MODIFIED:20180124T153725Z
UID:10661-1517875200-1517961599@www.mpisd.net
SUMMARY:CDC Group Pictures
DESCRIPTION:
URL:https://www.mpisd.net/event/cdc-group-pictures-2/
LOCATION:Child Development Center\, 1604 West Ferguson\, Mt. Pleasant\, TX\, 75455\, United States
CATEGORIES:CDC
GEO:33.1575677;-94.984749
X-APPLE-STRUCTURED-LOCATION;VALUE=URI;X-ADDRESS=Child Development Center 1604 West Ferguson Mt. Pleasant TX 75455 United States;X-APPLE-RADIUS=500;X-TITLE=1604 West Ferguson:geo:-94.984749,33.1575677
END:VEVENT
BEGIN:VEVENT
DTSTART;TZID=America/Chicago:20180206T080000
DTEND;TZID=America/Chicago:20180206T090000
DTSTAMP:20260421T061457
CREATED:20180124T151526Z
LAST-MODIFIED:20180124T151526Z
UID:10647-1517904000-1517907600@www.mpisd.net
SUMMARY:CDC Parenting Class
DESCRIPTION:
URL:https://www.mpisd.net/event/cdc-parenting-class-36/2018-02-06/
LOCATION:Child Development Center\, 1604 West Ferguson\, Mt. Pleasant\, TX\, 75455\, United States
CATEGORIES:CDC
GEO:33.1575677;-94.984749
X-APPLE-STRUCTURED-LOCATION;VALUE=URI;X-ADDRESS=Child Development Center 1604 West Ferguson Mt. Pleasant TX 75455 United States;X-APPLE-RADIUS=500;X-TITLE=1604 West Ferguson:geo:-94.984749,33.1575677
END:VEVENT
BEGIN:VEVENT
DTSTART;TZID=America/Chicago:20180206T100000
DTEND;TZID=America/Chicago:20180206T110000
DTSTAMP:20260421T061457
CREATED:20180124T151426Z
LAST-MODIFIED:20180124T151426Z
UID:10646-1517911200-1517914800@www.mpisd.net
SUMMARY:CDC Safe Riders Car Seat Program
DESCRIPTION:
URL:https://www.mpisd.net/event/cdc-safe-riders-car-seat-program-37/
LOCATION:Child Development Center\, 1604 West Ferguson\, Mt. Pleasant\, TX\, 75455\, United States
CATEGORIES:CDC
GEO:33.1575677;-94.984749
X-APPLE-STRUCTURED-LOCATION;VALUE=URI;X-ADDRESS=Child Development Center 1604 West Ferguson Mt. Pleasant TX 75455 United States;X-APPLE-RADIUS=500;X-TITLE=1604 West Ferguson:geo:-94.984749,33.1575677
END:VEVENT
BEGIN:VEVENT
DTSTART;TZID=America/Chicago:20180209T080000
DTEND;TZID=America/Chicago:20180209T210000
DTSTAMP:20260421T061457
CREATED:20180124T153142Z
LAST-MODIFIED:20180129T213421Z
UID:10655-1518163200-1518210000@www.mpisd.net
SUMMARY:CDC Nutrition Class
DESCRIPTION:
URL:https://www.mpisd.net/event/cdc-nutrition-class-22/
LOCATION:Child Development Center\, 1604 West Ferguson\, Mt. Pleasant\, TX\, 75455\, United States
CATEGORIES:CDC
GEO:33.1575677;-94.984749
X-APPLE-STRUCTURED-LOCATION;VALUE=URI;X-ADDRESS=Child Development Center 1604 West Ferguson Mt. Pleasant TX 75455 United States;X-APPLE-RADIUS=500;X-TITLE=1604 West Ferguson:geo:-94.984749,33.1575677
END:VEVENT
BEGIN:VEVENT
DTSTART;TZID=America/Chicago:20180214T113000
DTEND;TZID=America/Chicago:20180214T130000
DTSTAMP:20260421T061457
CREATED:20180124T151636Z
LAST-MODIFIED:20180124T151636Z
UID:10649-1518607800-1518613200@www.mpisd.net
SUMMARY:CDC Parent Involvement at Pilgrims
DESCRIPTION:
URL:https://www.mpisd.net/event/cdc-parent-involvement-at-pilgrims-4/
LOCATION:Pilgrims Pride\, Mt. Pleasant\, TX\, United States
CATEGORIES:CDC
GEO:33.1567863;-94.968269
END:VEVENT
BEGIN:VEVENT
DTSTART;TZID=America/Chicago:20180215T114500
DTEND;TZID=America/Chicago:20180215T131500
DTSTAMP:20260421T061457
CREATED:20180124T151740Z
LAST-MODIFIED:20180124T151740Z
UID:10650-1518695100-1518700500@www.mpisd.net
SUMMARY:CDC Parenting Classes
DESCRIPTION:
URL:https://www.mpisd.net/event/cdc-parenting-classes-4/
LOCATION:MPHS\, Mt. Pleasant\, TX\, United States
CATEGORIES:CDC,MPHS
GEO:33.1567863;-94.968269
END:VEVENT
BEGIN:VEVENT
DTSTART;TZID=America/Chicago:20180215T151000
DTEND;TZID=America/Chicago:20180215T170000
DTSTAMP:20260421T061457
CREATED:20180124T151832Z
LAST-MODIFIED:20180124T151832Z
UID:10651-1518707400-1518714000@www.mpisd.net
SUMMARY:CDC Fun and Learn
DESCRIPTION:
URL:https://www.mpisd.net/event/cdc-fun-and-learn-5/
LOCATION:Child Development Center\, 1604 West Ferguson\, Mt. Pleasant\, TX\, 75455\, United States
CATEGORIES:CDC
GEO:33.1575677;-94.984749
X-APPLE-STRUCTURED-LOCATION;VALUE=URI;X-ADDRESS=Child Development Center 1604 West Ferguson Mt. Pleasant TX 75455 United States;X-APPLE-RADIUS=500;X-TITLE=1604 West Ferguson:geo:-94.984749,33.1575677
END:VEVENT
BEGIN:VEVENT
DTSTART;TZID=America/Chicago:20180220T120000
DTEND;TZID=America/Chicago:20180220T130000
DTSTAMP:20260421T061457
CREATED:20180124T152853Z
LAST-MODIFIED:20180124T152853Z
UID:10652-1519128000-1519131600@www.mpisd.net
SUMMARY:CDC Policy Council
DESCRIPTION:
URL:https://www.mpisd.net/event/cdc-policy-council-17/
LOCATION:Child Development Center\, 1604 West Ferguson\, Mt. Pleasant\, TX\, 75455\, United States
CATEGORIES:CDC
GEO:33.1575677;-94.984749
X-APPLE-STRUCTURED-LOCATION;VALUE=URI;X-ADDRESS=Child Development Center 1604 West Ferguson Mt. Pleasant TX 75455 United States;X-APPLE-RADIUS=500;X-TITLE=1604 West Ferguson:geo:-94.984749,33.1575677
END:VEVENT
BEGIN:VEVENT
DTSTART;TZID=America/Chicago:20180220T160000
DTEND;TZID=America/Chicago:20180220T170000
DTSTAMP:20260421T061457
CREATED:20180124T152948Z
LAST-MODIFIED:20180124T152948Z
UID:10653-1519142400-1519146000@www.mpisd.net
SUMMARY:CDC Safe Riders Car Seat Program
DESCRIPTION:
URL:https://www.mpisd.net/event/cdc-safe-riders-car-seat-program-38/
LOCATION:Child Development Center\, 1604 West Ferguson\, Mt. Pleasant\, TX\, 75455\, United States
CATEGORIES:CDC
GEO:33.1575677;-94.984749
X-APPLE-STRUCTURED-LOCATION;VALUE=URI;X-ADDRESS=Child Development Center 1604 West Ferguson Mt. Pleasant TX 75455 United States;X-APPLE-RADIUS=500;X-TITLE=1604 West Ferguson:geo:-94.984749,33.1575677
END:VEVENT
BEGIN:VEVENT
DTSTART;TZID=America/Chicago:20180222T173000
DTEND;TZID=America/Chicago:20180222T190000
DTSTAMP:20260421T061457
CREATED:20180124T153048Z
LAST-MODIFIED:20180124T153048Z
UID:10654-1519320600-1519326000@www.mpisd.net
SUMMARY:CDC Parent Support Group
DESCRIPTION:For parents of children with disabilities
URL:https://www.mpisd.net/event/cdc-parent-support-group-14/
LOCATION:Child Development Center\, 1604 West Ferguson\, Mt. Pleasant\, TX\, 75455\, United States
CATEGORIES:CDC
GEO:33.1575677;-94.984749
X-APPLE-STRUCTURED-LOCATION;VALUE=URI;X-ADDRESS=Child Development Center 1604 West Ferguson Mt. Pleasant TX 75455 United States;X-APPLE-RADIUS=500;X-TITLE=1604 West Ferguson:geo:-94.984749,33.1575677
END:VEVENT
BEGIN:VEVENT
DTSTART;VALUE=DATE:20180223
DTEND;VALUE=DATE:20180224
DTSTAMP:20260421T061457
CREATED:20171218T211550Z
LAST-MODIFIED:20171218T211550Z
UID:10463-1519344000-1519430399@www.mpisd.net
SUMMARY:CDC: Early Head Start Individual Pictures
DESCRIPTION:
URL:https://www.mpisd.net/event/cdc-early-head-start-individual-pictures/
LOCATION:Child Development Center\, 1604 West Ferguson\, Mt. Pleasant\, TX\, 75455\, United States
CATEGORIES:CDC
GEO:33.1575677;-94.984749
X-APPLE-STRUCTURED-LOCATION;VALUE=URI;X-ADDRESS=Child Development Center 1604 West Ferguson Mt. Pleasant TX 75455 United States;X-APPLE-RADIUS=500;X-TITLE=1604 West Ferguson:geo:-94.984749,33.1575677
END:VEVENT
BEGIN:VEVENT
DTSTART;VALUE=DATE:20180223
DTEND;VALUE=DATE:20180224
DTSTAMP:20260421T061457
CREATED:20180124T153816Z
LAST-MODIFIED:20180124T153816Z
UID:10662-1519344000-1519430399@www.mpisd.net
SUMMARY:CDC Early Head Start Individual Pictures
DESCRIPTION:
URL:https://www.mpisd.net/event/cdc-early-head-start-individual-pictures-2/
LOCATION:Child Development Center\, 1604 West Ferguson\, Mt. Pleasant\, TX\, 75455\, United States
CATEGORIES:CDC
GEO:33.1575677;-94.984749
X-APPLE-STRUCTURED-LOCATION;VALUE=URI;X-ADDRESS=Child Development Center 1604 West Ferguson Mt. Pleasant TX 75455 United States;X-APPLE-RADIUS=500;X-TITLE=1604 West Ferguson:geo:-94.984749,33.1575677
END:VEVENT
BEGIN:VEVENT
DTSTART;TZID=America/Chicago:20180223T090000
DTEND;TZID=America/Chicago:20180223T100000
DTSTAMP:20260421T061457
CREATED:20180124T153233Z
LAST-MODIFIED:20180124T153233Z
UID:10656-1519376400-1519380000@www.mpisd.net
SUMMARY:CDC Parent Committee
DESCRIPTION:
URL:https://www.mpisd.net/event/cdc-parent-committee-18/
LOCATION:Child Development Center\, 1604 West Ferguson\, Mt. Pleasant\, TX\, 75455\, United States
CATEGORIES:CDC
GEO:33.1575677;-94.984749
X-APPLE-STRUCTURED-LOCATION;VALUE=URI;X-ADDRESS=Child Development Center 1604 West Ferguson Mt. Pleasant TX 75455 United States;X-APPLE-RADIUS=500;X-TITLE=1604 West Ferguson:geo:-94.984749,33.1575677
END:VEVENT
BEGIN:VEVENT
DTSTART;TZID=America/Chicago:20180226T080000
DTEND;TZID=America/Chicago:20180226T210000
DTSTAMP:20260421T061457
CREATED:20180124T153338Z
LAST-MODIFIED:20180124T153338Z
UID:10657-1519632000-1519678800@www.mpisd.net
SUMMARY:CDC New Volunteer Training
DESCRIPTION:
URL:https://www.mpisd.net/event/cdc-new-volunteer-training-17/
LOCATION:Child Development Center\, 1604 West Ferguson\, Mt. Pleasant\, TX\, 75455\, United States
CATEGORIES:CDC
GEO:33.1575677;-94.984749
X-APPLE-STRUCTURED-LOCATION;VALUE=URI;X-ADDRESS=Child Development Center 1604 West Ferguson Mt. Pleasant TX 75455 United States;X-APPLE-RADIUS=500;X-TITLE=1604 West Ferguson:geo:-94.984749,33.1575677
END:VEVENT
BEGIN:VEVENT
DTSTART;TZID=America/Chicago:20180226T173000
DTEND;TZID=America/Chicago:20180226T183000
DTSTAMP:20260421T061457
CREATED:20180124T153437Z
LAST-MODIFIED:20180124T153437Z
UID:10658-1519666200-1519669800@www.mpisd.net
SUMMARY:CDC Parenting Class
DESCRIPTION:
URL:https://www.mpisd.net/event/cdc-parenting-class-37/
LOCATION:Child Development Center\, 1604 West Ferguson\, Mt. Pleasant\, TX\, 75455\, United States
CATEGORIES:CDC
GEO:33.1575677;-94.984749
X-APPLE-STRUCTURED-LOCATION;VALUE=URI;X-ADDRESS=Child Development Center 1604 West Ferguson Mt. Pleasant TX 75455 United States;X-APPLE-RADIUS=500;X-TITLE=1604 West Ferguson:geo:-94.984749,33.1575677
END:VEVENT
BEGIN:VEVENT
DTSTART;TZID=America/Chicago:20180227T173000
DTEND;TZID=America/Chicago:20180227T190000
DTSTAMP:20260421T061457
CREATED:20180124T153528Z
LAST-MODIFIED:20180124T153528Z
UID:10659-1519752600-1519758000@www.mpisd.net
SUMMARY:CDC Fatherhood Night
DESCRIPTION:
URL:https://www.mpisd.net/event/cdc-fatherhood-night-14/
LOCATION:Child Development Center\, 1604 West Ferguson\, Mt. Pleasant\, TX\, 75455\, United States
CATEGORIES:CDC
GEO:33.1575677;-94.984749
X-APPLE-STRUCTURED-LOCATION;VALUE=URI;X-ADDRESS=Child Development Center 1604 West Ferguson Mt. Pleasant TX 75455 United States;X-APPLE-RADIUS=500;X-TITLE=1604 West Ferguson:geo:-94.984749,33.1575677
END:VEVENT
END:VCALENDAR