BEGIN:VCALENDAR
VERSION:2.0
PRODID:-//Mount Pleasant ISD - ECPv6.13.2//NONSGML v1.0//EN
CALSCALE:GREGORIAN
METHOD:PUBLISH
X-WR-CALNAME:Mount Pleasant ISD
X-ORIGINAL-URL:https://www.mpisd.net
X-WR-CALDESC:Events for Mount Pleasant ISD
REFRESH-INTERVAL;VALUE=DURATION:PT1H
X-Robots-Tag:noindex
X-PUBLISHED-TTL:PT1H
BEGIN:VTIMEZONE
TZID:America/Chicago
BEGIN:DAYLIGHT
TZOFFSETFROM:-0600
TZOFFSETTO:-0500
TZNAME:CDT
DTSTART:20230312T080000
END:DAYLIGHT
BEGIN:STANDARD
TZOFFSETFROM:-0500
TZOFFSETTO:-0600
TZNAME:CST
DTSTART:20231105T070000
END:STANDARD
END:VTIMEZONE
BEGIN:VEVENT
DTSTART;VALUE=DATE:20231111
DTEND;VALUE=DATE:20231112
DTSTAMP:20260424T033704
CREATED:20231105T014437Z
LAST-MODIFIED:20231105T014437Z
UID:22670-1699660800-1699747199@www.mpisd.net
SUMMARY:MPJH- BAND TMEA RGION IV
DESCRIPTION:8:00 AM – 8:30 AM\n\n\n\n\nSulphur Springs High School\n\n\n\n\n\nSaturday\, November 11th\, 2023—TMEA Region IV MS All-Region Band Auditions (@ Sulphur Springs HS) 
URL:https://www.mpisd.net/event/mpjh-band-tmea-rgion-iv/
CATEGORIES:MPJH
END:VEVENT
BEGIN:VEVENT
DTSTART;VALUE=DATE:20231111
DTEND;VALUE=DATE:20231112
DTSTAMP:20260424T033704
CREATED:20231105T015024Z
LAST-MODIFIED:20231105T015024Z
UID:22671-1699660800-1699747199@www.mpisd.net
SUMMARY:Wallace FBLA Meeting
DESCRIPTION:10:00 AM – 11:00 AM
URL:https://www.mpisd.net/event/wallace-fbla-meeting-3/
CATEGORIES:P.E. Wallace
END:VEVENT
BEGIN:VEVENT
DTSTART;VALUE=DATE:20231111
DTEND;VALUE=DATE:20231112
DTSTAMP:20260424T033704
CREATED:20231105T015116Z
LAST-MODIFIED:20231105T015116Z
UID:22673-1699660800-1699747199@www.mpisd.net
SUMMARY:MPYSA Awards Ceremony
DESCRIPTION:5:00 PM – 10:00 PM\n\n\n\nMPHS Auditorium
URL:https://www.mpisd.net/event/mpysa-awards-ceremony/
CATEGORIES:District
END:VEVENT
END:VCALENDAR